Workbook

Sheet directorio sep 2026
A1: kind | B1: force | C1: office | D1: city | E1: dptoTxt | F1: dpto | G1: email | H1: phone | I1: address | J1: schedule
A2: SEGUNDA INSTANCIA | B2: No aplica | C2: Tribunal Superior Militar y Policial | D2: Bogotá D.C. | E2: Bogotá D.C. | F2: 11 | G2: mauricio.lara@justiciamilitar.gov.co | H2: 1534 | I2: Carrera 46 No. 20 C - 01 (Puente Aranda) Cantón Militar Occidental “Coronel Francisco José de Caldas” | J2: LUNES A VIERNES DE 08:00 A 17:00 HORAS
A3: SEGUNDA INSTANCIA | B3: No aplica | C3: Tribunal Superior Militar y Policial | D3: Bogotá D.C. | E3: Bogotá D.C. | F3: 11 | G3: gustavo.suarez@justiciamilitar.gov.co | H3: 1532 | I3: Carrera 46 No. 20 C - 01 (Puente Aranda) Cantón Militar Occidental “Coronel Francisco José de Caldas” | J3: LUNES A VIERNES DE 08:00 A 17:00 HORAS
A4: SEGUNDA INSTANCIA | B4: No aplica | C4: Tribunal Superior Militar y Policial | D4: Bogotá D.C. | E4: Bogotá D.C. | F4: 11 | G4: paola.zuluaga@justiciamilitar.gov.co | H4: 1503 | I4: Carrera 46 No. 20 C - 01 (Puente Aranda) Cantón Militar Occidental “Coronel Francisco José de Caldas” | J4: LUNES A VIERNES DE 08:00 A 17:00 HORAS
A5: SEGUNDA INSTANCIA | B5: No aplica | C5: Tribunal Superior Militar y Policial | D5: Bogotá D.C. | E5: Bogotá D.C. | F5: 11 | G5: sandra.botia@justiciamilitar.gov.co | H5: 1528 | I5: Carrera 46 No. 20 C - 01 (Puente Aranda) Cantón Militar Occidental “Coronel Francisco José de Caldas” | J5: LUNES A VIERNES DE 08:00 A 17:00 HORAS
A6: SEGUNDA INSTANCIA | B6: No aplica | C6: Tribunal Superior Militar y Policial | D6: Bogotá D.C. | E6: Bogotá D.C. | F6: 11 | G6: jorge.lopez@justiciamilitar.gov.co | H6: 1525 | I6: Carrera 46 No. 20 C - 01 (Puente Aranda) Cantón Militar Occidental “Coronel Francisco José de Caldas” | J6: LUNES A VIERNES DE 08:00 A 17:00 HORAS
A7: SEGUNDA INSTANCIA | B7: No aplica | C7: Tribunal Superior Militar y Policial | D7: Bogotá D.C. | E7: Bogotá D.C. | F7: 11 | G7: roberto.ramirez@justiciamilitar.gov.co | H7: 1520 | I7: Carrera 46 No. 20 C - 01 (Puente Aranda) Cantón Militar Occidental “Coronel Francisco José de Caldas” | J7: LUNES A VIERNES DE 08:00 A 17:00 HORAS
A8: SEGUNDA INSTANCIA | B8: No aplica | C8: Tribunal Superior Militar y Policial | D8: Bogotá D.C. | E8: Bogotá D.C. | F8: 11 | G8: Martha.Lozano@justiciamilitar.gov.co | H8: 1091 | I8: Carrera 46 No. 20 C - 01 (Puente Aranda) Cantón Militar Occidental “Coronel Francisco José de Caldas” | J8: LUNES A VIERNES DE 08:00 A 17:00 HORAS
A9: SEGUNDA INSTANCIA | B9: No aplica | C9: Tribunal Superior Militar y Policial | D9: Bogotá D.C. | E9: Bogotá D.C. | F9: 11 | G9: ivan.quintero@justiciamilitar.gov.co | H9: 1512 | I9: Carrera 46 No. 20 C - 01 (Puente Aranda) Cantón Militar Occidental “Coronel Francisco José de Caldas” | J9: LUNES A VIERNES DE 08:00 A 17:00 HORAS
A10: PRIMERA INSTANCIA | B10: No aplica | C10: Centro de Servicios Judiciales | D10: Bogotá D.C. | E10: Bogotá D.C. | F10: 11 | G10: centrodeservicios@justiciamilitar.gov.co | H10: 2156/2157 | I10: Carretera Nacional-Corregimiento Buenavista Grupo De Caballería Mecanizado No. 2. "Cr. Juan José Rondón". Municipio Distracción. | J10: LUNES A VIERNES DE 08:00 A 18:00 HORAS
A11: PRIMERA INSTANCIA | B11: FFMM | C11: Juzgado 1201 Penal Militar y Policial de Conocimiento Especializado | D11: Bogotá D.C. | E11: Bogotá D.C. | F11: 11 | G11: juez1201conesp@justiciamilitar.gov.co | H11: 1244 | I11: Carrera 46 No. 20 C - 01 (Puente Aranda) Cantón Militar Occidental “Coronel Francisco José de Caldas” | J11: LUNES A VIERNES DE 08:00 A 17:00 HORAS
A12: PRIMERA INSTANCIA | B12: PONAL | C12: Juzgado 1202 Penal Militar y Policial de Conocimiento Especializado | D12: Bogotá D.C. | E12: Bogotá D.C. | F12: 11 | G12: juez1202conesp@justiciamilitar.gov.co | H12: 1241 | I12: Carrera 46 No. 20 C - 01 (Puente Aranda) Cantón Militar Occidental “Coronel Francisco José de Caldas” | J12: LUNES A VIERNES DE 08:00 A 17:00 HORAS
A13: PRIMERA INSTANCIA | B13: FFMM | C13: Juzgado 1203 Penal Militar y Policial de Conocimiento Especializado | D13: Cali | E13: Valle del Cauca | F13: 76 | G13: juzgado1203cones@justiciamilitar.gov.co/sjuez1203cones@justiciamilitar.gov.co | I13: Calle 5 No. 83-00 / Tercera Brigada - Cantón Militar Pichincha | J13: LUNES A VIERNES DE 08:00 A 18:00 HORAS
A14: PRIMERA INSTANCIA | B14: PONAL | C14: Juzgado 1204 Penal Militar y Policial de Conocimiento Especializado | D14: Cali | E14: Valle del Cauca | F14: 76 | G14: juzgado1204cones@justiciamilitar.gov.co/sjuez1204cones@justiciamilitar.gov.co | I14: Carrera 1 No. 33-00 Barrio Berlín, Estación de Policia San Francisco | J14: LUNES A VIERNES DE 08:00 A 18:00 HORAS
A15: PRIMERA INSTANCIA | B15: PONAL FFMM | C15: Juzgado 1301 Penal Militar y Policial de Conocimiento | D15: Bogotá D.C. | E15: Bogotá D.C. | F15: 11 | G15: juez1301conocimiento@justiciamilitar.gov.co/sjuez1301con@justiciamilitar.gov.co | H15: 1220/1221 | I15: Carrera 46 No. 20 C - 01 (Puente Aranda) Cantón Militar Occidental “Coronel Francisco José de Caldas” | J15: LUNES A VIERNES DE 08:00 A 17:00 HORAS
A16: PRIMERA INSTANCIA | B16: PONAL FFMM | C16: Juzgado 1302 Penal Militar y Policial de Conocimiento | D16: Bogotá D.C. | E16: Bogotá D.C. | F16: 11 | G16: juez1302conocimiento@justiciamilitar.gov.co/sjuez1302con@justiciamilitar.gov.co | H16: 1218/1219 | I16: Carrera 46 No. 20 C - 01 (Puente Aranda) Cantón Militar Occidental “Coronel Francisco José de Caldas” | J16: LUNES A VIERNES DE 08:00 A 17:00 HORAS
A17: PRIMERA INSTANCIA | B17: FFMM | C17: Juzgado 1305 Penal Militar y Policial de Conocimiento | D17: Bogotá D.C. | E17: Bogotá D.C. | F17: 11 | G17: juzgado1305con@justiciamilitar.gov.co/sjuez1305con@justiciamilitar.gov.co | I17: Carrera 46 No. 20 C - 01 (Puente Aranda) Cantón Militar Occidental “Coronel Francisco José de Caldas” | J17: LUNES A VIERNES DE 08:00 A 17:00 HORAS
A18: PRIMERA INSTANCIA | B18: FFMM | C18: Juzgado 1306 Penal Militar y Policial de Conocimiento | D18: Bogotá D.C. | E18: Bogotá D.C. | F18: 11 | G18: juzgado1306con@justiciamilitar.gov.co | H18: 1330 | I18: Carrera 46 No. 20 C - 01 (Puente Aranda) Cantón Militar Occidental “Coronel Francisco José de Caldas” | J18: LUNES A VIERNES DE 08:00 A 17:00 HORAS
A19: PRIMERA INSTANCIA | B19: FFMM | C19: Juzgado 1307 Penal Militar y Policial de Conocimiento | D19: Neiva | E19: Huila | F19: 41 | G19: Juzgado1307con@justiciamilitar.gov.co/sjuez1307con@justiciamilitar.gov.co | I19: Carrera 16 No. 21 - 300. Batallón de Artillería No. 9. "Tenerife". | J19: LUNES A VIERNES DE 08:00 A 18:00 HORAS
A20: PRIMERA INSTANCIA | B20: PONAL | C20: Juzgado 1308 Penal Militar y Policial de Conocimiento | D20: Ibagué | E20: Tolima | F20: 73 | G20: Juzgado1308con@justiciamilitar.gov.co/sjuez1308con@justiciamilitar.gov.co | I20: Carrera 48 Sur No. 157-199 Bloque A, Piso 2 Comando Departamento Policía Tolima Sector Picaleña | J20: LUNES A VIERNES DE 08:00 A 18:00 HORAS
A21: PRIMERA INSTANCIA | B21: FFMM | C21: Juzgado 1309 Penal Militar y Policial de Conocimiento | D21: Armenia | E21: Quindío | F21: 63 | G21: Juzgado1309con@justiciamilitar.gov.co/sjuez1309con@justiciamilitar.gov.co | H21: 2452/2453 | I21: Avenida Bolívar No. 25 Norte 00 - Octava Brigada Ejército Nacional - Palacio de Justicia Penal Militar y Policial | J21: LUNES A VIERNES DE 08:00 A 18:00 HORAS
A22: PRIMERA INSTANCIA | B22: PONAL | C22: Juzgado 1310 Penal Militar y Policial de Conocimiento | D22: Armenia | E22: Quindío | F22: 63 | G22: juzgado1310con@justiciamilitar.gov.co/sjuez1310con@justiciamilitar.gov.co | H22: 2486/2489 | I22: Avenida Bolívar No. 25 Norte 00 - Octava Brigada Ejército Nacional - Palacio de Justicia Penal Militar y Policial | J22: LUNES A VIERNES DE 08:00 A 18:00 HORAS
A23: PRIMERA INSTANCIA | B23: FFMM | C23: Juzgado 1311 Penal Militar y Policial de Conocimiento | D23: Popayán | E23: Cauca | F23: 19 | G23: juzgado1311con@justiciamilitar.gov.co/sjuez1311con@justiciamilitar.gov.co | I23: Avenida Los Cuarteles No. 80 - 00 - Cantón Militar José Hilario López - Tercera División del Ejército - Brigada No. 29. | J23: LUNES A VIERNES DE 08:00 A 18:00 HORAS
A24: PRIMERA INSTANCIA | B24: PONAL | C24: Juzgado 1312 Penal Militar y Policial de Conocimiento | D24: Popayán | E24: Cauca | F24: 19 | G24: juzgado1312con@justiciamilitar.gov.co/sjuez1312con@justiciamilitar.gov.co | I24: Avenida Panamericana 1N-75 Complejo Policial IJ. DIEGO MARÍA GUERRERO NAVIA - Comando Departamento de Policía Cauca - Edificio 7, Piso 3 | J24: LUNES A VIERNES DE 08:00 A 18:00 HORAS
A25: PRIMERA INSTANCIA | B25: FFMM | C25: Juzgado 1313 Penal Militar y Policial de Conocimiento | D25: Ipiales | E25: Nariño | F25: 52 | G25: juzgado1313con@justiciamilitar.gov.co/sjuez1313con@justiciamilitar.gov.co | I25: Carrera 6 No. 17 - 51. Frente al Parque Santander. Grupo de Caballería Mecanizado No. 3. “Gral. José Maria Cabal" | J25: LUNES A VIERNES DE 08:00 A 18:00 HORAS
A26: PRIMERA INSTANCIA | B26: PONAL | C26: Juzgado 1314 Penal Militar y Policial de Conocimiento | D26: Pasto | E26: Nariño | F26: 52 | G26: juzgado1314con@justiciamilitar.gov.co/sjjuez1314con@justiciamilitar.gov.co | I26: Calle 22 No. 14 -47, Avenida Colombia - Instalaciones del Batallón ASPC No. 23 "Gr. Ramón Espina" Cantón Militar Boyacá | J26: LUNES A VIERNES DE 08:00 A 18:00 HORAS
A27: PRIMERA INSTANCIA | B27: FFMM | C27: Juzgado 1315 Penal Militar y Policial de Conocimiento | D27: Cali | E27: Valle del Cauca | F27: 76 | G27: juzgado1315con@justiciamilitar.gov.co/sjuez1315con@justiciamilitar.gov.co | I27: Calle 5 No. 83-00 / Tercera Brigada - Cantón Militar Pichincha | J27: LUNES A VIERNES DE 08:00 A 18:00 HORAS
A28: PRIMERA INSTANCIA | B28: PONAL | C28: Juzgado 1316 Penal Militar y Policial de Conocimiento | D28: Cali | E28: Valle del Cauca | F28: 76 | G28: juzgado1316con@justiciamilitar.gov.co/sjuez1316con@justiciamilitar.gov.co | I28: Carrera 3 Norte No. 24N - 16 Barrio El piloto Edificio el Piloto Instalaciones de Incorporación y Disciplina de la Policía | J28: LUNES A VIERNES DE 08:00 A 18:00 HORAS
A29: PRIMERA INSTANCIA | B29: PONAL FFMM | C29: Juzgado 1317 Penal Militar y Policial de Conocimiento | D29: Carepa | E29: Antioquia | F29: 5 | G29: juzgado1317con@justiciamilitar.gov.co | I29: Kilómetro 1 Vía Al Mar. Brigada No. 17 del Ejército. Palacio de Justicia. | J29: LUNES A VIERNES DE 08:00 A 18:00 HORAS
A30: PRIMERA INSTANCIA | B30: FFMM | C30: Juzgado 1318 Penal Militar y Policial de Conocimiento | D30: Medellín | E30: Antioquia | F30: 5 | G30: juzgado1318con@justiciamilitar.gov.co/sjjuez8debri@justiciamilitar.gov.co | H30: 2201/1360 | I30: Carrera 76 No. 50-175 Barrio: Los Colores. Instalaciones Cuarta Brigada | J30: LUNES A VIERNES DE 08:00 A 18:00 HORAS
A31: PRIMERA INSTANCIA | B31: PONAL | C31: Juzgado 1319 Penal Militar y Policial de Conocimiento | D31: Medellín | E31: Antioquia | F31: 5 | G31: juzgado1319con@justiciamilitar.gov.co/sjjuez154deIPMPOL@justiciamilitar.gov.co | I31: Calle 48 No. 45 – 58, Avenida Oriental Comando de Policia Metropolitana del Valle de Aburra | J31: LUNES A VIERNES DE 08:00 A 18:00 HORAS
A32: PRIMERA INSTANCIA | B32: FFMM | C32: Juzgado 1322 Penal Militar y Policial de Conocimiento | D32: Cartagena | E32: Bolívar | F32: 13 | G32: juzgado1322con@justiciamilitar.gov.co | I32: Carrera 24 No. 25A - 09 Tercer piso - Barrio Manga / piso 3 Instalaciones Metropolitana de Policía de Cartagena | J32: LUNES A VIERNES DE 08:00 A 18:00 HORAS
A33: PRIMERA INSTANCIA | B33: FFMM | C33: Fiscalía 2468 Penal Militar y Policial Delegada ante Juez Penal Militar y Policial de Conocimiento | D33: Montería | E33: Córdoba | F33: 23 | G33: fiscalia2468con@justiciamilitar.gov.co/sjjuez21deipm@justiciamilitar.gov.co | I33: Carrera 19 No. 25 - 116 Piso 2 / Comando de Departamento de Policía Sucre | J33: LUNES A VIERNES DE 08:00 A 18:00 HORAS
A34: PRIMERA INSTANCIA | B34: FFMM | C34: Juzgado 1324 Penal Militar y Policial de Conocimiento | D34: Cúcuta | E34: Norte de Santander | F34: 54 | G34: juzgado1324con@justiciamilitar.gov.co/sfFiscal17anteJB@justiciamilitar.gov.co | H34: 2309/2468 | I34: Avenida 1 Vía Al Pórtico. Canton Militar San Jorge Comando especifico del Norte de santander | J34: LUNES A VIERNES DE 08:00 A 18:00 HORAS
A35: PRIMERA INSTANCIA | B35: PONAL | C35: Juzgado 1326 Penal Militar y Policial de Conocimiento | D35: Bucaramanga | E35: Santander | F35: 68 | G35: juzgado1326con@justiciamilitar.gov.co | I35: Calle 14 No. 32 - 00 Batallon de Ingenieros Caldas (Guardia) Detrás del estadio | J35: LUNES A VIERNES DE 08:00 A 17:00 HORAS
A36: PRIMERA INSTANCIA | B36: PONAL FFMM | C36: Juzgado 1601 Penal Militar y Policial de Ejecución de Penas y Medidas de Seguridad | D36: Bogotá D.C. | E36: Bogotá D.C. | F36: 11 | G36: juez1601ejecpe@justiciamilitar.gov.co/sjuez1601ejecpe@justiciamilitar.gov.co | H36: 1212 | I36: Carrera 46 No. 20 C - 01 (Puente Aranda) Cantón Militar Occidental “Coronel Francisco José de Caldas” | J36: LUNES A VIERNES DE 08:00 A 17:00 HORAS
A37: PRIMERA INSTANCIA | B37: PONAL FFMM | C37: Juzgado 1603 Penal Militar y Policial de Ejecución de Penas y Medidas de Seguridad | D37: Rionegro | E37: Antioquia | F37: 5 | G37: juzgado1603ep@justiciamilitar.gov.co/sjuez1306con@justiciamilitar.gov.co | I37: Comando Aereo De Combate Militar No. 5 / Vereda La Bodega Vía zona franca | J37: LUNES A VIERNES DE 08:00 A 17:00 HORAS
A38: PRIMERA INSTANCIA | B38: PONAL FFMM | C38: Juzgado 1701 Penal Militar y Policial de Control de Garantías | D38: Bogotá D.C. | E38: Bogotá D.C. | F38: 11 | G38: juez1701ctrlgaran@justiciamilitar.gov.co/sjuez1701garan@justiciamilitar.gov.co | H38: 1223/1224 | I38: Carrera 46 No. 20 C - 01 (Puente Aranda) Cantón Militar Occidental “Coronel Francisco José de Caldas” | J38: LUNES A VIERNES DE 08:00 A 17:00 HORAS
A39: PRIMERA INSTANCIA | B39: PONAL FFMM | C39: Juzgado 1702 Penal Militar y Policial de Control de Garantías | D39: Bogotá D.C. | E39: Bogotá D.C. | F39: 11 | G39: juez1702ctrlgaran@justiciamilitar.gov.co/sjuez1702ctrlgaran@justiciamilitar.gov.co | H39: 1225/1226 | I39: Carrera 46 No. 20 C - 01 (Puente Aranda) Cantón Militar Occidental “Coronel Francisco José de Caldas” | J39: LUNES A VIERNES DE 08:00 A 17:00 HORAS
A40: PRIMERA INSTANCIA | B40: PONAL FFMM | C40: Juzgado 1703 Penal Militar y Policial de Control de Garantías | D40: Bogotá D.C. | E40: Bogotá D.C. | F40: 11 | G40: juzgado1703gar@justiciamilitar.gov.co/sjuez1703gar@justiciamilitar.gov.co | H40: 1227 | I40: Carrera 46 No. 20 C - 01 (Puente Aranda) Cantón Militar Occidental “Coronel Francisco José de Caldas” | J40: LUNES A VIERNES DE 08:00 A 17:00 HORAS
A41: PRIMERA INSTANCIA | B41: PONAL | C41: Juzgado 1708 Penal Militar y Policial de Control de Garantías | D41: Tunja | E41: Boyacá | F41: 15 | G41: juzgado1708gar@justiciamilitar.gov.co/sjuez1708gar@justiciamilitar.gov.co | I41: Calle 8 No. 8-56 Primera Brigada Ejército Tunja Boyacá | J41: LUNES A VIERNES DE 08:00 A 18:00 HORAS
A42: PRIMERA INSTANCIA | B42: PONAL FFMM | C42: Juzgado 1709 Penal Militar y Policial de Control de Garantías | D42: Tolemaida | E42: Cundinamarca | F42: 25 | G42: juzgado1709gar@justiciamilitar.gov.co/sjuez1709gar@justiciamilitar.gov.co | H42: 2363 | I42: Centro Comercial Zulia (Servifree), 2do Piso. Centro Nacional de Entrenamiento (CENAE) / Nilo — Cundinamarca. | J42: LUNES A VIERNES DE 08:00 A 18:00 HORAS
A43: PRIMERA INSTANCIA | B43: FFMM | C43: Juzgado 1710 Penal Militar y Policial de Control de Garantías | D43: Neiva | E43: Huila | F43: 41 | G43: juzgado1710gar@justiciamilitar.gov.co/juzgado1710gar@justiciamilitar.gov.co | I43: Carrera 16 No. 21 - 300. Batallón de Artillería No. 9. "Tenerife" | J43: LUNES A VIERNES DE 08:00 A 18:00 HORAS
A44: PRIMERA INSTANCIA | B44: PONAL | C44: Juzgado 1711 Penal Militar y Policial de Control de Garantías | D44: Ibagué | E44: Tolima | F44: 73 | G44: juzgado1711gar@justiciamilitar.gov.co/sffiscal164antejdpol@justiciamilitar.gov.co | I44: Carrera 48 Sur No. 157 - 199. Bloque A. Piso: 2. Comando Departamento Policía Tolima. Sector Picaleña. | J44: LUNES A VIERNES DE 08:00 A 18:00 HORAS
A45: PRIMERA INSTANCIA | B45: FFMM | C45: Juzgado 1712 Penal Militar y Policial de Control de Garantías | D45: Armenia | E45: Quindío | F45: 63 | G45: juzgado1712gar@justiciamilitar.gov.co | H45: 2493 | I45: Avenida Bolívar No. 25 Norte 00 - Octava Brigada Ejército Nacional - Palacio de Justicia Penal Militar y Policial | J45: LUNES A VIERNES DE 08:00 A 18:00 HORAS
A46: PRIMERA INSTANCIA | B46: PONAL | C46: Juzgado 1713 Penal Militar y Policial de Control de Garantías | D46: Armenia | E46: Quindío | F46: 63 | G46: juzgado1713gar@justiciamilitar.gov.co/sjuez1713gar@justiciamilitar.gov.co | H46: 2492 | I46: Avenida Bolívar No. 25 Norte 00 - Octava Brigada Ejército Nacional - Palacio de Justicia Penal Militar y Policial | J46: LUNES A VIERNES DE 08:00 A 18:00 HORAS
A47: PRIMERA INSTANCIA | B47: PONAL-FFMM | C47: Juzgado 1714 Penal Militar y Policial de Control de Garantías | D47: Popayán | E47: Cauca | F47: 19 | G47: juzgado1714gar@justiciamilitar.gov.co/sjuez1714gar@justiciamilitar.gov.co | I47: Avenida Panamericana Nº 1N-75 Comando Policia Cauca | J47: LUNES A VIERNES DE 08:00 A 18:00 HORAS
A48: PRIMERA INSTANCIA | B48: PONAL | C48: Juzgado 1715 Penal Militar y Policial de Control de Garantías | D48: Pasto | E48: Nariño | F48: 52 | G48: juzgado1715gar@justiciamilitar.gov.co/sjuez1715gar@justiciamilitar.gov.co | I48: Calle 20 No. 26-54 Piso 3 - Barrio Las Cuadras Comando Departamento de Policía Nariño | J48: LUNES A VIERNES DE 08:00 A 18:00 HORAS
A49: PRIMERA INSTANCIA | B49: FFMM | C49: Juzgado 1716 Penal Militar y Policial de Control de Garantías | D49: Pasto | E49: Nariño | F49: 52 | G49: juzgado1716gar@justiciamilitar.gov.co/sjuez1716gar@justiciamilitar.gov.co | I49: Calle 22 No. 14 -47, Avenida Colombia - Instalaciones del Batallón ASPC No. 23 "Gr. Ramón Espina" Cantón Militar Boyacá | J49: LUNES A VIERNES DE 08:00 A 18:00 HORAS
A50: PRIMERA INSTANCIA | B50: PONAL | C50: Juzgado 1717 Penal Militar y Policial de Control de Garantías | D50: Cali | E50: Valle del Cauca | F50: 76 | G50: juzgado1717gar@justiciamilitar.gov.co/sjuez1717gar@justiciamilitar.gov.co | H50: 2463 | I50: Calle 5 No. 83-00 / Tercera Brigada - Cantón Militar Pichincha | J50: LUNES A VIERNES DE 08:00 A 18:00 HORAS
A51: PRIMERA INSTANCIA | B51: FFMM | C51: Juzgado 1718 Penal Militar y Policial de Control de Garantías | D51: Cali | E51: Valle del Cauca | F51: 76 | G51: juzgado1718gar@justiciamilitar.gov.co/sjuez1718gar@justiciamilitar.gov.co | I51: Carrera 3 Norte No. 24N - 16 Barrio El piloto Edificio el Piloto - Instalaciones de Incorporación y Disciplina de la Policía | J51: LUNES A VIERNES DE 08:00 A 18:00 HORAS
A52: PRIMERA INSTANCIA | B52: PONAL FFMM | C52: Juzgado 1723 Penal Militar y Policial de Control de Garantías | D52: Carepa | E52: Antioquia | F52: 5 | G52: juzgado1723gar@justiciamilitar.gov.co | I52: Kilómetro 1 Vía Al Mar. Brigada No. 17 del Ejército. Palacio de Justicia. | J52: LUNES A VIERNES DE 08:00 A 18:00 HORAS
A53: PRIMERA INSTANCIA | B53: PONAL FFMM | C53: Juzgado 1724 Penal Militar y Policial de Control de Garantías | D53: Medellín | E53: Antioquia | F53: 5 | G53: juzgado1724gar@justiciamilitar.gov.co/sjjuez23deipm@justiciamilitar.gov.co | I53: Carrera 48 No. 45 - 58 Piso 2 /Barrio Calendaria Instalaciones Policia Metropolitana Valle de Aburra | J53: LUNES A VIERNES DE 08:00 A 18:00 HORAS
A54: PRIMERA INSTANCIA | B54: FFMM | C54: Juzgado 1725 Penal Militar y Policial de Control de Garantías | D54: Puerto Berrío | E54: Antioquia | F54: 5 | G54: juzgado1725gar@justiciamilitar.gov.co/sffis21antejb@justiciamilitar.gov.co | I54: Calle 50 entre carreras 3 y 4. Decima Cuarta Brigada Ejército Nacional | J54: LUNES A VIERNES DE 08:00 A 18:00 HORAS
A55: PRIMERA INSTANCIA | B55: PONAL FFMM | C55: Juzgado 1726 Penal Militar y Policial de Control de Garantías | D55: Quibdó | E55: Chocó | F55: 27 | G55: juzgado1726gar@justiciamilitar.gov.co | I55: Batallón de Infantería No. 12 "Primero de Línea" Décima Quinta Brigada del Ejército Barrio Obapo vía Pacurita | J55: LUNES A VIERNES DE 08:00 A 18:00 HORAS
A56: PRIMERA INSTANCIA | B56: PONAL FFMM | C56: Juzgado 1727 Penal Militar y Policial de Control de Garantías | D56: Montería | E56: Córdoba | F56: 23 | G56: juzgado1727gar@justiciamilitar.gov.co | H56: 2112 | I56: Avenida Sierra Chiquita Kilómetro 3 Vía Jaraquiel a Montería - Décimo Primera Brigada Ejército | J56: LUNES A VIERNES DE 08:00 A 18:00 HORAS
A57: PRIMERA INSTANCIA | B57: PONAL FFMM | C57: Juzgado 1728 Penal Militar y Policial de Control de Garantías | D57: Santa Marta | E57: Magdalena | F57: 47 | G57: juzgado1728gar@justiciamilitar.gov.co | H57: 2166 | I57: Carerra 4 Calle 34 Vía al rodadero - Batallón de Infanteria General Jose María Cordova | J57: LUNES A VIERNES DE 08:00 A 18:00 HORAS
A58: PRIMERA INSTANCIA | B58: PONAL FFMM | C58: Juzgado 1730 Penal Militar y Policial de Control de Garantías | D58: Santa Marta | E58: Magdalena | F58: 47 | G58: juzgado1730gar@justiciamilitar.gov.co | H58: 2174 | I58: Carerra 4 Calle 34 Vía al rodadero - Batallón de Infanteria General Jose María Cordova | J58: LUNES A VIERNES DE 08:00 A 18:00 HORAS
A59: PRIMERA INSTANCIA | B59: FFMM | C59: Juzgado 1731 Penal Militar y Policial de Control de Garantías | D59: Valledupar | E59: Cesar | F59: 20 | G59: juzgado1731gar@justiciamilitar.gov.co | H59: 2159 | I59: Kilómetro 1 Vía La Mesa Valledupar Batallón de Artillería No. 2. "La Popa". | J59: LUNES A VIERNES DE 08:00 A 17:00 HORAS
A60: PRIMERA INSTANCIA | B60: PONAL FFMM | C60: Juzgado 1732 Penal Militar y Policial de Control de Garantías | D60: Buenavista | E60: La Guajira | F60: 44 | G60: juzgado1732gar@justiciamilitar.gov.co | H60: 2169 | I60: Corregimiento Buenavista. Carretera Nacional. Grupo De Caballería Mecanizado No. 2. "Cr. Juan José Rondón". Municipio Distracción. | J60: LUNES A VIERNES DE 08:00 A 17:00 HORAS
A61: PRIMERA INSTANCIA | B61: PONAL FFMM | C61: Juzgado 1733 Penal Militar y Policial de Control de Garantías | D61: Corozal | E61: Sucre | F61: 70 | G61: juzgado1733gar@justiciamilitar.gov.co | I61: Troncal de occidente kilómetro 2 vía Corozal - Sincelejo , Brigada de Infantería de Marina No 1, edificio comando | J61: LUNES A VIERNES DE 08:00 A 17:00 HORAS
A62: PRIMERA INSTANCIA | B62: FFMM | C62: Juzgado 1734 Penal Militar y Policial de Control de Garantías | D62: Cúcuta | E62: Norte de Santander | F62: 54 | G62: juzgado1734gar@justiciamilitar.gov.co | H62: 2312 | I62: Avenida 1 Vía Al Pórtico. Canton Militar San Jorge Comando especifico del Norte de santander | J62: LUNES A VIERNES DE 08:00 A 17:00 HORAS
A63: PRIMERA INSTANCIA | B63: PONAL FFMM | C63: Juzgado 1736 Penal Militar y Policial de Control de Garantías | D63: Bucaramanga | E63: Santander | F63: 68 | G63: juzgado1736gar@justiciamilitar.gov.co | H63: 2464 | I63: Calle 14 No. 32 - 00 Batallon de Ingenieros Caldas (Guardia) Detrás del estadio | J63: LUNES A VIERNES DE 08:00 A 17:00 HORAS
A64: PRIMERA INSTANCIA | B64: PONAL FFMM | C64: Fiscalía General Penal Militar y Policial | D64: Bogotá D.C. | E64: Bogotá D.C. | F64: 11 | G64: fiscalgeneral@justiciamilitar.gov.co | I64: Calle 1 Carrera 1. Edifico Comando / Comando de la Fuerza Naval del Sur. | J64: LUNES A VIERNES DE 08:00 A 18:00 HORAS
A65: PRIMERA INSTANCIA | B65: PONAL FFMM | C65: Fiscalía General Penal Militar y Policial | D65: Bogotá D.C. | E65: Bogotá D.C. | F65: 11 | G65: flor.lopez@justiciamilitar.gov.co | I65: Carrera 46 No. 20 C - 01 (Puente Aranda) Cantón Militar Occidental “Coronel Francisco José de Caldas” | J65: LUNES A VIERNES DE 08:00 A 17:00 HORAS
A66: PRIMERA INSTANCIA | B66: PONAL FFMM | C66: Fiscalía General Penal Militar y Policial | D66: Bogotá D.C. | E66: Bogotá D.C. | F66: 11 | G66: Carlos.Madrid@justiciamilitar.gov.co | I66: Carrera 46 No. 20 C - 01 (Puente Aranda) Cantón Militar Occidental “Coronel Francisco José de Caldas” | J66: LUNES A VIERNES DE 08:00 A 17:00 HORAS
A67: SEGUNDA INSTANCIA | B67: PONAL FFMM | C67: Tribunal Superior Militar y Policial | D67: Bogotá D.C. | E67: Bogotá D.C. | F67: 11 | G67: Carlos.Basto@justiciamilitar.gov.co | H67: 1521 | I67: Carrera 46 No. 20 C - 01 (Puente Aranda) Cantón Militar Occidental “Coronel Francisco José de Caldas” | J67: LUNES A VIERNES DE 08:00 A 17:00 HORAS
A68: PRIMERA INSTANCIA | B68: PONAL FFMM | C68: Fiscalías Penales Militares delegadas ante el Tribunal Superior Militar y Policial | D68: Bogotá D.C. | E68: Bogotá D.C. | F68: 11 | G68: rene.lambrano@justiciamilitar.gov.co | I68: Carrera 46 No. 20 C - 01 (Puente Aranda) Cantón Militar Occidental “Coronel Francisco José de Caldas” | J68: LUNES A VIERNES DE 08:00 A 17:00 HORAS
A69: PRIMERA INSTANCIA | B69: PONAL FFMM | C69: Fiscalías Penales Militares delegadas ante el Tribunal Superior Militar y Policial | D69: Bogotá D.C. | E69: Bogotá D.C. | F69: 11 | G69: Martha.Herreno@justiciamilitar.gov.co | H69: 1516 | I69: Carrera 46 No. 20 C - 01 (Puente Aranda) Cantón Militar Occidental “Coronel Francisco José de Caldas” | J69: LUNES A VIERNES DE 08:00 A 17:00 HORAS
A70: PRIMERA INSTANCIA | B70: FFMM | C70: Fiscalía 2201 Penal Militar y Policial Delegada ante Juez Penal Militar y Policial de Conocimiento Especializado | D70: Bogotá D.C. | E70: Bogotá D.C. | F70: 11 | G70: fiscal2201conesp@justiciamilitar.gov.co/sffiscal24antejb@justiciamilitar.gov.co | H70: 1515 | I70: Carrera 46 No. 20 C - 01 (Puente Aranda) Cantón Militar Occidental “Coronel Francisco José de Caldas” | J70: LUNES A VIERNES DE 08:00 A 17:00 HORAS
A71: PRIMERA INSTANCIA | B71: PONAL | C71: Fiscalía 2202 Penal Militar y Policial Delegada ante Juez Penal Militar y Policial de Conocimiento Especializado | D71: Bogotá D.C. | E71: Bogotá D.C. | F71: 11 | G71: fiscal2202conesp@justiciamilitar.gov.co/afiscal2202esp@justiciamilitar.gov.co | H71: 1233 | I71: Carrera 46 No. 20 C - 01 (Puente Aranda) Cantón Militar Occidental “Coronel Francisco José de Caldas” | J71: LUNES A VIERNES DE 08:00 A 17:00 HORAS
A72: PRIMERA INSTANCIA | B72: PONAL | C72: Fiscalía 2203 Penal Militar y Policial Delegada ante Juez Penal Militar y Policial de Conocimiento Especializado | D72: Bogotá D.C. | E72: Bogotá D.C. | F72: 11 | G72: fiscal2203conesp@justiciamilitar.gov.co/afiscal2203esp@justiciamilitar.gov.co | H72: 1234 | I72: Carrera 46 No. 20 C - 01 (Puente Aranda) Cantón Militar Occidental “Coronel Francisco José de Caldas” | J72: LUNES A VIERNES DE 08:00 A 17:00 HORAS
A73: PRIMERA INSTANCIA | B73: FFMM | C73: Fiscalía 2208 Penal Militar y Policial Delegada ante Juez Penal Militar y Policial de Conocimiento Especializado | D73: Cali | E73: Valle del Cauca | F73: 76 | G73: fiscalia2208coes@justiciamilitar.gov.co | I73: Calle 5 No. 83-00 / Tercera Brigada - Cantón Militar Pichincha | J73: LUNES A VIERNES DE 08:00 A 18:00 HORAS
A74: PRIMERA INSTANCIA | B74: PONAL | C74: Fiscalía 2222 Penal Militar y Policial Delegada ante Juez Penal Militar y Policial de Conocimiento Especializado | D74: Medellín | E74: Antioquia | F74: 5 | G74: fiscalia2222coes@justiciamilitar.gov.co | H74: 1208 | I74: Carrera 46 No. 20 C - 01 (Puente Aranda) Cantón Militar Occidental “Coronel Francisco José de Caldas” | J74: LUNES A VIERNES DE 08:00 A 17:00 HORAS
A75: PRIMERA INSTANCIA | B75: FFMM | C75: Fiscalía 2223 Penal Militar y Policial Delegada ante Juez Penal Militar y Policial de Conocimiento Especializado | D75: Medellín | E75: Antioquia | F75: 5 | G75: fiscalia2223coes@justiciamilitar.gov.co | H75: 1207 | I75: Carrera 46 No. 20 C - 01 (Puente Aranda) Cantón Militar Occidental “Coronel Francisco José de Caldas” | J75: LUNES A VIERNES DE 08:00 A 17:00 HORAS
A76: PRIMERA INSTANCIA | B76: FFMM | C76: Fiscalía 2401 Penal Militar y Policial Delegada ante Juez Penal Militar y Policial de Conocimiento | D76: Bogotá D.C. | E76: Bogotá D.C. | F76: 11 | G76: fiscal2401conocimiento@justiciamilitar.gov.co/afiscal2401con@justiciamilitar.gov.co | H76: 1363 | I76: Carrera 46 No. 20 C - 01 (Puente Aranda) Cantón Militar Occidental “Coronel Francisco José de Caldas” | J76: LUNES A VIERNES DE 08:00 A 17:00 HORAS
A77: PRIMERA INSTANCIA | B77: FFMM | C77: Fiscalía 2402 Penal Militar y Policial Delegada ante Juez Penal Militar y Policial de Conocimiento | D77: Bogotá D.C. | E77: Bogotá D.C. | F77: 11 | G77: fiscal2402conocimiento@justiciamilitar.gov.co/afiscal2402con@justiciamilitar.gov.co | I77: Calle 22 No. 8-56 Comando Primera Brigada Ejército | J77: LUNES A VIERNES DE 08:00 A 18:00 HORAS
A78: PRIMERA INSTANCIA | B78: PONAL | C78: Fiscalía 2403 Penal Militar y Policial Delegada ante Juez Penal Militar y Policial de Conocimiento | D78: Bogotá D.C. | E78: Bogotá D.C. | F78: 11 | G78: fiscal2403conocimiento@justiciamilitar.gov.co/afiscal2403con@justiciamilitar.gov.co | I78: Calle 22 No. 8-56 Comando Primera Brigada Ejército | J78: LUNES A VIERNES DE 08:00 A 18:00 HORAS
A79: PRIMERA INSTANCIA | B79: PONAL | C79: Fiscalía 2405 Penal Militar y Policial Delegada ante Juez Penal Militar y Policial de Conocimiento | D79: Bogotá D.C. | E79: Bogotá D.C. | F79: 11 | G79: fiscalia2405con@justiciamilitar.gov.co/sfiscal2405con@justiciamilitar.gov.co | I79: Carrera 48 Sur No. 157 - 199. Bloque A. Piso: 2. Comando Departamento Policía Tolima. Sector Picaleña. | J79: LUNES A VIERNES DE 08:00 A 18:00 HORAS
A80: PRIMERA INSTANCIA | B80: FFMM | C80: Fiscalía 2406 Penal Militar y Policial Delegada ante Juez Penal Militar y Policial de Conocimiento | D80: Bogotá D.C. | E80: Bogotá D.C. | F80: 11 | G80: fiscalia2406con@justiciamilitar.gov.co/sfiscal2406con@justiciamilitar.gov.co | I80: Calle 14 No. 5-00 Barrio Pueblo Nuevo - Cantón Militar Del Sur Del Tolima | J80: LUNES A VIERNES DE 08:00 A 18:00 HORAS
A81: PRIMERA INSTANCIA | B81: PONAL | C81: Fiscalía 2419 Penal Militar y Policial Delegada ante Juez Penal Militar y Policial de Conocimiento | D81: Bogotá D.C. | E81: Bogotá D.C. | F81: 11 | G81: fiscalia2419con@justiciamilitar.gov.co/sfiscal2419con@justiciamilitar.gov.co | I81: Calle 71 No. 25-00 Barrio Palermo - Batallón de Infantería No. 22 Batalla Ayacucho | J81: LUNES A VIERNES DE 08:00 A 18:00 HORAS
A82: PRIMERA INSTANCIA | B82: PONAL | C82: Fiscalía 2420 Penal Militar y Policial Delegada ante Juez Penal Militar y Policial de Conocimiento | D82: Tunja | E82: Boyacá | F82: 15 | G82: fiscalia2420con@justiciamilitar.gov.co | H82: 2490 | I82: Avenida Bolívar No. 25 Norte 00 - Octava Brigada Ejército Nacional - Palacio de Justicia Penal Militar y Policial | J82: LUNES A VIERNES DE 08:00 A 18:00 HORAS
A83: PRIMERA INSTANCIA | B83: FFMM | C83: Fiscalía 2421 Penal Militar y Policial Delegada ante Juez Penal Militar y Policial de Conocimiento | D83: Tunja | E83: Boyacá | F83: 15 | G83: fiscalia2421con@justiciamilitar.gov.co | H83: 2485 | I83: Avenida Bolívar No. 25 Norte 00 - Octava Brigada Ejército Nacional - Palacio de Justicia Penal Militar y Policial | J83: LUNES A VIERNES DE 08:00 A 18:00 HORAS
A84: PRIMERA INSTANCIA | B84: FFMM | C84: Fiscalía 2422 Penal Militar y Policial Delegada ante Juez Penal Militar y Policial de Conocimiento | D84: Tolemaida | E84: Cundinamarca | F84: 25 | G84: fiscalia2422con@justiciamilitar.gov.co/sfiscal2422con@justiciamilitar.gov.co | I84: Avenida Las Américas No. 46-35, Piso 3 Comando Policia Metropolitana de Pereira Frente a Homecenter | J84: LUNES A VIERNES DE 08:00 A 18:00 HORAS
A85: PRIMERA INSTANCIA | B85: PONAL | C85: Fiscalía 2423 Penal Militar y Policial Delegada ante Juez Penal Militar y Policial de Conocimiento | D85: Ibagué | E85: Tolima | F85: 73 | G85: fiscalia2423con@justiciamilitar.gov.co/sfiscal2423con@justiciamilitar.gov.co | I85: Calle 18 No. 47-160 Barrio Torobajo - Policía Metropolitana de San Juan de Pasto | J85: LUNES A VIERNES DE 08:00 A 18:00 HORAS
A86: PRIMERA INSTANCIA | B86: FFMM | C86: Fiscalía 2424 Penal Militar y Policial Delegada ante Juez Penal Militar y Policial de Conocimiento | D86: Chaparral | E86: Tolima | F86: 73 | G86: fiscalia2424con@justiciamilitar.gov.co/sfiscal2424con@justiciamilitar.gov.co | I86: Calle 18 No. 47-160 Barrio Torobajo - Policía Metropolitana de San Juan de Pasto | J86: LUNES A VIERNES DE 08:00 A 18:00 HORAS
A87: PRIMERA INSTANCIA | B87: PONAL | C87: Fiscalía 2425 Penal Militar y Policial Delegada ante Juez Penal Militar y Policial de Conocimiento | D87: Neiva | E87: Huila | F87: 41 | G87: fiscalia2425con@justiciamilitar.gov.co/sfiscal2425con@justiciamilitar.gov.co | H87: 2466 | I87: Calle 5 No. 83-00 / Tercera Brigada - Cantón Militar Pichincha | J87: LUNES A VIERNES DE 08:00 A 18:00 HORAS
A88: PRIMERA INSTANCIA | B88: FFMM | C88: Fiscalía 2426 Penal Militar y Policial Delegada ante Juez Penal Militar y Policial de Conocimiento | D88: Neiva | E88: Huila | F88: 41 | G88: fiscalia2426con@justiciamilitar.gov.co/sfiscal2426con@justiciamilitar.gov.co | H88: 2467 | I88: Calle 5 No. 83-00 / Tercera Brigada - Cantón Militar Pichincha | J88: LUNES A VIERNES DE 08:00 A 18:00 HORAS
A89: PRIMERA INSTANCIA | B89: FFMM | C89: Fiscalía 2427 Penal Militar y Policial Delegada ante Juez Penal Militar y Policial de Conocimiento | D89: Manizales | E89: Caldas | F89: 17 | G89: fiscalia2427con@justiciamilitar.gov.co/sfiscal2427con@justiciamilitar.gov.co | I89: Carrera 3 Norte No. 24N - 16 Barrio El piloto Edificio el Piloto - Instalaciones de Incorporación y Disciplina de la Policía | J89: LUNES A VIERNES DE 08:00 A 18:00 HORAS
A90: PRIMERA INSTANCIA | B90: PONAL | C90: Fiscalía 2428 Penal Militar y Policial Delegada ante Juez Penal Militar y Policial de Conocimiento | D90: Armenia | E90: Quindío | F90: 63 | G90: fiscalia2428con@justiciamilitar.gov.co/sfiscal2428con@justiciamilitar.gov.co | I90: Kilometro 1 Via la Habana - Batallon de Artillería No. 3 "Batalla de Palace" Guadalajara de Buga | J90: LUNES A VIERNES DE 08:00 A 18:00 HORAS
A91: PRIMERA INSTANCIA | B91: FFMM | C91: Fiscalía 2429 Penal Militar y Policial Delegada ante Juez Penal Militar y Policial de Conocimiento | D91: Armenia | E91: Quindío | F91: 63 | G91: fiscalia2429con@justiciamilitar.gov.co/sfiscal2429con@justiciamilitar.gov.co | I91: Avenida Los Cuarteles No. 80 - 00. Tercera Division Del Ejército. | J91: LUNES A VIERNES DE 08:00 A 18:00 HORAS
A92: PRIMERA INSTANCIA | B92: PONAL | C92: Fiscalía 2430 Penal Militar y Policial Delegada ante Juez Penal Militar y Policial de Conocimiento | D92: Pereira | E92: Risaralda | F92: 66 | G92: fiscalia2430con@justiciamilitar.gov.co/sfiscal2430con@justiciamilitar.gov.co | I92: Avenida Panamericana 1N-75 Complejo Policial IJ. DIEGO MARÍA GUERRERO NAVIA - Comando Departamento de Policía Cauca - Edificio 7, Piso 3 | J92: LUNES A VIERNES DE 08:00 A 18:00 HORAS
A93: PRIMERA INSTANCIA | B93: PONAL | C93: Fiscalía 2431 Penal Militar y Policial Delegada ante Juez Penal Militar y Policial de Conocimiento | D93: Pasto | E93: Nariño | F93: 52 | G93: fiscalia2431con@justiciamilitar.gov.co/sfiscal2431con@justiciamilitar.gov.co | H93: 2371 | I93: Carrera 6 No. 17 - 51. Frente al Parque Santander. Grupo de Caballería Mecanizado No. 3. “Gral. José Maria Cabal" | J93: LUNES A VIERNES DE 08:00 A 18:00 HORAS
A94: PRIMERA INSTANCIA | B94: FFMM | C94: Fiscalía 2432 Penal Militar y Policial Delegada ante Juez Penal Militar y Policial de Conocimiento | D94: Pasto | E94: Nariño | F94: 52 | G94: fiscalia2432con@justiciamilitar.gov.co/sfiscal2432con@justiciamilitar.gov.co | I94: Carrera 16 No. 21-300 - Novena Brigada. Batallón Tenerife | J94: LUNES A VIERNES DE 08:00 A 18:00 HORAS
A95: PRIMERA INSTANCIA | B95: FFMM | C95: Fiscalía 2433 Penal Militar y Policial Delegada ante Juez Penal Militar y Policial de Conocimiento | D95: Cali | E95: Valle del Cauca | F95: 76 | G95: fiscalia2433con@justiciamilitar.gov.co/sfiscal2433con@justiciamilitar.gov.co | I95: Centro Comercial Zulia (Servifree), 2do Piso. Centro Nacional de Entrenamiento (CENAE) / Nilo — Cundinamarca. | J95: LUNES A VIERNES DE 08:00 A 18:00 HORAS
A96: PRIMERA INSTANCIA | B96: PONAL | C96: Fiscalía 2434 Penal Militar y Policial Delegada ante Juez Penal Militar y Policial de Conocimiento | D96: Buga | E96: Valle del Cauca | F96: 76 | G96: fiscalia2434con@justiciamilitar.gov.co/sfiscal2434con@justiciamilitar.gov.co | I96: Carrera 9 No. 6-25 | J96: LUNES A VIERNES DE 08:00 A 18:00 HORAS
A97: PRIMERA INSTANCIA | B97: FFMM | C97: Fiscalía 2435 Penal Militar y Policial Delegada ante Juez Penal Militar y Policial de Conocimiento | D97: Buga | E97: Valle del Cauca | F97: 76 | G97: fiscalia2435con@justiciamilitar.gov.co/sfiscal2435con@justiciamilitar.gov.co | I97: Kilómetro 1 Vía Al Mar. Brigada No. 17 del Ejército. Palacio de Justicia. | J97: LUNES A VIERNES DE 08:00 A 17:00 HORAS
A98: PRIMERA INSTANCIA | B98: FFMM | C98: Fiscalía 2436 Penal Militar y Policial Delegada ante Juez Penal Militar y Policial de Conocimiento | D98: Popayán | E98: Cauca | F98: 19 | G98: fiscalia2436con@justiciamilitar.gov.co/sfiscal2436con@justiciamilitar.gov.co | I98: Kilómetro 7 Vía Caucasia A Medellín. Batallón De Infantería No. 31. "Rifles". | J98: LUNES A VIERNES DE 08:00 A 17:00 HORAS
A99: PRIMERA INSTANCIA | B99: FFMM | C99: Fiscalía 2454 Penal Militar y Policial Delegada ante Juez Penal Militar y Policial de Conocimiento | D99: Carepa | E99: Antioquia | F99: 5 | G99: fiscalia2454con@justiciamilitar.gov.co | I99: Avenida Sierra Chiquita Kilómetro 3 Vía Jaraquiel a Montería - Décimo Primera Brigada Ejército | J99: LUNES A VIERNES DE 08:00 A 18:00 HORAS
A100: PRIMERA INSTANCIA | B100: FFMM | C100: Fiscalía 2455 Penal Militar y Policial Delegada ante Juez Penal Militar y Policial de Conocimiento | D100: Caucasia | E100: Antioquia | F100: 5 | G100: fiscalia2455con@justiciamilitar.gov.co | I100: Batallon de Ingenieros de combate No. 2 General "Javier y Vergara Velasco" Carrera Oriental Vía Aeropuerto. Cantón Militar de Malambo. Binar | J100: LUNES A VIERNES DE 08:00 A 18:00 HORAS
...

Sheet directorio formulado
B1: email | D1: kind | E1: force | F1: office | G1: office2 | H1: city | I1: city2 | J1: dptoTxt | K1: dptoTxt2 | L1: dpto | M1: dpto2 | N1: email | O1: phone | P1: phone2 | Q1: phone3 | R1: phone4 | S1: address | T1: address2 | U1: schedule | V1: schedule2
A2: mauricio.lara@justiciamilitar.gov.co | B2: mauricio.lara@justiciamilitar.gov.co | D2: SEGUNDA INSTANCIA | E2: No aplica | F2: Magistrado Tribunal Superior Militar y Policial | G2: =VLOOKUP(A2,'directorio 3 ago 26'!$A$2:$J$658,3,FALSE) -> Tribunal Superior Militar y Policial | H2: Bogotá, D.C. | I2: =VLOOKUP(A2,'directorio 3 ago 26'!$A$2:$J$658,4,FALSE) -> Bogotá D.C. | J2: Bogotá, D.C. | K2: =VLOOKUP(A2,'directorio 3 ago 26'!$A$2:$J$658,5,FALSE) -> Bogotá D.C. | L2: 11 | M2: =VLOOKUP(Tabla22[[#This Row],[dptoTxt2]],dane!$A$2:$B$32,2,FALSE) -> 11 | N2: mauricio.lara@justiciamilitar.gov.co | O2: 1534 | P2: 1534 | Q2: =VLOOKUP(C2,'directorio 3 ago 26'!$A$2:$K$658,7,FALSE) -> #N/A | R2: 1534 | S2: Carrera 46 No. 20 C - 01 (Puente Aranda) Cantón Militar Occidental “Coronel Francisco José de Caldas” | T2: =VLOOKUP(A2,'directorio 3 ago 26'!$A$2:$J$658,9,FALSE) -> Carrera 46 No. 20 C - 01 (Puente Aranda) Cantón Militar Occidental “Coronel Francisco José de Caldas” | U2: lunes a viernes de 08:00 a 17:00 horas | V2: =VLOOKUP(A2,'directorio 3 ago 26'!$A$2:$J$658,10,FALSE) -> LUNES A VIERNES DE 08:00 A 17:00 HORAS
A3: gustavo.suarez@justiciamilitar.gov.co | B3: gustavo.suarez@justiciamilitar.gov.co | D3: SEGUNDA INSTANCIA | E3: No aplica | F3: Magistrado Tribunal Superior Militar y Policial | G3: =VLOOKUP(A3,'directorio 3 ago 26'!$A$2:$J$658,3,FALSE) -> Tribunal Superior Militar y Policial | H3: Bogotá, D.C. | I3: =VLOOKUP(A3,'directorio 3 ago 26'!$A$2:$J$658,4,FALSE) -> Bogotá D.C. | J3: Bogotá, D.C. | K3: =VLOOKUP(A3,'directorio 3 ago 26'!$A$2:$J$658,5,FALSE) -> Bogotá D.C. | L3: 11 | M3: =VLOOKUP(Tabla22[[#This Row],[dptoTxt2]],dane!$A$2:$B$32,2,FALSE) -> 11 | N3: gustavo.suarez@justiciamilitar.gov.co | O3: 1532 | P3: 1532 | Q3: =VLOOKUP(C3,'directorio 3 ago 26'!$A$2:$K$658,7,FALSE) -> #N/A | R3: 1532 | S3: Carrera 46 No. 20 C - 01 (Puente Aranda) Cantón Militar Occidental “Coronel Francisco José de Caldas” | T3: =VLOOKUP(A3,'directorio 3 ago 26'!$A$2:$J$658,9,FALSE) -> Carrera 46 No. 20 C - 01 (Puente Aranda) Cantón Militar Occidental “Coronel Francisco José de Caldas” | U3: lunes a viernes de 08:00 a 17:00 horas | V3: =VLOOKUP(A3,'directorio 3 ago 26'!$A$2:$J$658,10,FALSE) -> LUNES A VIERNES DE 08:00 A 17:00 HORAS
A4: paola.zuluaga@justiciamilitar.gov.co | B4: paola.zuluaga@justiciamilitar.gov.co | D4: SEGUNDA INSTANCIA | E4: No aplica | F4: Magistrado Tribunal Superior Militar y Policial | G4: =VLOOKUP(A4,'directorio 3 ago 26'!$A$2:$J$658,3,FALSE) -> Tribunal Superior Militar y Policial | H4: Bogotá, D.C. | I4: =VLOOKUP(A4,'directorio 3 ago 26'!$A$2:$J$658,4,FALSE) -> Bogotá D.C. | J4: Bogotá, D.C. | K4: =VLOOKUP(A4,'directorio 3 ago 26'!$A$2:$J$658,5,FALSE) -> Bogotá D.C. | L4: 11 | M4: =VLOOKUP(Tabla22[[#This Row],[dptoTxt2]],dane!$A$2:$B$32,2,FALSE) -> 11 | N4: paola.zuluaga@justiciamilitar.gov.co | O4: 1528 | P4: 1503 | Q4: =VLOOKUP(C4,'directorio 3 ago 26'!$A$2:$K$658,7,FALSE) -> #N/A | R4: 1503 | S4: Carrera 46 No. 20 C - 01 (Puente Aranda) Cantón Militar Occidental “Coronel Francisco José de Caldas” | T4: =VLOOKUP(A4,'directorio 3 ago 26'!$A$2:$J$658,9,FALSE) -> Carrera 46 No. 20 C - 01 (Puente Aranda) Cantón Militar Occidental “Coronel Francisco José de Caldas” | U4: lunes a viernes de 08:00 a 17:00 horas | V4: =VLOOKUP(A4,'directorio 3 ago 26'!$A$2:$J$658,10,FALSE) -> LUNES A VIERNES DE 08:00 A 17:00 HORAS
A5: sandra.botia@justiciamilitar.gov.co | B5: sandra.botia@justiciamilitar.gov.co | D5: SEGUNDA INSTANCIA | E5: No aplica | F5: Magistrado Tribunal Superior Militar y Policial | G5: =VLOOKUP(A5,'directorio 3 ago 26'!$A$2:$J$658,3,FALSE) -> Tribunal Superior Militar y Policial | H5: Bogotá, D.C. | I5: =VLOOKUP(A5,'directorio 3 ago 26'!$A$2:$J$658,4,FALSE) -> Bogotá D.C. | J5: Bogotá, D.C. | K5: =VLOOKUP(A5,'directorio 3 ago 26'!$A$2:$J$658,5,FALSE) -> Bogotá D.C. | L5: 11 | M5: =VLOOKUP(Tabla22[[#This Row],[dptoTxt2]],dane!$A$2:$B$32,2,FALSE) -> 11 | N5: sandra.botia@justiciamilitar.gov.co | O5: 1517 | P5: 1528 | Q5: =VLOOKUP(C5,'directorio 3 ago 26'!$A$2:$K$658,7,FALSE) -> #N/A | R5: 1528 | S5: Carrera 46 No. 20 C - 01 (Puente Aranda) Cantón Militar Occidental “Coronel Francisco José de Caldas” | T5: =VLOOKUP(A5,'directorio 3 ago 26'!$A$2:$J$658,9,FALSE) -> Carrera 46 No. 20 C - 01 (Puente Aranda) Cantón Militar Occidental “Coronel Francisco José de Caldas” | U5: lunes a viernes de 08:00 a 17:00 horas | V5: =VLOOKUP(A5,'directorio 3 ago 26'!$A$2:$J$658,10,FALSE) -> LUNES A VIERNES DE 08:00 A 17:00 HORAS
A6: jorge.lopez@justiciamilitar.gov.co | B6: jorge.lopez@justiciamilitar.gov.co | D6: SEGUNDA INSTANCIA | E6: No aplica | F6: Magistrado Tribunal Superior Militar y Policial | G6: =VLOOKUP(A6,'directorio 3 ago 26'!$A$2:$J$658,3,FALSE) -> Tribunal Superior Militar y Policial | H6: Bogotá, D.C. | I6: =VLOOKUP(A6,'directorio 3 ago 26'!$A$2:$J$658,4,FALSE) -> Bogotá D.C. | J6: Bogotá, D.C. | K6: =VLOOKUP(A6,'directorio 3 ago 26'!$A$2:$J$658,5,FALSE) -> Bogotá D.C. | L6: 11 | M6: =VLOOKUP(Tabla22[[#This Row],[dptoTxt2]],dane!$A$2:$B$32,2,FALSE) -> 11 | N6: jorge.lopez@justiciamilitar.gov.co | O6: 1525 | P6: 1525 | Q6: =VLOOKUP(C6,'directorio 3 ago 26'!$A$2:$K$658,7,FALSE) -> #N/A | R6: 1525 | S6: Carrera 46 No. 20 C - 01 (Puente Aranda) Cantón Militar Occidental “Coronel Francisco José de Caldas” | T6: =VLOOKUP(A6,'directorio 3 ago 26'!$A$2:$J$658,9,FALSE) -> Carrera 46 No. 20 C - 01 (Puente Aranda) Cantón Militar Occidental “Coronel Francisco José de Caldas” | U6: lunes a viernes de 08:00 a 17:00 horas | V6: =VLOOKUP(A6,'directorio 3 ago 26'!$A$2:$J$658,10,FALSE) -> LUNES A VIERNES DE 08:00 A 17:00 HORAS
A7: roberto.ramirez@justiciamilitar.gov.co | B7: roberto.ramirez@justiciamilitar.gov.co | D7: SEGUNDA INSTANCIA | E7: No aplica | F7: Magistrado Tribunal Superior Militar y Policial | G7: =VLOOKUP(A7,'directorio 3 ago 26'!$A$2:$J$658,3,FALSE) -> Tribunal Superior Militar y Policial | H7: Bogotá, D.C. | I7: =VLOOKUP(A7,'directorio 3 ago 26'!$A$2:$J$658,4,FALSE) -> Bogotá D.C. | J7: Bogotá, D.C. | K7: =VLOOKUP(A7,'directorio 3 ago 26'!$A$2:$J$658,5,FALSE) -> Bogotá D.C. | L7: 11 | M7: =VLOOKUP(Tabla22[[#This Row],[dptoTxt2]],dane!$A$2:$B$32,2,FALSE) -> 11 | N7: roberto.ramirez@justiciamilitar.gov.co | O7: 1520 | P7: 1520 | Q7: =VLOOKUP(C7,'directorio 3 ago 26'!$A$2:$K$658,7,FALSE) -> #N/A | R7: 1520 | S7: Carrera 46 No. 20 C - 01 (Puente Aranda) Cantón Militar Occidental “Coronel Francisco José de Caldas” | T7: =VLOOKUP(A7,'directorio 3 ago 26'!$A$2:$J$658,9,FALSE) -> Carrera 46 No. 20 C - 01 (Puente Aranda) Cantón Militar Occidental “Coronel Francisco José de Caldas” | U7: lunes a viernes de 08:00 a 17:00 horas | V7: =VLOOKUP(A7,'directorio 3 ago 26'!$A$2:$J$658,10,FALSE) -> LUNES A VIERNES DE 08:00 A 17:00 HORAS
A8: eldidvey.castro@justiciamilitar.gov.co | B8: Martha.Lozano@justiciamilitar.gov.co | D8: SEGUNDA INSTANCIA | E8: No aplica | F8: Relatoría Tribunal Superior Militar y Policial | G8: =VLOOKUP(A8,'directorio 3 ago 26'!$A$2:$J$658,3,FALSE) -> Tribunal Superior Militar y Policial | H8: Bogotá, D.C. | I8: =VLOOKUP(A8,'directorio 3 ago 26'!$A$2:$J$658,4,FALSE) -> Bogotá D.C. | J8: Bogotá, D.C. | K8: =VLOOKUP(A8,'directorio 3 ago 26'!$A$2:$J$658,5,FALSE) -> Bogotá D.C. | L8: 11 | M8: =VLOOKUP(Tabla22[[#This Row],[dptoTxt2]],dane!$A$2:$B$32,2,FALSE) -> 11 | N8: Martha.Lozano@justiciamilitar.gov.co | O8: 1512 | P8: 1091 | Q8: =VLOOKUP(C8,'directorio 3 ago 26'!$A$2:$K$658,7,FALSE) -> #N/A | R8: 1091 | S8: Carrera 46 No. 20 C - 01 (Puente Aranda) Cantón Militar Occidental “Coronel Francisco José de Caldas” | T8: =VLOOKUP(A8,'directorio 3 ago 26'!$A$2:$J$658,9,FALSE) -> Carrera 46 No. 20 C - 01 (Puente Aranda) Cantón Militar Occidental “Coronel Francisco José de Caldas” | U8: lunes a viernes de 08:00 a 17:00 horas | V8: =VLOOKUP(A8,'directorio 3 ago 26'!$A$2:$J$658,10,FALSE) -> LUNES A VIERNES DE 08:00 A 17:00 HORAS
A9: ivan.quintero@justiciamilitar.gov.co | B9: ivan.quintero@justiciamilitar.gov.co | D9: SEGUNDA INSTANCIA | E9: No aplica | F9: Secretaría Tribunal Superior Militar y Policial | G9: =VLOOKUP(A9,'directorio 3 ago 26'!$A$2:$J$658,3,FALSE) -> Tribunal Superior Militar y Policial | H9: Bogotá, D.C. | I9: =VLOOKUP(A9,'directorio 3 ago 26'!$A$2:$J$658,4,FALSE) -> Bogotá D.C. | J9: Bogotá, D.C. | K9: =VLOOKUP(A9,'directorio 3 ago 26'!$A$2:$J$658,5,FALSE) -> Bogotá D.C. | L9: 11 | M9: =VLOOKUP(Tabla22[[#This Row],[dptoTxt2]],dane!$A$2:$B$32,2,FALSE) -> 11 | N9: ivan.quintero@justiciamilitar.gov.co | O9: 1090 | P9: 1512 | Q9: =VLOOKUP(C9,'directorio 3 ago 26'!$A$2:$K$658,7,FALSE) -> #N/A | R9: 1512 | S9: Carrera 46 No. 20 C - 01 (Puente Aranda) Cantón Militar Occidental “Coronel Francisco José de Caldas” | T9: =VLOOKUP(A9,'directorio 3 ago 26'!$A$2:$J$658,9,FALSE) -> Carrera 46 No. 20 C - 01 (Puente Aranda) Cantón Militar Occidental “Coronel Francisco José de Caldas” | U9: lunes a viernes de 08:00 a 17:00 horas | V9: =VLOOKUP(A9,'directorio 3 ago 26'!$A$2:$J$658,10,FALSE) -> LUNES A VIERNES DE 08:00 A 17:00 HORAS
A10: david.moreno@justiciamilitar.gov.co | B10: centrodeservicios@justiciamilitar.gov.co | D10: PRIMERA INSTANCIA | E10: No aplica | F10: Centro de Servicios Judiciales | G10: =VLOOKUP(A10,'directorio 3 ago 26'!$A$2:$J$658,3,FALSE) -> Centro de Servicios Judiciales | H10: Bogotá, D.C. | I10: =VLOOKUP(A10,'directorio 3 ago 26'!$A$2:$J$658,4,FALSE) -> Bogotá D.C. | J10: Bogotá, D.C. | K10: =VLOOKUP(A10,'directorio 3 ago 26'!$A$2:$J$658,5,FALSE) -> Bogotá D.C. | L10: 11 | M10: =VLOOKUP(Tabla22[[#This Row],[dptoTxt2]],dane!$A$2:$B$32,2,FALSE) -> 11 | N10: centrodeservicios@justiciamilitar.gov.co | O10: 2156/2157 | P10: 2156/2157 | Q10: =VLOOKUP(C10,'directorio 3 ago 26'!$A$2:$K$658,7,FALSE) -> #N/A | R10: 2156/2157 | S10: Carrera 46 No. 20 C - 01 (Puente Aranda) Cantón Militar Occidental “Coronel Francisco José de Caldas” | T10: =VLOOKUP(A10,'directorio 3 ago 26'!$A$2:$J$658,9,FALSE) -> Carretera Nacional-Corregimiento Buenavista Grupo De Caballería Mecanizado No. 2. "Cr. Juan José Rondón". Municipio Distracción. | U10: lunes a viernes de 08:00 a 17:00 horas | V10: =VLOOKUP(A10,'directorio 3 ago 26'!$A$2:$J$658,10,FALSE) -> LUNES A VIERNES DE 08:00 A 18:00 HORAS
A11: juez1201conesp@justiciamilitar.gov.co | B11: juez1201conesp@justiciamilitar.gov.co | D11: PRIMERA INSTANCIA | E11: FFMM | F11: Juzgado 1201 Penal Militar y Policial de Conocimiento Especializado | G11: =VLOOKUP(A11,'directorio 3 ago 26'!$A$2:$J$658,3,FALSE) -> Juzgado 1201 Penal Militar y Policial de Conocimiento Especializado | H11: Bogotá, D.C. | I11: =VLOOKUP(A11,'directorio 3 ago 26'!$A$2:$J$658,4,FALSE) -> Bogotá D.C. | J11: Bogotá, D.C. | K11: =VLOOKUP(A11,'directorio 3 ago 26'!$A$2:$J$658,5,FALSE) -> Bogotá D.C. | L11: 11 | M11: =VLOOKUP(Tabla22[[#This Row],[dptoTxt2]],dane!$A$2:$B$32,2,FALSE) -> 11 | N11: juez1201conesp@justiciamilitar.gov.co | O11: 1243 | P11: 1244 | Q11: =VLOOKUP(C11,'directorio 3 ago 26'!$A$2:$K$658,7,FALSE) -> #N/A | R11: 1244 | S11: Carrera 46 No. 20 C - 01 (Puente Aranda) Cantón Militar Occidental “Coronel Francisco José de Caldas” | T11: =VLOOKUP(A11,'directorio 3 ago 26'!$A$2:$J$658,9,FALSE) -> Carrera 46 No. 20 C - 01 (Puente Aranda) Cantón Militar Occidental “Coronel Francisco José de Caldas” | U11: lunes a viernes de 08:00 a 17:00 horas | V11: =VLOOKUP(A11,'directorio 3 ago 26'!$A$2:$J$658,10,FALSE) -> LUNES A VIERNES DE 08:00 A 17:00 HORAS
A12: juez1202conesp@justiciamilitar.gov.co | B12: juez1202conesp@justiciamilitar.gov.co | D12: PRIMERA INSTANCIA | E12: PONAL | F12: Juzgado 1202 Penal Militar y Policial de Conocimiento Especializado | G12: =VLOOKUP(A12,'directorio 3 ago 26'!$A$2:$J$658,3,FALSE) -> Juzgado 1202 Penal Militar y Policial de Conocimiento Especializado | H12: Bogotá, D.C. | I12: =VLOOKUP(A12,'directorio 3 ago 26'!$A$2:$J$658,4,FALSE) -> Bogotá D.C. | J12: Bogotá, D.C. | K12: =VLOOKUP(A12,'directorio 3 ago 26'!$A$2:$J$658,5,FALSE) -> Bogotá D.C. | L12: 11 | M12: =VLOOKUP(Tabla22[[#This Row],[dptoTxt2]],dane!$A$2:$B$32,2,FALSE) -> 11 | N12: juez1202conesp@justiciamilitar.gov.co | O12: 1241 | P12: 1241 | Q12: =VLOOKUP(C12,'directorio 3 ago 26'!$A$2:$K$658,7,FALSE) -> #N/A | R12: 1241 | S12: Carrera 46 No. 20 C - 01 (Puente Aranda) Cantón Militar Occidental “Coronel Francisco José de Caldas” | T12: =VLOOKUP(A12,'directorio 3 ago 26'!$A$2:$J$658,9,FALSE) -> Carrera 46 No. 20 C - 01 (Puente Aranda) Cantón Militar Occidental “Coronel Francisco José de Caldas” | U12: lunes a viernes de 08:00 a 17:00 horas | V12: =VLOOKUP(A12,'directorio 3 ago 26'!$A$2:$J$658,10,FALSE) -> LUNES A VIERNES DE 08:00 A 17:00 HORAS
A13: juzgado1203cones@justiciamilitar.gov.co | B13: juzgado1203cones@justiciamilitar.gov.co/sjuez1203cones@justiciamilitar.gov.co | C13: sjuez1203cones@justiciamilitar.gov.co | D13: PRIMERA INSTANCIA | E13: FFMM | F13: Juzgado 1203 Penal Militar y Policial de Conocimiento Especializado | G13: =VLOOKUP(A13,'directorio 3 ago 26'!$A$2:$J$658,3,FALSE) -> Juzgado 1203 Penal Militar y Policial de Conocimiento Especializado | H13: Cali | I13: =VLOOKUP(A13,'directorio 3 ago 26'!$A$2:$J$658,4,FALSE) -> Cali | J13: Valle del Cauca | K13: =VLOOKUP(A13,'directorio 3 ago 26'!$A$2:$J$658,5,FALSE) -> Valle del Cauca | L13: 76 | M13: =VLOOKUP(Tabla22[[#This Row],[dptoTxt2]],dane!$A$2:$B$32,2,FALSE) -> 76 | N13: juzgado1203cones@justiciamilitar.gov.co/sjuez1203cones@justiciamilitar.gov.co | O13: 2460/2461 | P13: 0 | Q13: =VLOOKUP(C13,'directorio 3 ago 26'!$A$2:$K$658,7,FALSE) -> 1240 | S13: Cantón Militar Pichincha Calle 5 N° 83-00 | T13: =VLOOKUP(A13,'directorio 3 ago 26'!$A$2:$J$658,9,FALSE) -> Calle 5 No. 83-00 / Tercera Brigada - Cantón Militar Pichincha | U13: lunes a viernes de 08:00 a 18:00 horas | V13: =VLOOKUP(A13,'directorio 3 ago 26'!$A$2:$J$658,10,FALSE) -> LUNES A VIERNES DE 08:00 A 18:00 HORAS
A14: juzgado1204cones@justiciamilitar.gov.co | B14: juzgado1204cones@justiciamilitar.gov.co/sjuez1204cones@justiciamilitar.gov.co | C14: sjuez1204cones@justiciamilitar.gov.co | D14: PRIMERA INSTANCIA | E14: PONAL | F14: Juzgado 1204 Penal Militar y Policial de Conocimiento Especializado | G14: =VLOOKUP(A14,'directorio 3 ago 26'!$A$2:$J$658,3,FALSE) -> Juzgado 1204 Penal Militar y Policial de Conocimiento Especializado | H14: Cali | I14: =VLOOKUP(A14,'directorio 3 ago 26'!$A$2:$J$658,4,FALSE) -> Cali | J14: Valle del Cauca | K14: =VLOOKUP(A14,'directorio 3 ago 26'!$A$2:$J$658,5,FALSE) -> Valle del Cauca | L14: 76 | M14: =VLOOKUP(Tabla22[[#This Row],[dptoTxt2]],dane!$A$2:$B$32,2,FALSE) -> 76 | N14: juzgado1204cones@justiciamilitar.gov.co/sjuez1204cones@justiciamilitar.gov.co | P14: 0 | Q14: =VLOOKUP(C14,'directorio 3 ago 26'!$A$2:$K$658,7,FALSE) -> #N/A | S14: CRA. 1 No. 33-00 Barrio Berlín, ESTACION DE POLICIA SAN FRANCISCO | T14: =VLOOKUP(A14,'directorio 3 ago 26'!$A$2:$J$658,9,FALSE) -> Carrera 1 No. 33-00 Barrio Berlín, Estación de Policia San Francisco | U14: lunes a viernes de 08:00 a 18:00 horas | V14: =VLOOKUP(A14,'directorio 3 ago 26'!$A$2:$J$658,10,FALSE) -> LUNES A VIERNES DE 08:00 A 18:00 HORAS
A15: juez1301con@justiciamilitar.gov.co | B15: juez1301conocimiento@justiciamilitar.gov.co/sjuez1301con@justiciamilitar.gov.co | C15: sjuez1301con@justiciamilitar.gov.co | D15: PRIMERA INSTANCIA | E15: PONAL FFMM | F15: Juzgado 1301 Penal Militar y Policial de Conocimiento | G15: =VLOOKUP(A15,'directorio 3 ago 26'!$A$2:$J$658,3,FALSE) -> Juzgado 1301 Penal Militar y Policial de Conocimiento | H15: Bogotá, D.C. | I15: =VLOOKUP(A15,'directorio 3 ago 26'!$A$2:$J$658,4,FALSE) -> Bogotá D.C. | J15: Bogotá, D.C. | K15: =VLOOKUP(A15,'directorio 3 ago 26'!$A$2:$J$658,5,FALSE) -> Bogotá D.C. | L15: 11 | M15: =VLOOKUP(Tabla22[[#This Row],[dptoTxt2]],dane!$A$2:$B$32,2,FALSE) -> 11 | N15: juez1301conocimiento@justiciamilitar.gov.co/sjuez1301con@justiciamilitar.gov.co | O15: 1220/1337 | P15: 1220 | Q15: =VLOOKUP(C15,'directorio 3 ago 26'!$A$2:$K$658,7,FALSE) -> 1221 | R15: =_xlfn.CONCAT(Tabla22[[#This Row],[phone2]],"/",Tabla22[[#This Row],[phone3]]) -> 1220/1221 | S15: Carrera 46 No. 20 C - 01 (Puente Aranda) Cantón Militar Occidental “Coronel Francisco José de Caldas” | T15: =VLOOKUP(A15,'directorio 3 ago 26'!$A$2:$J$658,9,FALSE) -> Carrera 46 No. 20 C - 01 (Puente Aranda) Cantón Militar Occidental “Coronel Francisco José de Caldas” | U15: lunes a viernes de 08:00 a 17:00 horas | V15: =VLOOKUP(A15,'directorio 3 ago 26'!$A$2:$J$658,10,FALSE) -> LUNES A VIERNES DE 08:00 A 17:00 HORAS
A16: juez1302con@justiciamilitar.gov.co | B16: juez1302conocimiento@justiciamilitar.gov.co/sjuez1302con@justiciamilitar.gov.co | C16: sjuez1302con@justiciamilitar.gov.co | D16: PRIMERA INSTANCIA | E16: PONAL FFMM | F16: Juzgado 1302 Penal Militar y Policial de Conocimiento | G16: =VLOOKUP(A16,'directorio 3 ago 26'!$A$2:$J$658,3,FALSE) -> Juzgado 1302 Penal Militar y Policial de Conocimiento | H16: Bogotá, D.C. | I16: =VLOOKUP(A16,'directorio 3 ago 26'!$A$2:$J$658,4,FALSE) -> Bogotá D.C. | J16: Bogotá, D.C. | K16: =VLOOKUP(A16,'directorio 3 ago 26'!$A$2:$J$658,5,FALSE) -> Bogotá D.C. | L16: 11 | M16: =VLOOKUP(Tabla22[[#This Row],[dptoTxt2]],dane!$A$2:$B$32,2,FALSE) -> 11 | N16: juez1302conocimiento@justiciamilitar.gov.co/sjuez1302con@justiciamilitar.gov.co | O16: 1218 | P16: 1218 | Q16: =VLOOKUP(C16,'directorio 3 ago 26'!$A$2:$K$658,7,FALSE) -> 1219 | R16: =_xlfn.CONCAT(Tabla22[[#This Row],[phone2]],"/",Tabla22[[#This Row],[phone3]]) -> 1218/1219 | S16: Carrera 46 No. 20 C - 01 (Puente Aranda) Cantón Militar Occidental “Coronel Francisco José de Caldas” | T16: =VLOOKUP(A16,'directorio 3 ago 26'!$A$2:$J$658,9,FALSE) -> Carrera 46 No. 20 C - 01 (Puente Aranda) Cantón Militar Occidental “Coronel Francisco José de Caldas” | U16: lunes a viernes de 08:00 a 17:00 horas | V16: =VLOOKUP(A16,'directorio 3 ago 26'!$A$2:$J$658,10,FALSE) -> LUNES A VIERNES DE 08:00 A 17:00 HORAS
A17: juzgado1305con@justiciamilitar.gov.co | B17: juzgado1305con@justiciamilitar.gov.co/sjuez1305con@justiciamilitar.gov.co | C17: sjuez1305con@justiciamilitar.gov.co | D17: PRIMERA INSTANCIA | E17: FFMM | F17: Juzgado 1305 Penal Militar y Policial de Conocimiento | G17: =VLOOKUP(A17,'directorio 3 ago 26'!$A$2:$J$658,3,FALSE) -> Juzgado 1305 Penal Militar y Policial de Conocimiento | H17: Bogotá, D.C. | I17: =VLOOKUP(A17,'directorio 3 ago 26'!$A$2:$J$658,4,FALSE) -> Bogotá D.C. | J17: Bogotá, D.C. | K17: =VLOOKUP(A17,'directorio 3 ago 26'!$A$2:$J$658,5,FALSE) -> Bogotá D.C. | L17: 11 | M17: =VLOOKUP(Tabla22[[#This Row],[dptoTxt2]],dane!$A$2:$B$32,2,FALSE) -> 11 | N17: juzgado1305con@justiciamilitar.gov.co/sjuez1305con@justiciamilitar.gov.co | O17: 1345 | P17: 0 | Q17: =VLOOKUP(C17,'directorio 3 ago 26'!$A$2:$K$658,7,FALSE) -> 0 | S17: Carrera 46 No. 20 C - 01 (Puente Aranda) Cantón Militar Occidental “Coronel Francisco José de Caldas” | T17: =VLOOKUP(A17,'directorio 3 ago 26'!$A$2:$J$658,9,FALSE) -> Carrera 46 No. 20 C - 01 (Puente Aranda) Cantón Militar Occidental “Coronel Francisco José de Caldas” | U17: lunes a viernes de 08:00 a 17:00 horas | V17: =VLOOKUP(A17,'directorio 3 ago 26'!$A$2:$J$658,10,FALSE) -> LUNES A VIERNES DE 08:00 A 17:00 HORAS
A18: juzgado1306con@justiciamilitar.gov.co | B18: juzgado1306con@justiciamilitar.gov.co | D18: PRIMERA INSTANCIA | E18: FFMM | F18: Juzgado 1306 Penal Militar y Policial de Conocimiento | G18: =VLOOKUP(A18,'directorio 3 ago 26'!$A$2:$J$658,3,FALSE) -> Juzgado 1306 Penal Militar y Policial de Conocimiento | H18: Bogotá, D.C. | I18: =VLOOKUP(A18,'directorio 3 ago 26'!$A$2:$J$658,4,FALSE) -> Bogotá D.C. | J18: Bogotá, D.C. | K18: =VLOOKUP(A18,'directorio 3 ago 26'!$A$2:$J$658,5,FALSE) -> Bogotá D.C. | L18: 11 | M18: =VLOOKUP(Tabla22[[#This Row],[dptoTxt2]],dane!$A$2:$B$32,2,FALSE) -> 11 | N18: juzgado1306con@justiciamilitar.gov.co | P18: 1330 | Q18: =VLOOKUP(C18,'directorio 3 ago 26'!$A$2:$K$658,7,FALSE) -> #N/A | R18: 1330 | S18: Carrera 46 No. 20 C - 01 (Puente Aranda) Cantón Militar Occidental “Coronel Francisco José de Caldas” | T18: =VLOOKUP(A18,'directorio 3 ago 26'!$A$2:$J$658,9,FALSE) -> Carrera 46 No. 20 C - 01 (Puente Aranda) Cantón Militar Occidental “Coronel Francisco José de Caldas” | U18: lunes a viernes de 08:00 a 17:00 horas | V18: =VLOOKUP(A18,'directorio 3 ago 26'!$A$2:$J$658,10,FALSE) -> LUNES A VIERNES DE 08:00 A 17:00 HORAS
A19: Juzgado1307con@justiciamilitar.gov.co | B19: Juzgado1307con@justiciamilitar.gov.co/sjuez1307con@justiciamilitar.gov.co | C19: sjuez1307con@justiciamilitar.gov.co | D19: PRIMERA INSTANCIA | E19: FFMM | F19: Juzgado 1307 Penal Militar y Policial de Conocimiento | G19: =VLOOKUP(A19,'directorio 3 ago 26'!$A$2:$J$658,3,FALSE) -> Juzgado 1307 Penal Militar y Policial de Conocimiento | H19: Neiva | I19: =VLOOKUP(A19,'directorio 3 ago 26'!$A$2:$J$658,4,FALSE) -> Neiva | J19: Huila | K19: =VLOOKUP(A19,'directorio 3 ago 26'!$A$2:$J$658,5,FALSE) -> Huila | L19: 41 | M19: =VLOOKUP(Tabla22[[#This Row],[dptoTxt2]],dane!$A$2:$B$32,2,FALSE) -> 41 | N19: Juzgado1307con@justiciamilitar.gov.co/sjuez1307con@justiciamilitar.gov.co | O19: 2414 | P19: 0 | Q19: =VLOOKUP(C19,'directorio 3 ago 26'!$A$2:$K$658,7,FALSE) -> 0 | S19: Carrera 16 No. 21 - 300. Batallón de Artillería No. 9. "Tenerife". | T19: =VLOOKUP(A19,'directorio 3 ago 26'!$A$2:$J$658,9,FALSE) -> Carrera 16 No. 21 - 300. Batallón de Artillería No. 9. "Tenerife". | U19: lunes a viernes de 08:00 a 18:00 horas | V19: =VLOOKUP(A19,'directorio 3 ago 26'!$A$2:$J$658,10,FALSE) -> LUNES A VIERNES DE 08:00 A 18:00 HORAS
A20: Juzgado1308con@justiciamilitar.gov.co | B20: Juzgado1308con@justiciamilitar.gov.co/sjuez1308con@justiciamilitar.gov.co | C20: sjuez1308con@justiciamilitar.gov.co | D20: PRIMERA INSTANCIA | E20: PONAL | F20: Juzgado 1308 Penal Militar y Policial de Conocimiento | G20: =VLOOKUP(A20,'directorio 3 ago 26'!$A$2:$J$658,3,FALSE) -> Juzgado 1308 Penal Militar y Policial de Conocimiento | H20: Ibagué | I20: =VLOOKUP(A20,'directorio 3 ago 26'!$A$2:$J$658,4,FALSE) -> Ibagué | J20: Tolima | K20: =VLOOKUP(A20,'directorio 3 ago 26'!$A$2:$J$658,5,FALSE) -> Tolima | L20: 73 | M20: =VLOOKUP(Tabla22[[#This Row],[dptoTxt2]],dane!$A$2:$B$32,2,FALSE) -> 73 | N20: Juzgado1308con@justiciamilitar.gov.co/sjuez1308con@justiciamilitar.gov.co | P20: 0 | Q20: =VLOOKUP(C20,'directorio 3 ago 26'!$A$2:$K$658,7,FALSE) -> 0 | S20: CR 48 SUR # 157-199 Bloque A, PISO 2 Comando Departamento Policía Tolima Sector Picaleña | T20: =VLOOKUP(A20,'directorio 3 ago 26'!$A$2:$J$658,9,FALSE) -> Carrera 48 Sur No. 157-199 Bloque A, Piso 2 Comando Departamento Policía Tolima Sector Picaleña | U20: lunes a viernes de 08:00 a 18:00 horas | V20: =VLOOKUP(A20,'directorio 3 ago 26'!$A$2:$J$658,10,FALSE) -> LUNES A VIERNES DE 08:00 A 18:00 HORAS
A21: Juzgado1309con@justiciamilitar.gov.co | B21: Juzgado1309con@justiciamilitar.gov.co/sjuez1309con@justiciamilitar.gov.co | C21: sjuez1309con@justiciamilitar.gov.co | D21: PRIMERA INSTANCIA | E21: FFMM | F21: Juzgado 1309 Penal Militar y Policial de Conocimiento | G21: =VLOOKUP(A21,'directorio 3 ago 26'!$A$2:$J$658,3,FALSE) -> Juzgado 1309 Penal Militar y Policial de Conocimiento | H21: Armenia | I21: =VLOOKUP(A21,'directorio 3 ago 26'!$A$2:$J$658,4,FALSE) -> Armenia | J21: Quindío | K21: =VLOOKUP(A21,'directorio 3 ago 26'!$A$2:$J$658,5,FALSE) -> Quindío | L21: 63 | M21: =VLOOKUP(Tabla22[[#This Row],[dptoTxt2]],dane!$A$2:$B$32,2,FALSE) -> 63 | N21: Juzgado1309con@justiciamilitar.gov.co/sjuez1309con@justiciamilitar.gov.co | O21: 2452/2453 | P21: 2452 | Q21: =VLOOKUP(C21,'directorio 3 ago 26'!$A$2:$K$658,7,FALSE) -> 2453 | R21: =_xlfn.CONCAT(Tabla22[[#This Row],[phone2]],"/",Tabla22[[#This Row],[phone3]]) -> 2452/2453 | S21: Avenida Bolívar No. 25 Norte 00 - Octava Brigada Ejército Nacional | T21: =VLOOKUP(A21,'directorio 3 ago 26'!$A$2:$J$658,9,FALSE) -> Avenida Bolívar No. 25 Norte 00 - Octava Brigada Ejército Nacional - Palacio de Justicia Penal Militar y Policial | U21: lunes a viernes de 08:00 a 18:00 horas | V21: =VLOOKUP(A21,'directorio 3 ago 26'!$A$2:$J$658,10,FALSE) -> LUNES A VIERNES DE 08:00 A 18:00 HORAS
A22: juzgado1310con@justiciamilitar.gov.co | B22: juzgado1310con@justiciamilitar.gov.co/sjuez1310con@justiciamilitar.gov.co | C22: sjuez1310con@justiciamilitar.gov.co | D22: PRIMERA INSTANCIA | E22: PONAL | F22: Juzgado 1310 Penal Militar y Policial de Conocimiento | G22: =VLOOKUP(A22,'directorio 3 ago 26'!$A$2:$J$658,3,FALSE) -> Juzgado 1310 Penal Militar y Policial de Conocimiento | H22: Armenia | I22: =VLOOKUP(A22,'directorio 3 ago 26'!$A$2:$J$658,4,FALSE) -> Armenia | J22: Quindío | K22: =VLOOKUP(A22,'directorio 3 ago 26'!$A$2:$J$658,5,FALSE) -> Quindío | L22: 63 | M22: =VLOOKUP(Tabla22[[#This Row],[dptoTxt2]],dane!$A$2:$B$32,2,FALSE) -> 63 | N22: juzgado1310con@justiciamilitar.gov.co/sjuez1310con@justiciamilitar.gov.co | O22: 2486/2489 | P22: 2486 | Q22: =VLOOKUP(C22,'directorio 3 ago 26'!$A$2:$K$658,7,FALSE) -> 2489 | R22: =_xlfn.CONCAT(Tabla22[[#This Row],[phone2]],"/",Tabla22[[#This Row],[phone3]]) -> 2486/2489 | S22: Avenida Bolívar No. 25 Norte 00 - Octava Brigada Ejército Nacional | T22: =VLOOKUP(A22,'directorio 3 ago 26'!$A$2:$J$658,9,FALSE) -> Avenida Bolívar No. 25 Norte 00 - Octava Brigada Ejército Nacional - Palacio de Justicia Penal Militar y Policial | U22: lunes a viernes de 08:00 a 18:00 horas | V22: =VLOOKUP(A22,'directorio 3 ago 26'!$A$2:$J$658,10,FALSE) -> LUNES A VIERNES DE 08:00 A 18:00 HORAS
A23: juzgado1311con@justiciamilitar.gov.co | B23: juzgado1311con@justiciamilitar.gov.co/sjuez1311con@justiciamilitar.gov.co | C23: sjuez1311con@justiciamilitar.gov.co | D23: PRIMERA INSTANCIA | E23: FFMM | F23: Juzgado 1311 Penal Militar y Policial de Conocimiento | G23: =VLOOKUP(A23,'directorio 3 ago 26'!$A$2:$J$658,3,FALSE) -> Juzgado 1311 Penal Militar y Policial de Conocimiento | H23: Popayán | I23: =VLOOKUP(A23,'directorio 3 ago 26'!$A$2:$J$658,4,FALSE) -> Popayán | J23: Cauca | K23: =VLOOKUP(A23,'directorio 3 ago 26'!$A$2:$J$658,5,FALSE) -> Cauca | L23: 19 | M23: =VLOOKUP(Tabla22[[#This Row],[dptoTxt2]],dane!$A$2:$B$32,2,FALSE) -> 19 | N23: juzgado1311con@justiciamilitar.gov.co/sjuez1311con@justiciamilitar.gov.co | O23: 2502/2503 | P23: 0 | Q23: =VLOOKUP(C23,'directorio 3 ago 26'!$A$2:$K$658,7,FALSE) -> 0 | S23: Avenida Los Cuarteles No. 80 - 00 - Cantón Militar José Hilario López - Tercera División del Ejército - Brigada No. 29. | T23: =VLOOKUP(A23,'directorio 3 ago 26'!$A$2:$J$658,9,FALSE) -> Avenida Los Cuarteles No. 80 - 00 - Cantón Militar José Hilario López - Tercera División del Ejército - Brigada No. 29. | U23: lunes a viernes de 08:00 a 18:00 horas | V23: =VLOOKUP(A23,'directorio 3 ago 26'!$A$2:$J$658,10,FALSE) -> LUNES A VIERNES DE 08:00 A 18:00 HORAS
A24: juzgado1312con@justiciamilitar.gov.co | B24: juzgado1312con@justiciamilitar.gov.co/sjuez1312con@justiciamilitar.gov.co | C24: sjuez1312con@justiciamilitar.gov.co | D24: PRIMERA INSTANCIA | E24: PONAL | F24: Juzgado 1312 Penal Militar y Policial de Conocimiento | G24: =VLOOKUP(A24,'directorio 3 ago 26'!$A$2:$J$658,3,FALSE) -> Juzgado 1312 Penal Militar y Policial de Conocimiento | H24: Popayán | I24: =VLOOKUP(A24,'directorio 3 ago 26'!$A$2:$J$658,4,FALSE) -> Popayán | J24: Cauca | K24: =VLOOKUP(A24,'directorio 3 ago 26'!$A$2:$J$658,5,FALSE) -> Cauca | L24: 19 | M24: =VLOOKUP(Tabla22[[#This Row],[dptoTxt2]],dane!$A$2:$B$32,2,FALSE) -> 19 | N24: juzgado1312con@justiciamilitar.gov.co/sjuez1312con@justiciamilitar.gov.co | P24: 0 | Q24: =VLOOKUP(C24,'directorio 3 ago 26'!$A$2:$K$658,7,FALSE) -> 0 | S24: Avenida Panamericana 1N-75 Complejo Policial IJ. DIEGO MARÍA GUERRERO NAVIA - Comando Departamento de Policía Cauca - Edificio 7, Piso 3 | T24: =VLOOKUP(A24,'directorio 3 ago 26'!$A$2:$J$658,9,FALSE) -> Avenida Panamericana 1N-75 Complejo Policial IJ. DIEGO MARÍA GUERRERO NAVIA - Comando Departamento de Policía Cauca - Edificio 7, Piso 3 | U24: lunes a viernes de 08:00 a 18:00 horas | V24: =VLOOKUP(A24,'directorio 3 ago 26'!$A$2:$J$658,10,FALSE) -> LUNES A VIERNES DE 08:00 A 18:00 HORAS
A25: juzgado1313con@justiciamilitar.gov.co | B25: juzgado1313con@justiciamilitar.gov.co/sjuez1313con@justiciamilitar.gov.co | C25: sjuez1313con@justiciamilitar.gov.co | D25: PRIMERA INSTANCIA | E25: FFMM | F25: Juzgado 1313 Penal Militar y Policial de Conocimiento | G25: =VLOOKUP(A25,'directorio 3 ago 26'!$A$2:$J$658,3,FALSE) -> Juzgado 1313 Penal Militar y Policial de Conocimiento | H25: Ipiales | I25: =VLOOKUP(A25,'directorio 3 ago 26'!$A$2:$J$658,4,FALSE) -> Ipiales | J25: Nariño | K25: =VLOOKUP(A25,'directorio 3 ago 26'!$A$2:$J$658,5,FALSE) -> Nariño | L25: 52 | M25: =VLOOKUP(Tabla22[[#This Row],[dptoTxt2]],dane!$A$2:$B$32,2,FALSE) -> 52 | N25: juzgado1313con@justiciamilitar.gov.co/sjuez1313con@justiciamilitar.gov.co | O25: 2508 | P25: 0 | Q25: =VLOOKUP(C25,'directorio 3 ago 26'!$A$2:$K$658,7,FALSE) -> 0 | S25: Carrera 6 No. 17 - 51. Frente al Parque Santander. Grupo de Caballería Mecanizado No. 3. “Gral. José Maria Cabal" | T25: =VLOOKUP(A25,'directorio 3 ago 26'!$A$2:$J$658,9,FALSE) -> Carrera 6 No. 17 - 51. Frente al Parque Santander. Grupo de Caballería Mecanizado No. 3. “Gral. José Maria Cabal" | U25: lunes a viernes de 08:00 a 18:00 horas | V25: =VLOOKUP(A25,'directorio 3 ago 26'!$A$2:$J$658,10,FALSE) -> LUNES A VIERNES DE 08:00 A 18:00 HORAS
A26: juzgado1314con@justiciamilitar.gov.co | B26: juzgado1314con@justiciamilitar.gov.co/sjjuez1314con@justiciamilitar.gov.co | C26: sjjuez1314con@justiciamilitar.gov.co | D26: PRIMERA INSTANCIA | E26: PONAL | F26: Juzgado 1314 Penal Militar y Policial de Conocimiento | G26: =VLOOKUP(A26,'directorio 3 ago 26'!$A$2:$J$658,3,FALSE) -> Juzgado 1314 Penal Militar y Policial de Conocimiento | H26: Pasto | I26: =VLOOKUP(A26,'directorio 3 ago 26'!$A$2:$J$658,4,FALSE) -> Pasto | J26: Nariño | K26: =VLOOKUP(A26,'directorio 3 ago 26'!$A$2:$J$658,5,FALSE) -> Nariño | L26: 52 | M26: =VLOOKUP(Tabla22[[#This Row],[dptoTxt2]],dane!$A$2:$B$32,2,FALSE) -> 52 | N26: juzgado1314con@justiciamilitar.gov.co/sjjuez1314con@justiciamilitar.gov.co | P26: 0 | Q26: =VLOOKUP(C26,'directorio 3 ago 26'!$A$2:$K$658,7,FALSE) -> 0 | T26: =VLOOKUP(A26,'directorio 3 ago 26'!$A$2:$J$658,9,FALSE) -> Calle 22 No. 14 -47, Avenida Colombia - Instalaciones del Batallón ASPC No. 23 "Gr. Ramón Espina" Cantón Militar Boyacá | U26: lunes a viernes de 08:00 a 18:00 horas | V26: =VLOOKUP(A26,'directorio 3 ago 26'!$A$2:$J$658,10,FALSE) -> LUNES A VIERNES DE 08:00 A 18:00 HORAS
A27: juzgado1315con@justiciamilitar.gov.co | B27: juzgado1315con@justiciamilitar.gov.co/sjuez1315con@justiciamilitar.gov.co | C27: sjuez1315con@justiciamilitar.gov.co | D27: PRIMERA INSTANCIA | E27: FFMM | F27: Juzgado 1315 Penal Militar y Policial de Conocimiento | G27: =VLOOKUP(A27,'directorio 3 ago 26'!$A$2:$J$658,3,FALSE) -> Juzgado 1315 Penal Militar y Policial de Conocimiento | H27: Cali | I27: =VLOOKUP(A27,'directorio 3 ago 26'!$A$2:$J$658,4,FALSE) -> Cali | J27: Valle del Cauca | K27: =VLOOKUP(A27,'directorio 3 ago 26'!$A$2:$J$658,5,FALSE) -> Valle del Cauca | L27: 76 | M27: =VLOOKUP(Tabla22[[#This Row],[dptoTxt2]],dane!$A$2:$B$32,2,FALSE) -> 76 | N27: juzgado1315con@justiciamilitar.gov.co/sjuez1315con@justiciamilitar.gov.co | O27: 2476/2477 | P27: 0 | Q27: =VLOOKUP(C27,'directorio 3 ago 26'!$A$2:$K$658,7,FALSE) -> 0 | S27: Calle 5 No. 83 – 00. Batallón De infantería No. 8. Batalla De Pichincha. Piso 2. | T27: =VLOOKUP(A27,'directorio 3 ago 26'!$A$2:$J$658,9,FALSE) -> Calle 5 No. 83-00 / Tercera Brigada - Cantón Militar Pichincha | U27: lunes a viernes de 08:00 a 18:00 horas | V27: =VLOOKUP(A27,'directorio 3 ago 26'!$A$2:$J$658,10,FALSE) -> LUNES A VIERNES DE 08:00 A 18:00 HORAS
A28: juzgado1316con@justiciamilitar.gov.co | B28: juzgado1316con@justiciamilitar.gov.co/sjuez1316con@justiciamilitar.gov.co | C28: sjuez1316con@justiciamilitar.gov.co | D28: PRIMERA INSTANCIA | E28: PONAL | F28: Juzgado 1316 Penal Militar y Policial de Conocimiento | G28: =VLOOKUP(A28,'directorio 3 ago 26'!$A$2:$J$658,3,FALSE) -> Juzgado 1316 Penal Militar y Policial de Conocimiento | H28: Cali | I28: =VLOOKUP(A28,'directorio 3 ago 26'!$A$2:$J$658,4,FALSE) -> Cali | J28: Valle del Cauca | K28: =VLOOKUP(A28,'directorio 3 ago 26'!$A$2:$J$658,5,FALSE) -> Valle del Cauca | L28: 76 | M28: =VLOOKUP(Tabla22[[#This Row],[dptoTxt2]],dane!$A$2:$B$32,2,FALSE) -> 76 | N28: juzgado1316con@justiciamilitar.gov.co/sjuez1316con@justiciamilitar.gov.co | P28: 0 | Q28: =VLOOKUP(C28,'directorio 3 ago 26'!$A$2:$K$658,7,FALSE) -> 0 | S28: CR 3RA NORTE # 24N - 16 Barrio: El piloto Edificio el Piloto Instalaciones de Incorporación y Disciplina de la Policía | T28: =VLOOKUP(A28,'directorio 3 ago 26'!$A$2:$J$658,9,FALSE) -> Carrera 3 Norte No. 24N - 16 Barrio El piloto Edificio el Piloto Instalaciones de Incorporación y Disciplina de la Policía | U28: lunes a viernes de 08:00 a 18:00 horas | V28: =VLOOKUP(A28,'directorio 3 ago 26'!$A$2:$J$658,10,FALSE) -> LUNES A VIERNES DE 08:00 A 18:00 HORAS
A29: juzgado1317con@justiciamilitar.gov.co | B29: juzgado1317con@justiciamilitar.gov.co | D29: PRIMERA INSTANCIA | E29: PONAL FFMM | F29: Juzgado 1317 Penal Militar y Policial de Conocimiento | G29: =VLOOKUP(A29,'directorio 3 ago 26'!$A$2:$J$658,3,FALSE) -> Juzgado 1317 Penal Militar y Policial de Conocimiento | H29: Carepa | I29: =VLOOKUP(A29,'directorio 3 ago 26'!$A$2:$J$658,4,FALSE) -> Carepa | J29: Antioquia | K29: =VLOOKUP(A29,'directorio 3 ago 26'!$A$2:$J$658,5,FALSE) -> Antioquia | L29: 5 | M29: =VLOOKUP(Tabla22[[#This Row],[dptoTxt2]],dane!$A$2:$B$32,2,FALSE) -> 5 | N29: juzgado1317con@justiciamilitar.gov.co | P29: 0 | Q29: =VLOOKUP(C29,'directorio 3 ago 26'!$A$2:$K$658,7,FALSE) -> #N/A | S29: Kilómetro 1 Vía Al Mar. Brigada No. 17 del Ejército. Palacio de Justicia. | T29: =VLOOKUP(A29,'directorio 3 ago 26'!$A$2:$J$658,9,FALSE) -> Kilómetro 1 Vía Al Mar. Brigada No. 17 del Ejército. Palacio de Justicia. | U29: lunes a viernes de 08:00 a 18:00 horas | V29: =VLOOKUP(A29,'directorio 3 ago 26'!$A$2:$J$658,10,FALSE) -> LUNES A VIERNES DE 08:00 A 18:00 HORAS
A30: juzgado1318con@justiciamilitar.gov.co | B30: juzgado1318con@justiciamilitar.gov.co/sjjuez8debri@justiciamilitar.gov.co | C30: sjjuez8debri@justiciamilitar.gov.co | D30: PRIMERA INSTANCIA | E30: FFMM | F30: Juzgado 1318 Penal Militar y Policial de Conocimiento | G30: =VLOOKUP(A30,'directorio 3 ago 26'!$A$2:$J$658,3,FALSE) -> Juzgado 1318 Penal Militar y Policial de Conocimiento | H30: Medellín | I30: =VLOOKUP(A30,'directorio 3 ago 26'!$A$2:$J$658,4,FALSE) -> Medellín | J30: Antioquia | K30: =VLOOKUP(A30,'directorio 3 ago 26'!$A$2:$J$658,5,FALSE) -> Antioquia | L30: 5 | M30: =VLOOKUP(Tabla22[[#This Row],[dptoTxt2]],dane!$A$2:$B$32,2,FALSE) -> 5 | N30: juzgado1318con@justiciamilitar.gov.co/sjjuez8debri@justiciamilitar.gov.co | O30: 2200/2201 | P30: 2201 | Q30: =VLOOKUP(C30,'directorio 3 ago 26'!$A$2:$K$658,7,FALSE) -> 1360 | R30: =_xlfn.CONCAT(Tabla22[[#This Row],[phone2]],"/",Tabla22[[#This Row],[phone3]]) -> 2201/1360 | S30: Carrera 76 #50-175 Barrio: Los Colores. Instalaciones Cuarta Brigada | T30: =VLOOKUP(A30,'directorio 3 ago 26'!$A$2:$J$658,9,FALSE) -> Carrera 76 No. 50-175 Barrio: Los Colores. Instalaciones Cuarta Brigada | U30: lunes a viernes de 08:00 a 18:00 horas | V30: =VLOOKUP(A30,'directorio 3 ago 26'!$A$2:$J$658,10,FALSE) -> LUNES A VIERNES DE 08:00 A 18:00 HORAS
A31: juzgado1319con@justiciamilitar.gov.co | B31: juzgado1319con@justiciamilitar.gov.co/sjjuez154deIPMPOL@justiciamilitar.gov.co | C31: sjjuez154deIPMPOL@justiciamilitar.gov.co | D31: PRIMERA INSTANCIA | E31: PONAL | F31: Juzgado 1319 Penal Militar y Policial de Conocimiento | G31: =VLOOKUP(A31,'directorio 3 ago 26'!$A$2:$J$658,3,FALSE) -> Juzgado 1319 Penal Militar y Policial de Conocimiento | H31: Medellín | I31: =VLOOKUP(A31,'directorio 3 ago 26'!$A$2:$J$658,4,FALSE) -> Medellín | J31: Antioquia | K31: =VLOOKUP(A31,'directorio 3 ago 26'!$A$2:$J$658,5,FALSE) -> Antioquia | L31: 5 | M31: =VLOOKUP(Tabla22[[#This Row],[dptoTxt2]],dane!$A$2:$B$32,2,FALSE) -> 5 | N31: juzgado1319con@justiciamilitar.gov.co/sjjuez154deIPMPOL@justiciamilitar.gov.co | P31: 0 | Q31: =VLOOKUP(C31,'directorio 3 ago 26'!$A$2:$K$658,7,FALSE) -> 0 | S31: Calle 48 # 45 – 58, Avenida Oriental Comando de Policia Metropolitana del Valle de Aburra | T31: =VLOOKUP(A31,'directorio 3 ago 26'!$A$2:$J$658,9,FALSE) -> Calle 48 No. 45 – 58, Avenida Oriental Comando de Policia Metropolitana del Valle de Aburra | U31: lunes a viernes de 08:00 a 18:00 horas | V31: =VLOOKUP(A31,'directorio 3 ago 26'!$A$2:$J$658,10,FALSE) -> LUNES A VIERNES DE 08:00 A 18:00 HORAS
A32: juzgado1322con@justiciamilitar.gov.co | B32: juzgado1322con@justiciamilitar.gov.co | D32: PRIMERA INSTANCIA | E32: FFMM | F32: Juzgado 1322 Penal Militar y Policial de Conocimiento | G32: =VLOOKUP(A32,'directorio 3 ago 26'!$A$2:$J$658,3,FALSE) -> Juzgado 1322 Penal Militar y Policial de Conocimiento | H32: Cartagena | I32: =VLOOKUP(A32,'directorio 3 ago 26'!$A$2:$J$658,4,FALSE) -> Cartagena | J32: Bolívar | K32: =VLOOKUP(A32,'directorio 3 ago 26'!$A$2:$J$658,5,FALSE) -> Bolívar | L32: 13 | M32: =VLOOKUP(Tabla22[[#This Row],[dptoTxt2]],dane!$A$2:$B$32,2,FALSE) -> 13 | N32: juzgado1322con@justiciamilitar.gov.co | P32: 0 | Q32: =VLOOKUP(C32,'directorio 3 ago 26'!$A$2:$K$658,7,FALSE) -> #N/A | S32: Carrera 24 No. 25A - 09 Tercer piso - Barrio Manga | T32: =VLOOKUP(A32,'directorio 3 ago 26'!$A$2:$J$658,9,FALSE) -> Carrera 24 No. 25A - 09 Tercer piso - Barrio Manga / piso 3 Instalaciones Metropolitana de Policía de Cartagena | U32: lunes a viernes de 08:00 a 18:00 horas | V32: =VLOOKUP(A32,'directorio 3 ago 26'!$A$2:$J$658,10,FALSE) -> LUNES A VIERNES DE 08:00 A 18:00 HORAS
A33: fiscalia2468con@justiciamilitar.gov.co | B33: fiscalia2468con@justiciamilitar.gov.co/sjjuez21deipm@justiciamilitar.gov.co | C33: sjjuez21deipm@justiciamilitar.gov.co | D33: PRIMERA INSTANCIA | E33: FFMM | F33: Juzgado 1323 Penal Militar y Policial de Conocimiento | G33: =VLOOKUP(A33,'directorio 3 ago 26'!$A$2:$J$658,3,FALSE) -> Fiscalía 2468 Penal Militar y Policial Delegada ante Juez Penal Militar y Policial de Conocimiento | H33: Valledupar | I33: =VLOOKUP(A33,'directorio 3 ago 26'!$A$2:$J$658,4,FALSE) -> Montería | J33: Cesar | K33: =VLOOKUP(A33,'directorio 3 ago 26'!$A$2:$J$658,5,FALSE) -> Córdoba | L33: 20 | M33: =VLOOKUP(Tabla22[[#This Row],[dptoTxt2]],dane!$A$2:$B$32,2,FALSE) -> 23 | N33: fiscalia2468con@justiciamilitar.gov.co/sjjuez21deipm@justiciamilitar.gov.co | O33: 2162/2163 | P33: 0 | Q33: =VLOOKUP(C33,'directorio 3 ago 26'!$A$2:$K$658,7,FALSE) -> #N/A | S33: Kilómetro 1 vía La Mesa - Batallón de Artillería No. 2 La Popa - Palacio de Justicia | T33: =VLOOKUP(A33,'directorio 3 ago 26'!$A$2:$J$658,9,FALSE) -> Carrera 19 No. 25 - 116 Piso 2 / Comando de Departamento de Policía Sucre | U33: lunes a viernes de 08:00 a 18:00 horas | V33: =VLOOKUP(A33,'directorio 3 ago 26'!$A$2:$J$658,10,FALSE) -> LUNES A VIERNES DE 08:00 A 18:00 HORAS
A34: juzgado1324con@justiciamilitar.gov.co | B34: juzgado1324con@justiciamilitar.gov.co/sfFiscal17anteJB@justiciamilitar.gov.co | C34: sfFiscal17anteJB@justiciamilitar.gov.co | D34: PRIMERA INSTANCIA | E34: FFMM | F34: Juzgado 1324 Penal Militar y Policial de Conocimiento | G34: =VLOOKUP(A34,'directorio 3 ago 26'!$A$2:$J$658,3,FALSE) -> Juzgado 1324 Penal Militar y Policial de Conocimiento | H34: Cúcuta | I34: =VLOOKUP(A34,'directorio 3 ago 26'!$A$2:$J$658,4,FALSE) -> Cúcuta | J34: Norte de Santander | K34: =VLOOKUP(A34,'directorio 3 ago 26'!$A$2:$J$658,5,FALSE) -> Norte de Santander | L34: 54 | M34: =VLOOKUP(Tabla22[[#This Row],[dptoTxt2]],dane!$A$2:$B$32,2,FALSE) -> 54 | N34: juzgado1324con@justiciamilitar.gov.co/sfFiscal17anteJB@justiciamilitar.gov.co | O34: 2308/2309 | P34: 2309 | Q34: =VLOOKUP(C34,'directorio 3 ago 26'!$A$2:$K$658,7,FALSE) -> 2468 | R34: =_xlfn.CONCAT(Tabla22[[#This Row],[phone2]],"/",Tabla22[[#This Row],[phone3]]) -> 2309/2468 | S34: Avenida 1 Vía Al Pórtico. Canton Militar San Jorge Comando especifico del Norte de santander | T34: =VLOOKUP(A34,'directorio 3 ago 26'!$A$2:$J$658,9,FALSE) -> Avenida 1 Vía Al Pórtico. Canton Militar San Jorge Comando especifico del Norte de santander | U34: lunes a viernes de 08:00 a 18:00 horas | V34: =VLOOKUP(A34,'directorio 3 ago 26'!$A$2:$J$658,10,FALSE) -> LUNES A VIERNES DE 08:00 A 18:00 HORAS
A35: juzgado1326con@justiciamilitar.gov.co | B35: juzgado1326con@justiciamilitar.gov.co | D35: PRIMERA INSTANCIA | E35: PONAL | F35: Juzgado 1326 Penal Militar y Policial de Conocimiento | G35: =VLOOKUP(A35,'directorio 3 ago 26'!$A$2:$J$658,3,FALSE) -> Juzgado 1326 Penal Militar y Policial de Conocimiento | H35: Bucaramanga | I35: =VLOOKUP(A35,'directorio 3 ago 26'!$A$2:$J$658,4,FALSE) -> Bucaramanga | J35: Santander | K35: =VLOOKUP(A35,'directorio 3 ago 26'!$A$2:$J$658,5,FALSE) -> Santander | L35: 68 | M35: =VLOOKUP(Tabla22[[#This Row],[dptoTxt2]],dane!$A$2:$B$32,2,FALSE) -> 68 | N35: juzgado1326con@justiciamilitar.gov.co | P35: 0 | Q35: =VLOOKUP(C35,'directorio 3 ago 26'!$A$2:$K$658,7,FALSE) -> #N/A | S35: Avenida Quebrada Seca, carrera 33 Cantón Militar Palonegro | T35: =VLOOKUP(A35,'directorio 3 ago 26'!$A$2:$J$658,9,FALSE) -> Calle 14 No. 32 - 00 Batallon de Ingenieros Caldas (Guardia) Detrás del estadio | U35: lunes a viernes de 08:00 a 18:00 horas | V35: =VLOOKUP(A35,'directorio 3 ago 26'!$A$2:$J$658,10,FALSE) -> LUNES A VIERNES DE 08:00 A 17:00 HORAS
A36: juez1601ejecpe@justiciamilitar.gov.co | B36: juez1601ejecpe@justiciamilitar.gov.co/sjuez1601ejecpe@justiciamilitar.gov.co | C36: sjuez1601ejecpe@justiciamilitar.gov.co | D36: PRIMERA INSTANCIA | E36: PONAL FFMM | F36: Juzgado 1601 Penal Militar y Policial de Ejecución de Penas y Medidas de Seguridad | G36: =VLOOKUP(A36,'directorio 3 ago 26'!$A$2:$J$658,3,FALSE) -> Juzgado 1601 Penal Militar y Policial de Ejecución de Penas y Medidas de Seguridad | H36: Bogotá, D.C. | I36: =VLOOKUP(A36,'directorio 3 ago 26'!$A$2:$J$658,4,FALSE) -> Bogotá D.C. | J36: Bogotá, D.C. | K36: =VLOOKUP(A36,'directorio 3 ago 26'!$A$2:$J$658,5,FALSE) -> Bogotá D.C. | L36: 11 | M36: =VLOOKUP(Tabla22[[#This Row],[dptoTxt2]],dane!$A$2:$B$32,2,FALSE) -> 11 | N36: juez1601ejecpe@justiciamilitar.gov.co/sjuez1601ejecpe@justiciamilitar.gov.co | P36: 1212 | Q36: =VLOOKUP(C36,'directorio 3 ago 26'!$A$2:$K$658,7,FALSE) -> 0 | R36: 1212 | S36: Carrera 46 No. 20 C - 01 (Puente Aranda) Cantón Militar Occidental “Coronel Francisco José de Caldas” | T36: =VLOOKUP(A36,'directorio 3 ago 26'!$A$2:$J$658,9,FALSE) -> Carrera 46 No. 20 C - 01 (Puente Aranda) Cantón Militar Occidental “Coronel Francisco José de Caldas” | U36: lunes a viernes de 08:00 a 17:00 horas | V36: =VLOOKUP(A36,'directorio 3 ago 26'!$A$2:$J$658,10,FALSE) -> LUNES A VIERNES DE 08:00 A 17:00 HORAS
A37: juzgado1603ep@justiciamilitar.gov.co | B37: juzgado1603ep@justiciamilitar.gov.co/sjuez1306con@justiciamilitar.gov.co | C37: sjuez1306con@justiciamilitar.gov.co | D37: PRIMERA INSTANCIA | E37: PONAL FFMM | F37: Juzgado 1603 Penal Militar y Policial de Ejecución de Penas y Medidas de Seguridad | G37: =VLOOKUP(A37,'directorio 3 ago 26'!$A$2:$J$658,3,FALSE) -> Juzgado 1603 Penal Militar y Policial de Ejecución de Penas y Medidas de Seguridad | H37: Cali | I37: =VLOOKUP(A37,'directorio 3 ago 26'!$A$2:$J$658,4,FALSE) -> Rionegro | J37: Valle del Cauca | K37: =VLOOKUP(A37,'directorio 3 ago 26'!$A$2:$J$658,5,FALSE) -> Antioquia | L37: 76 | M37: =VLOOKUP(Tabla22[[#This Row],[dptoTxt2]],dane!$A$2:$B$32,2,FALSE) -> 5 | N37: juzgado1603ep@justiciamilitar.gov.co/sjuez1306con@justiciamilitar.gov.co | P37: 0 | Q37: =VLOOKUP(C37,'directorio 3 ago 26'!$A$2:$K$658,7,FALSE) -> #N/A | S37: Carrera 46 No. 20 C - 01 (Puente Aranda) Cantón Militar Occidental “Coronel Francisco José de Caldas” - Bogotá D.C. | T37: =VLOOKUP(A37,'directorio 3 ago 26'!$A$2:$J$658,9,FALSE) -> Comando Aereo De Combate Militar No. 5 / Vereda La Bodega Vía zona franca | U37: lunes a viernes de 08:00 a 18:00 horas | V37: =VLOOKUP(A37,'directorio 3 ago 26'!$A$2:$J$658,10,FALSE) -> LUNES A VIERNES DE 08:00 A 17:00 HORAS
A38: juez1701ctrlgaran@justiciamilitar.gov.co | B38: juez1701ctrlgaran@justiciamilitar.gov.co/sjuez1701garan@justiciamilitar.gov.co | C38: sjuez1701garan@justiciamilitar.gov.co | D38: PRIMERA INSTANCIA | E38: PONAL FFMM | F38: Juzgado 1701 Penal Militar y Policial de Control de Garantías | G38: =VLOOKUP(A38,'directorio 3 ago 26'!$A$2:$J$658,3,FALSE) -> Juzgado 1701 Penal Militar y Policial de Control de Garantías | H38: Bogotá, D.C. | I38: =VLOOKUP(A38,'directorio 3 ago 26'!$A$2:$J$658,4,FALSE) -> Bogotá D.C. | J38: Bogotá, D.C. | K38: =VLOOKUP(A38,'directorio 3 ago 26'!$A$2:$J$658,5,FALSE) -> Bogotá D.C. | L38: 11 | M38: =VLOOKUP(Tabla22[[#This Row],[dptoTxt2]],dane!$A$2:$B$32,2,FALSE) -> 11 | N38: juez1701ctrlgaran@justiciamilitar.gov.co/sjuez1701garan@justiciamilitar.gov.co | O38: 1222/1223 | P38: 1223 | Q38: =VLOOKUP(C38,'directorio 3 ago 26'!$A$2:$K$658,7,FALSE) -> 1224 | R38: =_xlfn.CONCAT(Tabla22[[#This Row],[phone2]],"/",Tabla22[[#This Row],[phone3]]) -> 1223/1224 | S38: Carrera 46 No. 20 C - 01 (Puente Aranda) Cantón Militar Occidental “Coronel Francisco José de Caldas” | T38: =VLOOKUP(A38,'directorio 3 ago 26'!$A$2:$J$658,9,FALSE) -> Carrera 46 No. 20 C - 01 (Puente Aranda) Cantón Militar Occidental “Coronel Francisco José de Caldas” | U38: lunes a viernes de 08:00 a 17:00 horas | V38: =VLOOKUP(A38,'directorio 3 ago 26'!$A$2:$J$658,10,FALSE) -> LUNES A VIERNES DE 08:00 A 17:00 HORAS
A39: juez1702ctrlgaran@justiciamilitar.gov.co | B39: juez1702ctrlgaran@justiciamilitar.gov.co/sjuez1702ctrlgaran@justiciamilitar.gov.co | C39: sjuez1702ctrlgaran@justiciamilitar.gov.co | D39: PRIMERA INSTANCIA | E39: PONAL FFMM | F39: Juzgado 1702 Penal Militar y Policial de Control de Garantías | G39: =VLOOKUP(A39,'directorio 3 ago 26'!$A$2:$J$658,3,FALSE) -> Juzgado 1702 Penal Militar y Policial de Control de Garantías | H39: Bogotá, D.C. | I39: =VLOOKUP(A39,'directorio 3 ago 26'!$A$2:$J$658,4,FALSE) -> Bogotá D.C. | J39: Bogotá, D.C. | K39: =VLOOKUP(A39,'directorio 3 ago 26'!$A$2:$J$658,5,FALSE) -> Bogotá D.C. | L39: 11 | M39: =VLOOKUP(Tabla22[[#This Row],[dptoTxt2]],dane!$A$2:$B$32,2,FALSE) -> 11 | N39: juez1702ctrlgaran@justiciamilitar.gov.co/sjuez1702ctrlgaran@justiciamilitar.gov.co | O39: 1224/1225 | P39: 1225 | Q39: =VLOOKUP(C39,'directorio 3 ago 26'!$A$2:$K$658,7,FALSE) -> 1226 | R39: =_xlfn.CONCAT(Tabla22[[#This Row],[phone2]],"/",Tabla22[[#This Row],[phone3]]) -> 1225/1226 | S39: Carrera 46 No. 20 C - 01 (Puente Aranda) Cantón Militar Occidental “Coronel Francisco José de Caldas” | T39: =VLOOKUP(A39,'directorio 3 ago 26'!$A$2:$J$658,9,FALSE) -> Carrera 46 No. 20 C - 01 (Puente Aranda) Cantón Militar Occidental “Coronel Francisco José de Caldas” | U39: lunes a viernes de 08:00 a 17:00 horas | V39: =VLOOKUP(A39,'directorio 3 ago 26'!$A$2:$J$658,10,FALSE) -> LUNES A VIERNES DE 08:00 A 17:00 HORAS
A40: juzgado1703gar@justiciamilitar.gov.co | B40: juzgado1703gar@justiciamilitar.gov.co/sjuez1703gar@justiciamilitar.gov.co | C40: sjuez1703gar@justiciamilitar.gov.co | D40: PRIMERA INSTANCIA | E40: PONAL FFMM | F40: Juzgado 1703 Penal Militar y Policial de Control de Garantías | G40: =VLOOKUP(A40,'directorio 3 ago 26'!$A$2:$J$658,3,FALSE) -> Juzgado 1703 Penal Militar y Policial de Control de Garantías | H40: Bogotá, D.C. | I40: =VLOOKUP(A40,'directorio 3 ago 26'!$A$2:$J$658,4,FALSE) -> Bogotá D.C. | J40: Bogotá, D.C. | K40: =VLOOKUP(A40,'directorio 3 ago 26'!$A$2:$J$658,5,FALSE) -> Bogotá D.C. | L40: 11 | M40: =VLOOKUP(Tabla22[[#This Row],[dptoTxt2]],dane!$A$2:$B$32,2,FALSE) -> 11 | N40: juzgado1703gar@justiciamilitar.gov.co/sjuez1703gar@justiciamilitar.gov.co | O40: 1227 | P40: 1227 | Q40: =VLOOKUP(C40,'directorio 3 ago 26'!$A$2:$K$658,7,FALSE) -> 0 | R40: 1227 | S40: Carrera 46 No. 20 C - 01 (Puente Aranda) Cantón Militar Occidental “Coronel Francisco José de Caldas” | T40: =VLOOKUP(A40,'directorio 3 ago 26'!$A$2:$J$658,9,FALSE) -> Carrera 46 No. 20 C - 01 (Puente Aranda) Cantón Militar Occidental “Coronel Francisco José de Caldas” | U40: lunes a viernes de 08:00 a 17:00 horas | V40: =VLOOKUP(A40,'directorio 3 ago 26'!$A$2:$J$658,10,FALSE) -> LUNES A VIERNES DE 08:00 A 17:00 HORAS
A41: juzgado1708gar@justiciamilitar.gov.co | B41: juzgado1708gar@justiciamilitar.gov.co/sjuez1708gar@justiciamilitar.gov.co | C41: sjuez1708gar@justiciamilitar.gov.co | D41: PRIMERA INSTANCIA | E41: PONAL | F41: Juzgado 1708 Penal Militar y Policial de Control de Garantías | G41: =VLOOKUP(A41,'directorio 3 ago 26'!$A$2:$J$658,3,FALSE) -> Juzgado 1708 Penal Militar y Policial de Control de Garantías | H41: Tunja | I41: =VLOOKUP(A41,'directorio 3 ago 26'!$A$2:$J$658,4,FALSE) -> Tunja | J41: Boyacá | K41: =VLOOKUP(A41,'directorio 3 ago 26'!$A$2:$J$658,5,FALSE) -> Boyacá | L41: 15 | M41: =VLOOKUP(Tabla22[[#This Row],[dptoTxt2]],dane!$A$2:$B$32,2,FALSE) -> 15 | N41: juzgado1708gar@justiciamilitar.gov.co/sjuez1708gar@justiciamilitar.gov.co | P41: 0 | Q41: =VLOOKUP(C41,'directorio 3 ago 26'!$A$2:$K$658,7,FALSE) -> 2362 | S41: Calle 8 No. 8-56 Primera Brigada Ejército Tunja Boyacá | T41: =VLOOKUP(A41,'directorio 3 ago 26'!$A$2:$J$658,9,FALSE) -> Calle 8 No. 8-56 Primera Brigada Ejército Tunja Boyacá | U41: lunes a viernes de 08:00 a 18:00 horas | V41: =VLOOKUP(A41,'directorio 3 ago 26'!$A$2:$J$658,10,FALSE) -> LUNES A VIERNES DE 08:00 A 18:00 HORAS
A42: juzgado1709gar@justiciamilitar.gov.co | B42: juzgado1709gar@justiciamilitar.gov.co/sjuez1709gar@justiciamilitar.gov.co | C42: sjuez1709gar@justiciamilitar.gov.co | D42: PRIMERA INSTANCIA | E42: PONAL FFMM | F42: Juzgado 1709 Penal Militar y Policial de Control de Garantías | G42: =VLOOKUP(A42,'directorio 3 ago 26'!$A$2:$J$658,3,FALSE) -> Juzgado 1709 Penal Militar y Policial de Control de Garantías | H42: Tolemaida | I42: =VLOOKUP(A42,'directorio 3 ago 26'!$A$2:$J$658,4,FALSE) -> Tolemaida | J42: Cundinamarca | K42: =VLOOKUP(A42,'directorio 3 ago 26'!$A$2:$J$658,5,FALSE) -> Cundinamarca | L42: 25 | M42: =VLOOKUP(Tabla22[[#This Row],[dptoTxt2]],dane!$A$2:$B$32,2,FALSE) -> 25 | N42: juzgado1709gar@justiciamilitar.gov.co/sjuez1709gar@justiciamilitar.gov.co | P42: 2363 | Q42: =VLOOKUP(C42,'directorio 3 ago 26'!$A$2:$K$658,7,FALSE) -> 0 | R42: 2363 | S42: Fuerte Militar de Tolemaida Piso 2 - Supermercado Colsubsidio - Centro Comercial Serviya | T42: =VLOOKUP(A42,'directorio 3 ago 26'!$A$2:$J$658,9,FALSE) -> Centro Comercial Zulia (Servifree), 2do Piso. Centro Nacional de Entrenamiento (CENAE) / Nilo — Cundinamarca. | U42: lunes a viernes de 08:00 a 18:00 horas | V42: =VLOOKUP(A42,'directorio 3 ago 26'!$A$2:$J$658,10,FALSE) -> LUNES A VIERNES DE 08:00 A 18:00 HORAS
A43: juzgado1710gar@justiciamilitar.gov.co | B43: juzgado1710gar@justiciamilitar.gov.co/juzgado1710gar@justiciamilitar.gov.co | C43: juzgado1710gar@justiciamilitar.gov.co | D43: PRIMERA INSTANCIA | E43: FFMM | F43: Juzgado 1710 Penal Militar y Policial de Control de Garantías | G43: =VLOOKUP(A43,'directorio 3 ago 26'!$A$2:$J$658,3,FALSE) -> Juzgado 1710 Penal Militar y Policial de Control de Garantías | H43: Neiva | I43: =VLOOKUP(A43,'directorio 3 ago 26'!$A$2:$J$658,4,FALSE) -> Neiva | J43: Huila | K43: =VLOOKUP(A43,'directorio 3 ago 26'!$A$2:$J$658,5,FALSE) -> Huila | L43: 41 | M43: =VLOOKUP(Tabla22[[#This Row],[dptoTxt2]],dane!$A$2:$B$32,2,FALSE) -> 41 | N43: juzgado1710gar@justiciamilitar.gov.co/juzgado1710gar@justiciamilitar.gov.co | P43: 0 | Q43: =VLOOKUP(C43,'directorio 3 ago 26'!$A$2:$K$658,7,FALSE) -> 0 | S43: Carrera 16 No. 21 - 300. Batallón de Artillería No. 9. "Tenerife" | T43: =VLOOKUP(A43,'directorio 3 ago 26'!$A$2:$J$658,9,FALSE) -> Carrera 16 No. 21 - 300. Batallón de Artillería No. 9. "Tenerife" | U43: lunes a viernes de 08:00 a 18:00 horas | V43: =VLOOKUP(A43,'directorio 3 ago 26'!$A$2:$J$658,10,FALSE) -> LUNES A VIERNES DE 08:00 A 18:00 HORAS
A44: juzgado1711gar@justiciamilitar.gov.co | B44: juzgado1711gar@justiciamilitar.gov.co/sffiscal164antejdpol@justiciamilitar.gov.co | C44: sffiscal164antejdpol@justiciamilitar.gov.co | D44: PRIMERA INSTANCIA | E44: PONAL | F44: Juzgado 1711 Penal Militar y Policial de Control de Garantías | G44: =VLOOKUP(A44,'directorio 3 ago 26'!$A$2:$J$658,3,FALSE) -> Juzgado 1711 Penal Militar y Policial de Control de Garantías | H44: Ibagué | I44: =VLOOKUP(A44,'directorio 3 ago 26'!$A$2:$J$658,4,FALSE) -> Ibagué | J44: Tolima | K44: =VLOOKUP(A44,'directorio 3 ago 26'!$A$2:$J$658,5,FALSE) -> Tolima | L44: 73 | M44: =VLOOKUP(Tabla22[[#This Row],[dptoTxt2]],dane!$A$2:$B$32,2,FALSE) -> 73 | N44: juzgado1711gar@justiciamilitar.gov.co/sffiscal164antejdpol@justiciamilitar.gov.co | P44: 0 | Q44: =VLOOKUP(C44,'directorio 3 ago 26'!$A$2:$K$658,7,FALSE) -> 0 | S44: Carrera 48 Sur No. 157 - 199. Bloque A. Piso: 2. Comando Departamento Policía Tolima. Sector Picaleña. | T44: =VLOOKUP(A44,'directorio 3 ago 26'!$A$2:$J$658,9,FALSE) -> Carrera 48 Sur No. 157 - 199. Bloque A. Piso: 2. Comando Departamento Policía Tolima. Sector Picaleña. | U44: lunes a viernes de 08:00 a 18:00 horas | V44: =VLOOKUP(A44,'directorio 3 ago 26'!$A$2:$J$658,10,FALSE) -> LUNES A VIERNES DE 08:00 A 18:00 HORAS
A45: juzgado1712gar@justiciamilitar.gov.co | B45: juzgado1712gar@justiciamilitar.gov.co | D45: PRIMERA INSTANCIA | E45: FFMM | F45: Juzgado 1712 Penal Militar y Policial de Control de Garantías | G45: =VLOOKUP(A45,'directorio 3 ago 26'!$A$2:$J$658,3,FALSE) -> Juzgado 1712 Penal Militar y Policial de Control de Garantías | H45: Armenia | I45: =VLOOKUP(A45,'directorio 3 ago 26'!$A$2:$J$658,4,FALSE) -> Armenia | J45: Quindío | K45: =VLOOKUP(A45,'directorio 3 ago 26'!$A$2:$J$658,5,FALSE) -> Quindío | L45: 63 | M45: =VLOOKUP(Tabla22[[#This Row],[dptoTxt2]],dane!$A$2:$B$32,2,FALSE) -> 63 | N45: juzgado1712gar@justiciamilitar.gov.co | P45: 2493 | Q45: =VLOOKUP(C45,'directorio 3 ago 26'!$A$2:$K$658,7,FALSE) -> #N/A | R45: 2493 | S45: Av. Bolívar No. 25N – 00 Comando Octava Brigada en Armenia | T45: =VLOOKUP(A45,'directorio 3 ago 26'!$A$2:$J$658,9,FALSE) -> Avenida Bolívar No. 25 Norte 00 - Octava Brigada Ejército Nacional - Palacio de Justicia Penal Militar y Policial | U45: lunes a viernes de 08:00 a 18:00 horas | V45: =VLOOKUP(A45,'directorio 3 ago 26'!$A$2:$J$658,10,FALSE) -> LUNES A VIERNES DE 08:00 A 18:00 HORAS
A46: juzgado1713gar@justiciamilitar.gov.co | B46: juzgado1713gar@justiciamilitar.gov.co/sjuez1713gar@justiciamilitar.gov.co | C46: sjuez1713gar@justiciamilitar.gov.co | D46: PRIMERA INSTANCIA | E46: PONAL | F46: Juzgado 1713 Penal Militar y Policial de Control de Garantías | G46: =VLOOKUP(A46,'directorio 3 ago 26'!$A$2:$J$658,3,FALSE) -> Juzgado 1713 Penal Militar y Policial de Control de Garantías | H46: Armenia | I46: =VLOOKUP(A46,'directorio 3 ago 26'!$A$2:$J$658,4,FALSE) -> Armenia | J46: Quindío | K46: =VLOOKUP(A46,'directorio 3 ago 26'!$A$2:$J$658,5,FALSE) -> Quindío | L46: 63 | M46: =VLOOKUP(Tabla22[[#This Row],[dptoTxt2]],dane!$A$2:$B$32,2,FALSE) -> 63 | N46: juzgado1713gar@justiciamilitar.gov.co/sjuez1713gar@justiciamilitar.gov.co | O46: 2488/2467 | P46: 2492 | Q46: =VLOOKUP(C46,'directorio 3 ago 26'!$A$2:$K$658,7,FALSE) -> 0 | R46: 2492 | S46: Av. Bolívar No. 25N – 00 Comando Octava Brigada en Armenia | T46: =VLOOKUP(A46,'directorio 3 ago 26'!$A$2:$J$658,9,FALSE) -> Avenida Bolívar No. 25 Norte 00 - Octava Brigada Ejército Nacional - Palacio de Justicia Penal Militar y Policial | U46: lunes a viernes de 08:00 a 18:00 horas | V46: =VLOOKUP(A46,'directorio 3 ago 26'!$A$2:$J$658,10,FALSE) -> LUNES A VIERNES DE 08:00 A 18:00 HORAS
A47: juzgado1714gar@justiciamilitar.gov.co | B47: juzgado1714gar@justiciamilitar.gov.co/sjuez1714gar@justiciamilitar.gov.co | C47: sjuez1714gar@justiciamilitar.gov.co | D47: PRIMERA INSTANCIA | E47: PONAL-FFMM | F47: Juzgado 1714 Penal Militar y Policial de Control de Garantías | G47: =VLOOKUP(A47,'directorio 3 ago 26'!$A$2:$J$658,3,FALSE) -> Juzgado 1714 Penal Militar y Policial de Control de Garantías | H47: Popayán | I47: =VLOOKUP(A47,'directorio 3 ago 26'!$A$2:$J$658,4,FALSE) -> Popayán | J47: Cauca | K47: =VLOOKUP(A47,'directorio 3 ago 26'!$A$2:$J$658,5,FALSE) -> Cauca | L47: 19 | M47: =VLOOKUP(Tabla22[[#This Row],[dptoTxt2]],dane!$A$2:$B$32,2,FALSE) -> 19 | N47: juzgado1714gar@justiciamilitar.gov.co/sjuez1714gar@justiciamilitar.gov.co | P47: 0 | Q47: =VLOOKUP(C47,'directorio 3 ago 26'!$A$2:$K$658,7,FALSE) -> 0 | S47: Avenida Panamericana Nº 1N-75 Comando Policia Cauca | T47: =VLOOKUP(A47,'directorio 3 ago 26'!$A$2:$J$658,9,FALSE) -> Avenida Panamericana Nº 1N-75 Comando Policia Cauca | U47: lunes a viernes de 08:00 a 18:00 horas | V47: =VLOOKUP(A47,'directorio 3 ago 26'!$A$2:$J$658,10,FALSE) -> LUNES A VIERNES DE 08:00 A 18:00 HORAS
A48: juzgado1715gar@justiciamilitar.gov.co | B48: juzgado1715gar@justiciamilitar.gov.co/sjuez1715gar@justiciamilitar.gov.co | C48: sjuez1715gar@justiciamilitar.gov.co | D48: PRIMERA INSTANCIA | E48: PONAL | F48: Juzgado 1715 Penal Militar y Policial de Control de Garantías | G48: =VLOOKUP(A48,'directorio 3 ago 26'!$A$2:$J$658,3,FALSE) -> Juzgado 1715 Penal Militar y Policial de Control de Garantías | H48: Pasto | I48: =VLOOKUP(A48,'directorio 3 ago 26'!$A$2:$J$658,4,FALSE) -> Pasto | J48: Nariño | K48: =VLOOKUP(A48,'directorio 3 ago 26'!$A$2:$J$658,5,FALSE) -> Nariño | L48: 52 | M48: =VLOOKUP(Tabla22[[#This Row],[dptoTxt2]],dane!$A$2:$B$32,2,FALSE) -> 52 | N48: juzgado1715gar@justiciamilitar.gov.co/sjuez1715gar@justiciamilitar.gov.co | P48: 0 | Q48: =VLOOKUP(C48,'directorio 3 ago 26'!$A$2:$K$658,7,FALSE) -> 0 | S48: CL 20 # 26-54 Piso 3 - Barrio Las Cuadras Comando Departamento de Policía Nariño | T48: =VLOOKUP(A48,'directorio 3 ago 26'!$A$2:$J$658,9,FALSE) -> Calle 20 No. 26-54 Piso 3 - Barrio Las Cuadras Comando Departamento de Policía Nariño | U48: lunes a viernes de 08:00 a 18:00 horas | V48: =VLOOKUP(A48,'directorio 3 ago 26'!$A$2:$J$658,10,FALSE) -> LUNES A VIERNES DE 08:00 A 18:00 HORAS
A49: juzgado1716gar@justiciamilitar.gov.co | B49: juzgado1716gar@justiciamilitar.gov.co/sjuez1716gar@justiciamilitar.gov.co | C49: sjuez1716gar@justiciamilitar.gov.co | D49: PRIMERA INSTANCIA | E49: FFMM | F49: Juzgado 1716 Penal Militar y Policial de Control de Garantías | G49: =VLOOKUP(A49,'directorio 3 ago 26'!$A$2:$J$658,3,FALSE) -> Juzgado 1716 Penal Militar y Policial de Control de Garantías | H49: Pasto | I49: =VLOOKUP(A49,'directorio 3 ago 26'!$A$2:$J$658,4,FALSE) -> Pasto | J49: Nariño | K49: =VLOOKUP(A49,'directorio 3 ago 26'!$A$2:$J$658,5,FALSE) -> Nariño | L49: 52 | M49: =VLOOKUP(Tabla22[[#This Row],[dptoTxt2]],dane!$A$2:$B$32,2,FALSE) -> 52 | N49: juzgado1716gar@justiciamilitar.gov.co/sjuez1716gar@justiciamilitar.gov.co | O49: 1512/1513 | P49: 0 | Q49: =VLOOKUP(C49,'directorio 3 ago 26'!$A$2:$K$658,7,FALSE) -> 2462 | S49: Calle 22 No. 14 -47, Avenida Colombia - Instalaciones del Batallón ASPC No. 23 "Gr. Ramón Espina" Cantón Militar Boyacá | T49: =VLOOKUP(A49,'directorio 3 ago 26'!$A$2:$J$658,9,FALSE) -> Calle 22 No. 14 -47, Avenida Colombia - Instalaciones del Batallón ASPC No. 23 "Gr. Ramón Espina" Cantón Militar Boyacá | U49: lunes a viernes de 08:00 a 18:00 horas | V49: =VLOOKUP(A49,'directorio 3 ago 26'!$A$2:$J$658,10,FALSE) -> LUNES A VIERNES DE 08:00 A 18:00 HORAS
A50: juzgado1717gar@justiciamilitar.gov.co | B50: juzgado1717gar@justiciamilitar.gov.co/sjuez1717gar@justiciamilitar.gov.co | C50: sjuez1717gar@justiciamilitar.gov.co | D50: PRIMERA INSTANCIA | E50: PONAL | F50: Juzgado 1717 Penal Militar y Policial de Control de Garantías | G50: =VLOOKUP(A50,'directorio 3 ago 26'!$A$2:$J$658,3,FALSE) -> Juzgado 1717 Penal Militar y Policial de Control de Garantías | H50: Cali | I50: =VLOOKUP(A50,'directorio 3 ago 26'!$A$2:$J$658,4,FALSE) -> Cali | J50: Valle del Cauca | K50: =VLOOKUP(A50,'directorio 3 ago 26'!$A$2:$J$658,5,FALSE) -> Valle del Cauca | L50: 76 | M50: =VLOOKUP(Tabla22[[#This Row],[dptoTxt2]],dane!$A$2:$B$32,2,FALSE) -> 76 | N50: juzgado1717gar@justiciamilitar.gov.co/sjuez1717gar@justiciamilitar.gov.co | O50: 2462/2463 | P50: 2463 | Q50: =VLOOKUP(C50,'directorio 3 ago 26'!$A$2:$K$658,7,FALSE) -> 0 | R50: 2463 | S50: Calle 5 No. 83-00- Tercera Brigada - Cantón Militar Pichincha | T50: =VLOOKUP(A50,'directorio 3 ago 26'!$A$2:$J$658,9,FALSE) -> Calle 5 No. 83-00 / Tercera Brigada - Cantón Militar Pichincha | U50: lunes a viernes de 08:00 a 18:00 horas | V50: =VLOOKUP(A50,'directorio 3 ago 26'!$A$2:$J$658,10,FALSE) -> LUNES A VIERNES DE 08:00 A 18:00 HORAS
A51: juzgado1718gar@justiciamilitar.gov.co | B51: juzgado1718gar@justiciamilitar.gov.co/sjuez1718gar@justiciamilitar.gov.co | C51: sjuez1718gar@justiciamilitar.gov.co | D51: PRIMERA INSTANCIA | E51: FFMM | F51: Juzgado 1718 Penal Militar y Policial de Control de Garantías | G51: =VLOOKUP(A51,'directorio 3 ago 26'!$A$2:$J$658,3,FALSE) -> Juzgado 1718 Penal Militar y Policial de Control de Garantías | H51: Cali | I51: =VLOOKUP(A51,'directorio 3 ago 26'!$A$2:$J$658,4,FALSE) -> Cali | J51: Valle del Cauca | K51: =VLOOKUP(A51,'directorio 3 ago 26'!$A$2:$J$658,5,FALSE) -> Valle del Cauca | L51: 76 | M51: =VLOOKUP(Tabla22[[#This Row],[dptoTxt2]],dane!$A$2:$B$32,2,FALSE) -> 76 | N51: juzgado1718gar@justiciamilitar.gov.co/sjuez1718gar@justiciamilitar.gov.co | P51: 0 | Q51: =VLOOKUP(C51,'directorio 3 ago 26'!$A$2:$K$658,7,FALSE) -> 0 | S51: CR 3RA Norte # 24N - 16 Barrio: El piloto Edificio el Piloto - Instalaciones de Incorporación y Disciplina de la Policía | T51: =VLOOKUP(A51,'directorio 3 ago 26'!$A$2:$J$658,9,FALSE) -> Carrera 3 Norte No. 24N - 16 Barrio El piloto Edificio el Piloto - Instalaciones de Incorporación y Disciplina de la Policía | U51: lunes a viernes de 08:00 a 18:00 horas | V51: =VLOOKUP(A51,'directorio 3 ago 26'!$A$2:$J$658,10,FALSE) -> LUNES A VIERNES DE 08:00 A 18:00 HORAS
A52: juzgado1723gar@justiciamilitar.gov.co | B52: juzgado1723gar@justiciamilitar.gov.co | D52: PRIMERA INSTANCIA | E52: PONAL FFMM | F52: Juzgado 1723 Penal Militar y Policial de Control de Garantías | G52: =VLOOKUP(A52,'directorio 3 ago 26'!$A$2:$J$658,3,FALSE) -> Juzgado 1723 Penal Militar y Policial de Control de Garantías | H52: Carepa | I52: =VLOOKUP(A52,'directorio 3 ago 26'!$A$2:$J$658,4,FALSE) -> Carepa | J52: Antioquia | K52: =VLOOKUP(A52,'directorio 3 ago 26'!$A$2:$J$658,5,FALSE) -> Antioquia | L52: 5 | M52: =VLOOKUP(Tabla22[[#This Row],[dptoTxt2]],dane!$A$2:$B$32,2,FALSE) -> 5 | N52: juzgado1723gar@justiciamilitar.gov.co | P52: 0 | Q52: =VLOOKUP(C52,'directorio 3 ago 26'!$A$2:$K$658,7,FALSE) -> #N/A | S52: Kilómetro 1 Vía Al Mar. Brigada No. 17 del Ejército. Palacio de Justicia. | T52: =VLOOKUP(A52,'directorio 3 ago 26'!$A$2:$J$658,9,FALSE) -> Kilómetro 1 Vía Al Mar. Brigada No. 17 del Ejército. Palacio de Justicia. | U52: lunes a viernes de 08:00 a 18:00 horas | V52: =VLOOKUP(A52,'directorio 3 ago 26'!$A$2:$J$658,10,FALSE) -> LUNES A VIERNES DE 08:00 A 18:00 HORAS
A53: juzgado1724gar@justiciamilitar.gov.co | B53: juzgado1724gar@justiciamilitar.gov.co/sjjuez23deipm@justiciamilitar.gov.co | C53: sjjuez23deipm@justiciamilitar.gov.co | D53: PRIMERA INSTANCIA | E53: PONAL FFMM | F53: Juzgado 1724 Penal Militar y Policial de Control de Garantías | G53: =VLOOKUP(A53,'directorio 3 ago 26'!$A$2:$J$658,3,FALSE) -> Juzgado 1724 Penal Militar y Policial de Control de Garantías | H53: Medellín | I53: =VLOOKUP(A53,'directorio 3 ago 26'!$A$2:$J$658,4,FALSE) -> Medellín | J53: Antioquia | K53: =VLOOKUP(A53,'directorio 3 ago 26'!$A$2:$J$658,5,FALSE) -> Antioquia | L53: 5 | M53: =VLOOKUP(Tabla22[[#This Row],[dptoTxt2]],dane!$A$2:$B$32,2,FALSE) -> 5 | N53: juzgado1724gar@justiciamilitar.gov.co/sjjuez23deipm@justiciamilitar.gov.co | P53: 0 | Q53: =VLOOKUP(C53,'directorio 3 ago 26'!$A$2:$K$658,7,FALSE) -> #N/A | S53: Calle 48 No. 45-58 - Comando de Policía Metropolitana del Valle de Aburrá | T53: =VLOOKUP(A53,'directorio 3 ago 26'!$A$2:$J$658,9,FALSE) -> Carrera 48 No. 45 - 58 Piso 2 /Barrio Calendaria Instalaciones Policia Metropolitana Valle de Aburra | U53: lunes a viernes de 08:00 a 18:00 horas | V53: =VLOOKUP(A53,'directorio 3 ago 26'!$A$2:$J$658,10,FALSE) -> LUNES A VIERNES DE 08:00 A 18:00 HORAS
A54: juzgado1725gar@justiciamilitar.gov.co | B54: juzgado1725gar@justiciamilitar.gov.co/sffis21antejb@justiciamilitar.gov.co | C54: sffis21antejb@justiciamilitar.gov.co | D54: PRIMERA INSTANCIA | E54: FFMM | F54: Juzgado 1725 Penal Militar y Policial de Control de Garantías | G54: =VLOOKUP(A54,'directorio 3 ago 26'!$A$2:$J$658,3,FALSE) -> Juzgado 1725 Penal Militar y Policial de Control de Garantías | H54: Puerto Berrio | I54: =VLOOKUP(A54,'directorio 3 ago 26'!$A$2:$J$658,4,FALSE) -> Puerto Berrío | J54: Antioquia | K54: =VLOOKUP(A54,'directorio 3 ago 26'!$A$2:$J$658,5,FALSE) -> Antioquia | L54: 5 | M54: =VLOOKUP(Tabla22[[#This Row],[dptoTxt2]],dane!$A$2:$B$32,2,FALSE) -> 5 | N54: juzgado1725gar@justiciamilitar.gov.co/sffis21antejb@justiciamilitar.gov.co | O54: 2222 | P54: 0 | Q54: =VLOOKUP(C54,'directorio 3 ago 26'!$A$2:$K$658,7,FALSE) -> 2152 | S54: Calle 50 entre carreras 3 y 4. Decima Cuarta Brigada Ejército Nacional | T54: =VLOOKUP(A54,'directorio 3 ago 26'!$A$2:$J$658,9,FALSE) -> Calle 50 entre carreras 3 y 4. Decima Cuarta Brigada Ejército Nacional | U54: lunes a viernes de 08:00 a 18:00 horas | V54: =VLOOKUP(A54,'directorio 3 ago 26'!$A$2:$J$658,10,FALSE) -> LUNES A VIERNES DE 08:00 A 18:00 HORAS
A55: juzgado1726gar@justiciamilitar.gov.co | B55: juzgado1726gar@justiciamilitar.gov.co | D55: PRIMERA INSTANCIA | E55: PONAL FFMM | F55: Juzgado 1726 Penal Militar y Policial de Control de Garantías | G55: =VLOOKUP(A55,'directorio 3 ago 26'!$A$2:$J$658,3,FALSE) -> Juzgado 1726 Penal Militar y Policial de Control de Garantías | H55: Quibdó | I55: =VLOOKUP(A55,'directorio 3 ago 26'!$A$2:$J$658,4,FALSE) -> Quibdó | J55: Chocó | K55: =VLOOKUP(A55,'directorio 3 ago 26'!$A$2:$J$658,5,FALSE) -> Chocó | L55: 27 | M55: =VLOOKUP(Tabla22[[#This Row],[dptoTxt2]],dane!$A$2:$B$32,2,FALSE) -> 27 | N55: juzgado1726gar@justiciamilitar.gov.co | P55: 0 | Q55: =VLOOKUP(C55,'directorio 3 ago 26'!$A$2:$K$658,7,FALSE) -> #N/A | S55: Batallón de Infantería No. 12 "Primero de Línea" Décima Quinta Brigada del Ejército Barrio Obapo vía Pacurita | T55: =VLOOKUP(A55,'directorio 3 ago 26'!$A$2:$J$658,9,FALSE) -> Batallón de Infantería No. 12 "Primero de Línea" Décima Quinta Brigada del Ejército Barrio Obapo vía Pacurita | U55: lunes a viernes de 08:00 a 18:00 horas | V55: =VLOOKUP(A55,'directorio 3 ago 26'!$A$2:$J$658,10,FALSE) -> LUNES A VIERNES DE 08:00 A 18:00 HORAS
A56: juzgado1727gar@justiciamilitar.gov.co | B56: juzgado1727gar@justiciamilitar.gov.co | D56: PRIMERA INSTANCIA | E56: PONAL FFMM | F56: Juzgado 1727 Penal Militar y Policial de Control de Garantías | G56: =VLOOKUP(A56,'directorio 3 ago 26'!$A$2:$J$658,3,FALSE) -> Juzgado 1727 Penal Militar y Policial de Control de Garantías | H56: Montería | I56: =VLOOKUP(A56,'directorio 3 ago 26'!$A$2:$J$658,4,FALSE) -> Montería | J56: Córdoba | K56: =VLOOKUP(A56,'directorio 3 ago 26'!$A$2:$J$658,5,FALSE) -> Córdoba | L56: 23 | M56: =VLOOKUP(Tabla22[[#This Row],[dptoTxt2]],dane!$A$2:$B$32,2,FALSE) -> 23 | N56: juzgado1727gar@justiciamilitar.gov.co | P56: 2112 | Q56: =VLOOKUP(C56,'directorio 3 ago 26'!$A$2:$K$658,7,FALSE) -> #N/A | R56: 2112 | S56: Calle 29 No. 5-61 Barrio Centro Policia Metropolitana de Montería | T56: =VLOOKUP(A56,'directorio 3 ago 26'!$A$2:$J$658,9,FALSE) -> Avenida Sierra Chiquita Kilómetro 3 Vía Jaraquiel a Montería - Décimo Primera Brigada Ejército | U56: lunes a viernes de 08:00 a 18:00 horas | V56: =VLOOKUP(A56,'directorio 3 ago 26'!$A$2:$J$658,10,FALSE) -> LUNES A VIERNES DE 08:00 A 18:00 HORAS
A57: juzgado1728gar@justiciamilitar.gov.co | B57: juzgado1728gar@justiciamilitar.gov.co | D57: PRIMERA INSTANCIA | E57: PONAL FFMM | F57: Juzgado 1728 Penal Militar y Policial de Control de Garantías | G57: =VLOOKUP(A57,'directorio 3 ago 26'!$A$2:$J$658,3,FALSE) -> Juzgado 1728 Penal Militar y Policial de Control de Garantías | H57: Barranquilla | I57: =VLOOKUP(A57,'directorio 3 ago 26'!$A$2:$J$658,4,FALSE) -> Santa Marta | J57: Atlántico | K57: =VLOOKUP(A57,'directorio 3 ago 26'!$A$2:$J$658,5,FALSE) -> Magdalena | L57: 8 | M57: =VLOOKUP(Tabla22[[#This Row],[dptoTxt2]],dane!$A$2:$B$32,2,FALSE) -> 47 | N57: juzgado1728gar@justiciamilitar.gov.co | P57: 2166 | Q57: =VLOOKUP(C57,'directorio 3 ago 26'!$A$2:$K$658,7,FALSE) -> #N/A | R57: 2166 | T57: =VLOOKUP(A57,'directorio 3 ago 26'!$A$2:$J$658,9,FALSE) -> Carerra 4 Calle 34 Vía al rodadero - Batallón de Infanteria General Jose María Cordova | U57: lunes a viernes de 08:00 a 18:00 horas | V57: =VLOOKUP(A57,'directorio 3 ago 26'!$A$2:$J$658,10,FALSE) -> LUNES A VIERNES DE 08:00 A 18:00 HORAS
A58: juzgado1730gar@justiciamilitar.gov.co | B58: juzgado1730gar@justiciamilitar.gov.co | D58: PRIMERA INSTANCIA | E58: PONAL FFMM | F58: Juzgado 1730 Penal Militar y Policial de Control de Garantías | G58: =VLOOKUP(A58,'directorio 3 ago 26'!$A$2:$J$658,3,FALSE) -> Juzgado 1730 Penal Militar y Policial de Control de Garantías | H58: Santa Marta | I58: =VLOOKUP(A58,'directorio 3 ago 26'!$A$2:$J$658,4,FALSE) -> Santa Marta | J58: Magdalena | K58: =VLOOKUP(A58,'directorio 3 ago 26'!$A$2:$J$658,5,FALSE) -> Magdalena | L58: 47 | M58: =VLOOKUP(Tabla22[[#This Row],[dptoTxt2]],dane!$A$2:$B$32,2,FALSE) -> 47 | N58: juzgado1730gar@justiciamilitar.gov.co | P58: 2174 | Q58: =VLOOKUP(C58,'directorio 3 ago 26'!$A$2:$K$658,7,FALSE) -> #N/A | R58: 2174 | S58: Calle 22 No. 1-C-74 Comando Departamento de Policía Magdalena | T58: =VLOOKUP(A58,'directorio 3 ago 26'!$A$2:$J$658,9,FALSE) -> Carerra 4 Calle 34 Vía al rodadero - Batallón de Infanteria General Jose María Cordova | U58: lunes a viernes de 08:00 a 18:00 horas | V58: =VLOOKUP(A58,'directorio 3 ago 26'!$A$2:$J$658,10,FALSE) -> LUNES A VIERNES DE 08:00 A 18:00 HORAS
A59: juzgado1731gar@justiciamilitar.gov.co | B59: juzgado1731gar@justiciamilitar.gov.co | D59: PRIMERA INSTANCIA | E59: FFMM | F59: Juzgado 1731 Penal Militar y Policial de Control de Garantías | G59: =VLOOKUP(A59,'directorio 3 ago 26'!$A$2:$J$658,3,FALSE) -> Juzgado 1731 Penal Militar y Policial de Control de Garantías | H59: Valledupar | I59: =VLOOKUP(A59,'directorio 3 ago 26'!$A$2:$J$658,4,FALSE) -> Valledupar | J59: Cesar | K59: =VLOOKUP(A59,'directorio 3 ago 26'!$A$2:$J$658,5,FALSE) -> Cesar | L59: 20 | M59: =VLOOKUP(Tabla22[[#This Row],[dptoTxt2]],dane!$A$2:$B$32,2,FALSE) -> 20 | N59: juzgado1731gar@justiciamilitar.gov.co | O59: 2159 | P59: 2159 | Q59: =VLOOKUP(C59,'directorio 3 ago 26'!$A$2:$K$658,7,FALSE) -> #N/A | R59: 2159 | T59: =VLOOKUP(A59,'directorio 3 ago 26'!$A$2:$J$658,9,FALSE) -> Kilómetro 1 Vía La Mesa Valledupar Batallón de Artillería No. 2. "La Popa". | U59: lunes a viernes de 08:00 a 18:00 horas | V59: =VLOOKUP(A59,'directorio 3 ago 26'!$A$2:$J$658,10,FALSE) -> LUNES A VIERNES DE 08:00 A 17:00 HORAS
A60: juzgado1732gar@justiciamilitar.gov.co | B60: juzgado1732gar@justiciamilitar.gov.co | D60: PRIMERA INSTANCIA | E60: PONAL FFMM | F60: Juzgado 1732 Penal Militar y Policial de Control de Garantías | G60: =VLOOKUP(A60,'directorio 3 ago 26'!$A$2:$J$658,3,FALSE) -> Juzgado 1732 Penal Militar y Policial de Control de Garantías | H60: Buenavista | I60: =VLOOKUP(A60,'directorio 3 ago 26'!$A$2:$J$658,4,FALSE) -> Buenavista | J60: La Guajira | K60: =VLOOKUP(A60,'directorio 3 ago 26'!$A$2:$J$658,5,FALSE) -> La Guajira | L60: 44 | M60: =VLOOKUP(Tabla22[[#This Row],[dptoTxt2]],dane!$A$2:$B$32,2,FALSE) -> 44 | N60: juzgado1732gar@justiciamilitar.gov.co | P60: 2169 | Q60: =VLOOKUP(C60,'directorio 3 ago 26'!$A$2:$K$658,7,FALSE) -> #N/A | R60: 2169 | S60: Corregimiento Buenavista. Carretera Nacional. Grupo De Caballería Mecanizado No. 2. "Cr. Juan José Rondón". Municipio Distracción. | T60: =VLOOKUP(A60,'directorio 3 ago 26'!$A$2:$J$658,9,FALSE) -> Corregimiento Buenavista. Carretera Nacional. Grupo De Caballería Mecanizado No. 2. "Cr. Juan José Rondón". Municipio Distracción. | U60: lunes a viernes de 08:00 a 18:00 horas | V60: =VLOOKUP(A60,'directorio 3 ago 26'!$A$2:$J$658,10,FALSE) -> LUNES A VIERNES DE 08:00 A 17:00 HORAS
A61: juzgado1733gar@justiciamilitar.gov.co | B61: juzgado1733gar@justiciamilitar.gov.co | D61: PRIMERA INSTANCIA | E61: PONAL FFMM | F61: Juzgado 1733 Penal Militar y Policial de Control de Garantías | G61: =VLOOKUP(A61,'directorio 3 ago 26'!$A$2:$J$658,3,FALSE) -> Juzgado 1733 Penal Militar y Policial de Control de Garantías | H61: Corozal | I61: =VLOOKUP(A61,'directorio 3 ago 26'!$A$2:$J$658,4,FALSE) -> Corozal | J61: Sucre | K61: =VLOOKUP(A61,'directorio 3 ago 26'!$A$2:$J$658,5,FALSE) -> Sucre | L61: 70 | M61: =VLOOKUP(Tabla22[[#This Row],[dptoTxt2]],dane!$A$2:$B$32,2,FALSE) -> 70 | N61: juzgado1733gar@justiciamilitar.gov.co | O61: 2108 | P61: 0 | Q61: =VLOOKUP(C61,'directorio 3 ago 26'!$A$2:$K$658,7,FALSE) -> #N/A | S61: Troncal de occidente kilómetro 2 vía Corozal - Sincelejo , Brigada de Infantería de Marina No 1, edificio comando | T61: =VLOOKUP(A61,'directorio 3 ago 26'!$A$2:$J$658,9,FALSE) -> Troncal de occidente kilómetro 2 vía Corozal - Sincelejo , Brigada de Infantería de Marina No 1, edificio comando | U61: lunes a viernes de 08:00 a 18:00 horas | V61: =VLOOKUP(A61,'directorio 3 ago 26'!$A$2:$J$658,10,FALSE) -> LUNES A VIERNES DE 08:00 A 17:00 HORAS
A62: juzgado1734gar@justiciamilitar.gov.co | B62: juzgado1734gar@justiciamilitar.gov.co | D62: PRIMERA INSTANCIA | E62: FFMM | F62: Juzgado 1734 Penal Militar y Policial de Control de Garantías | G62: =VLOOKUP(A62,'directorio 3 ago 26'!$A$2:$J$658,3,FALSE) -> Juzgado 1734 Penal Militar y Policial de Control de Garantías | H62: Cúcuta | I62: =VLOOKUP(A62,'directorio 3 ago 26'!$A$2:$J$658,4,FALSE) -> Cúcuta | J62: Norte de Santander | K62: =VLOOKUP(A62,'directorio 3 ago 26'!$A$2:$J$658,5,FALSE) -> Norte de Santander | L62: 54 | M62: =VLOOKUP(Tabla22[[#This Row],[dptoTxt2]],dane!$A$2:$B$32,2,FALSE) -> 54 | N62: juzgado1734gar@justiciamilitar.gov.co | O62: 2312/2313 | P62: 2312 | Q62: =VLOOKUP(C62,'directorio 3 ago 26'!$A$2:$K$658,7,FALSE) -> #N/A | R62: 2312 | S62: Avenida 1 Vía Al Pórtico. Canton Militar San Jorge Comando especifico del Norte de santander | T62: =VLOOKUP(A62,'directorio 3 ago 26'!$A$2:$J$658,9,FALSE) -> Avenida 1 Vía Al Pórtico. Canton Militar San Jorge Comando especifico del Norte de santander | U62: lunes a viernes de 08:00 a 18:00 horas | V62: =VLOOKUP(A62,'directorio 3 ago 26'!$A$2:$J$658,10,FALSE) -> LUNES A VIERNES DE 08:00 A 17:00 HORAS
A63: juzgado1736gar@justiciamilitar.gov.co | B63: juzgado1736gar@justiciamilitar.gov.co | D63: PRIMERA INSTANCIA | E63: PONAL FFMM | F63: Juzgado 1736 Penal Militar y Policial de Control de Garantías | G63: =VLOOKUP(A63,'directorio 3 ago 26'!$A$2:$J$658,3,FALSE) -> Juzgado 1736 Penal Militar y Policial de Control de Garantías | H63: Bucaramanga | I63: =VLOOKUP(A63,'directorio 3 ago 26'!$A$2:$J$658,4,FALSE) -> Bucaramanga | J63: Santander | K63: =VLOOKUP(A63,'directorio 3 ago 26'!$A$2:$J$658,5,FALSE) -> Santander | L63: 68 | M63: =VLOOKUP(Tabla22[[#This Row],[dptoTxt2]],dane!$A$2:$B$32,2,FALSE) -> 68 | N63: juzgado1736gar@justiciamilitar.gov.co | P63: 2464 | Q63: =VLOOKUP(C63,'directorio 3 ago 26'!$A$2:$K$658,7,FALSE) -> #N/A | R63: 2464 | S63: Calle 14 No. 32-00 Batallón de Ingenieros No. 5 Coronel "Francisco José de Caldas Bucaramanga | T63: =VLOOKUP(A63,'directorio 3 ago 26'!$A$2:$J$658,9,FALSE) -> Calle 14 No. 32 - 00 Batallon de Ingenieros Caldas (Guardia) Detrás del estadio | U63: lunes a viernes de 08:00 a 18:00 horas | V63: =VLOOKUP(A63,'directorio 3 ago 26'!$A$2:$J$658,10,FALSE) -> LUNES A VIERNES DE 08:00 A 17:00 HORAS
A64: fiscalgeneral@justiciamilitar.gov.co | B64: fiscalgeneral@justiciamilitar.gov.co | D64: PRIMERA INSTANCIA | E64: PONAL FFMM | F64: Fiscal General Penal Militar y Policial | G64: =VLOOKUP(A64,'directorio 3 ago 26'!$A$2:$J$658,3,FALSE) -> Fiscalía General Penal Militar y Policial | H64: Bogotá, D.C. | I64: =VLOOKUP(A64,'directorio 3 ago 26'!$A$2:$J$658,4,FALSE) -> Bogotá D.C. | J64: Bogotá, D.C. | K64: =VLOOKUP(A64,'directorio 3 ago 26'!$A$2:$J$658,5,FALSE) -> Bogotá D.C. | L64: 11 | M64: =VLOOKUP(Tabla22[[#This Row],[dptoTxt2]],dane!$A$2:$B$32,2,FALSE) -> 11 | N64: fiscalgeneral@justiciamilitar.gov.co | O64: 1511 | P64: 0 | Q64: =VLOOKUP(C64,'directorio 3 ago 26'!$A$2:$K$658,7,FALSE) -> #N/A | S64: Carrera 46 No. 20 C - 01 (Puente Aranda) Cantón Militar Occidental “Coronel Francisco José de Caldas” | T64: =VLOOKUP(A64,'directorio 3 ago 26'!$A$2:$J$658,9,FALSE) -> Calle 1 Carrera 1. Edifico Comando / Comando de la Fuerza Naval del Sur. | U64: lunes a viernes de 08:00 a 17:00 horas | V64: =VLOOKUP(A64,'directorio 3 ago 26'!$A$2:$J$658,10,FALSE) -> LUNES A VIERNES DE 08:00 A 18:00 HORAS
A65: yuli.herrera@justiciamilitar.gov.co | B65: flor.lopez@justiciamilitar.gov.co | D65: PRIMERA INSTANCIA | E65: PONAL FFMM | F65: Auxiliar Judicial del Fiscal General Penal Militar Policial | G65: =VLOOKUP(A65,'directorio 3 ago 26'!$A$2:$J$658,3,FALSE) -> Fiscalía General Penal Militar y Policial | H65: Bogotá, D.C. | I65: =VLOOKUP(A65,'directorio 3 ago 26'!$A$2:$J$658,4,FALSE) -> Bogotá D.C. | J65: Bogotá, D.C. | K65: =VLOOKUP(A65,'directorio 3 ago 26'!$A$2:$J$658,5,FALSE) -> Bogotá D.C. | L65: 11 | M65: =VLOOKUP(Tabla22[[#This Row],[dptoTxt2]],dane!$A$2:$B$32,2,FALSE) -> 11 | N65: flor.lopez@justiciamilitar.gov.co | O65: 1537 | P65: 0 | Q65: =VLOOKUP(C65,'directorio 3 ago 26'!$A$2:$K$658,7,FALSE) -> #N/A | S65: Carrera 46 No. 20 C - 01 (Puente Aranda) Cantón Militar Occidental “Coronel Francisco José de Caldas” | T65: =VLOOKUP(A65,'directorio 3 ago 26'!$A$2:$J$658,9,FALSE) -> Carrera 46 No. 20 C - 01 (Puente Aranda) Cantón Militar Occidental “Coronel Francisco José de Caldas” | U65: lunes a viernes de 08:00 a 17:00 horas | V65: =VLOOKUP(A65,'directorio 3 ago 26'!$A$2:$J$658,10,FALSE) -> LUNES A VIERNES DE 08:00 A 17:00 HORAS
A66: jorge.giraldo@justiciamilitar.gov.co | B66: Carlos.Madrid@justiciamilitar.gov.co | D66: PRIMERA INSTANCIA | E66: PONAL FFMM | F66: Fiscalía General Penal Militar y Policial | G66: =VLOOKUP(A66,'directorio 3 ago 26'!$A$2:$J$658,3,FALSE) -> Fiscalía General Penal Militar y Policial | H66: Bogotá, D.C. | I66: =VLOOKUP(A66,'directorio 3 ago 26'!$A$2:$J$658,4,FALSE) -> Bogotá D.C. | J66: Bogotá, D.C. | K66: =VLOOKUP(A66,'directorio 3 ago 26'!$A$2:$J$658,5,FALSE) -> Bogotá D.C. | L66: 11 | M66: =VLOOKUP(Tabla22[[#This Row],[dptoTxt2]],dane!$A$2:$B$32,2,FALSE) -> 11 | N66: Carlos.Madrid@justiciamilitar.gov.co | O66: 1518 | P66: 0 | Q66: =VLOOKUP(C66,'directorio 3 ago 26'!$A$2:$K$658,7,FALSE) -> #N/A | S66: Carrera 46 No. 20 C - 01 (Puente Aranda) Cantón Militar Occidental “Coronel Francisco José de Caldas” | T66: =VLOOKUP(A66,'directorio 3 ago 26'!$A$2:$J$658,9,FALSE) -> Carrera 46 No. 20 C - 01 (Puente Aranda) Cantón Militar Occidental “Coronel Francisco José de Caldas” | U66: lunes a viernes de 08:00 a 17:00 horas | V66: =VLOOKUP(A66,'directorio 3 ago 26'!$A$2:$J$658,10,FALSE) -> LUNES A VIERNES DE 08:00 A 17:00 HORAS
A67: Carlos.Basto@justiciamilitar.gov.co | B67: Carlos.Basto@justiciamilitar.gov.co | D67: SEGUNDA INSTANCIA | E67: PONAL FFMM | F67: Tribunal Superior Militar y Policial | G67: =VLOOKUP(A67,'directorio 3 ago 26'!$A$2:$J$658,3,FALSE) -> Tribunal Superior Militar y Policial | H67: Bogotá, D.C. | I67: =VLOOKUP(A67,'directorio 3 ago 26'!$A$2:$J$658,4,FALSE) -> Bogotá D.C. | J67: Bogotá, D.C. | K67: =VLOOKUP(A67,'directorio 3 ago 26'!$A$2:$J$658,5,FALSE) -> Bogotá D.C. | L67: 11 | M67: =VLOOKUP(Tabla22[[#This Row],[dptoTxt2]],dane!$A$2:$B$32,2,FALSE) -> 11 | N67: Carlos.Basto@justiciamilitar.gov.co | O67: 1523 | P67: 1521 | Q67: =VLOOKUP(C67,'directorio 3 ago 26'!$A$2:$K$658,7,FALSE) -> #N/A | R67: 1521 | S67: Carrera 46 No. 20 C - 01 (Puente Aranda) Cantón Militar Occidental “Coronel Francisco José de Caldas” | T67: =VLOOKUP(A67,'directorio 3 ago 26'!$A$2:$J$658,9,FALSE) -> Carrera 46 No. 20 C - 01 (Puente Aranda) Cantón Militar Occidental “Coronel Francisco José de Caldas” | U67: lunes a viernes de 08:00 a 17:00 horas | V67: =VLOOKUP(A67,'directorio 3 ago 26'!$A$2:$J$658,10,FALSE) -> LUNES A VIERNES DE 08:00 A 17:00 HORAS
A68: rene.lambrano@justiciamilitar.gov.co | B68: rene.lambrano@justiciamilitar.gov.co | D68: PRIMERA INSTANCIA | E68: PONAL FFMM | F68: Fiscalías Penales Militares delegadas ante el Tribunal Superior Militar y Policial | G68: =VLOOKUP(A68,'directorio 3 ago 26'!$A$2:$J$658,3,FALSE) -> Fiscalías Penales Militares delegadas ante el Tribunal Superior Militar y Policial | H68: Bogotá, D.C. | I68: =VLOOKUP(A68,'directorio 3 ago 26'!$A$2:$J$658,4,FALSE) -> Bogotá D.C. | J68: Bogotá, D.C. | K68: =VLOOKUP(A68,'directorio 3 ago 26'!$A$2:$J$658,5,FALSE) -> Bogotá D.C. | L68: 11 | M68: =VLOOKUP(Tabla22[[#This Row],[dptoTxt2]],dane!$A$2:$B$32,2,FALSE) -> 11 | N68: rene.lambrano@justiciamilitar.gov.co | O68: 1516 | P68: 0 | Q68: =VLOOKUP(C68,'directorio 3 ago 26'!$A$2:$K$658,7,FALSE) -> #N/A | S68: Carrera 46 No. 20 C - 01 (Puente Aranda) Cantón Militar Occidental “Coronel Francisco José de Caldas” | T68: =VLOOKUP(A68,'directorio 3 ago 26'!$A$2:$J$658,9,FALSE) -> Carrera 46 No. 20 C - 01 (Puente Aranda) Cantón Militar Occidental “Coronel Francisco José de Caldas” | U68: lunes a viernes de 08:00 a 17:00 horas | V68: =VLOOKUP(A68,'directorio 3 ago 26'!$A$2:$J$658,10,FALSE) -> LUNES A VIERNES DE 08:00 A 17:00 HORAS
A69: Martha.Herreno@justiciamilitar.gov.co | B69: Martha.Herreno@justiciamilitar.gov.co | D69: PRIMERA INSTANCIA | E69: PONAL FFMM | F69: Fiscalías Penales Militares delegadas ante el Tribunal Superior Militar y Policial | G69: =VLOOKUP(A69,'directorio 3 ago 26'!$A$2:$J$658,3,FALSE) -> Fiscalías Penales Militares delegadas ante el Tribunal Superior Militar y Policial | H69: Bogotá, D.C. | I69: =VLOOKUP(A69,'directorio 3 ago 26'!$A$2:$J$658,4,FALSE) -> Bogotá D.C. | J69: Bogotá, D.C. | K69: =VLOOKUP(A69,'directorio 3 ago 26'!$A$2:$J$658,5,FALSE) -> Bogotá D.C. | L69: 11 | M69: =VLOOKUP(Tabla22[[#This Row],[dptoTxt2]],dane!$A$2:$B$32,2,FALSE) -> 11 | N69: Martha.Herreno@justiciamilitar.gov.co | O69: 1515 | P69: 1516 | Q69: =VLOOKUP(C69,'directorio 3 ago 26'!$A$2:$K$658,7,FALSE) -> #N/A | R69: 1516 | S69: Carrera 46 No. 20 C - 01 (Puente Aranda) Cantón Militar Occidental “Coronel Francisco José de Caldas” | T69: =VLOOKUP(A69,'directorio 3 ago 26'!$A$2:$J$658,9,FALSE) -> Carrera 46 No. 20 C - 01 (Puente Aranda) Cantón Militar Occidental “Coronel Francisco José de Caldas” | U69: lunes a viernes de 08:00 a 17:00 horas | V69: =VLOOKUP(A69,'directorio 3 ago 26'!$A$2:$J$658,10,FALSE) -> LUNES A VIERNES DE 08:00 A 17:00 HORAS
A70: fiscal2201conesp@justiciamilitar.gov.co | B70: fiscal2201conesp@justiciamilitar.gov.co/sffiscal24antejb@justiciamilitar.gov.co | C70: sffiscal24antejb@justiciamilitar.gov.co | D70: PRIMERA INSTANCIA | E70: FFMM | F70: Fiscalía 2201 Penal Militar y Policial delegada ante Juez Penal Militar y Policial de Conocimiento Especializado | G70: =VLOOKUP(A70,'directorio 3 ago 26'!$A$2:$J$658,3,FALSE) -> Fiscalía 2201 Penal Militar y Policial Delegada ante Juez Penal Militar y Policial de Conocimiento Especializado | H70: Bogotá, D.C. | I70: =VLOOKUP(A70,'directorio 3 ago 26'!$A$2:$J$658,4,FALSE) -> Bogotá D.C. | J70: Bogotá, D.C. | K70: =VLOOKUP(A70,'directorio 3 ago 26'!$A$2:$J$658,5,FALSE) -> Bogotá D.C. | L70: 11 | M70: =VLOOKUP(Tabla22[[#This Row],[dptoTxt2]],dane!$A$2:$B$32,2,FALSE) -> 11 | N70: fiscal2201conesp@justiciamilitar.gov.co/sffiscal24antejb@justiciamilitar.gov.co | O70: 1233/1339 | P70: 1515 | Q70: =VLOOKUP(C70,'directorio 3 ago 26'!$A$2:$K$658,7,FALSE) -> 0 | R70: 1515 | S70: Carrera 46 No. 20 C - 01 (Puente Aranda) Cantón Militar Occidental “Coronel Francisco José de Caldas” | T70: =VLOOKUP(A70,'directorio 3 ago 26'!$A$2:$J$658,9,FALSE) -> Carrera 46 No. 20 C - 01 (Puente Aranda) Cantón Militar Occidental “Coronel Francisco José de Caldas” | U70: lunes a viernes de 08:00 a 17:00 horas | V70: =VLOOKUP(A70,'directorio 3 ago 26'!$A$2:$J$658,10,FALSE) -> LUNES A VIERNES DE 08:00 A 17:00 HORAS
A71: fiscal2202conesp@justiciamilitar.gov.co | B71: fiscal2202conesp@justiciamilitar.gov.co/afiscal2202esp@justiciamilitar.gov.co | C71: afiscal2202esp@justiciamilitar.gov.co | D71: PRIMERA INSTANCIA | E71: PONAL | F71: Fiscalía 2202 Penal Militar y Policial delegada ante Juez Penal Militar y Policial de Conocimiento Especializado | G71: =VLOOKUP(A71,'directorio 3 ago 26'!$A$2:$J$658,3,FALSE) -> Fiscalía 2202 Penal Militar y Policial Delegada ante Juez Penal Militar y Policial de Conocimiento Especializado | H71: Bogotá, D.C. | I71: =VLOOKUP(A71,'directorio 3 ago 26'!$A$2:$J$658,4,FALSE) -> Bogotá D.C. | J71: Bogotá, D.C. | K71: =VLOOKUP(A71,'directorio 3 ago 26'!$A$2:$J$658,5,FALSE) -> Bogotá D.C. | L71: 11 | M71: =VLOOKUP(Tabla22[[#This Row],[dptoTxt2]],dane!$A$2:$B$32,2,FALSE) -> 11 | N71: fiscal2202conesp@justiciamilitar.gov.co/afiscal2202esp@justiciamilitar.gov.co | O71: 1235 | P71: 1233 | Q71: =VLOOKUP(C71,'directorio 3 ago 26'!$A$2:$K$658,7,FALSE) -> #N/A | R71: 1233 | S71: Carrera 46 No. 20 C - 01 (Puente Aranda) Cantón Militar Occidental “Coronel Francisco José de Caldas” | T71: =VLOOKUP(A71,'directorio 3 ago 26'!$A$2:$J$658,9,FALSE) -> Carrera 46 No. 20 C - 01 (Puente Aranda) Cantón Militar Occidental “Coronel Francisco José de Caldas” | U71: lunes a viernes de 08:00 a 17:00 horas | V71: =VLOOKUP(A71,'directorio 3 ago 26'!$A$2:$J$658,10,FALSE) -> LUNES A VIERNES DE 08:00 A 17:00 HORAS
A72: fiscal2203conesp@justiciamilitar.gov.co | B72: fiscal2203conesp@justiciamilitar.gov.co/afiscal2203esp@justiciamilitar.gov.co | C72: afiscal2203esp@justiciamilitar.gov.co | D72: PRIMERA INSTANCIA | E72: PONAL | F72: Fiscalía 2203 Penal Militar y Policial delegada ante Juez Penal Militar y Policial de Conocimiento Especializado | G72: =VLOOKUP(A72,'directorio 3 ago 26'!$A$2:$J$658,3,FALSE) -> Fiscalía 2203 Penal Militar y Policial Delegada ante Juez Penal Militar y Policial de Conocimiento Especializado | H72: Bogotá, D.C. | I72: =VLOOKUP(A72,'directorio 3 ago 26'!$A$2:$J$658,4,FALSE) -> Bogotá D.C. | J72: Bogotá, D.C. | K72: =VLOOKUP(A72,'directorio 3 ago 26'!$A$2:$J$658,5,FALSE) -> Bogotá D.C. | L72: 11 | M72: =VLOOKUP(Tabla22[[#This Row],[dptoTxt2]],dane!$A$2:$B$32,2,FALSE) -> 11 | N72: fiscal2203conesp@justiciamilitar.gov.co/afiscal2203esp@justiciamilitar.gov.co | O72: 1230/1231 | P72: 1234 | Q72: =VLOOKUP(C72,'directorio 3 ago 26'!$A$2:$K$658,7,FALSE) -> #N/A | R72: 1234 | S72: Carrera 46 No. 20 C - 01 (Puente Aranda) Cantón Militar Occidental “Coronel Francisco José de Caldas” | T72: =VLOOKUP(A72,'directorio 3 ago 26'!$A$2:$J$658,9,FALSE) -> Carrera 46 No. 20 C - 01 (Puente Aranda) Cantón Militar Occidental “Coronel Francisco José de Caldas” | U72: lunes a viernes de 08:00 a 17:00 horas | V72: =VLOOKUP(A72,'directorio 3 ago 26'!$A$2:$J$658,10,FALSE) -> LUNES A VIERNES DE 08:00 A 17:00 HORAS
A73: fiscalia2208coes@justiciamilitar.gov.co | B73: fiscalia2208coes@justiciamilitar.gov.co | D73: PRIMERA INSTANCIA | E73: FFMM | F73: Fiscalía 2208 Penal Militar y Policial delegada ante Juez Penal Militar y Policial de Conocimiento Especializado | G73: =VLOOKUP(A73,'directorio 3 ago 26'!$A$2:$J$658,3,FALSE) -> Fiscalía 2208 Penal Militar y Policial Delegada ante Juez Penal Militar y Policial de Conocimiento Especializado | H73: Cali | I73: =VLOOKUP(A73,'directorio 3 ago 26'!$A$2:$J$658,4,FALSE) -> Cali | J73: Valle del Cauca | K73: =VLOOKUP(A73,'directorio 3 ago 26'!$A$2:$J$658,5,FALSE) -> Valle del Cauca | L73: 76 | M73: =VLOOKUP(Tabla22[[#This Row],[dptoTxt2]],dane!$A$2:$B$32,2,FALSE) -> 76 | N73: fiscalia2208coes@justiciamilitar.gov.co | P73: 0 | Q73: =VLOOKUP(C73,'directorio 3 ago 26'!$A$2:$K$658,7,FALSE) -> #N/A | T73: =VLOOKUP(A73,'directorio 3 ago 26'!$A$2:$J$658,9,FALSE) -> Calle 5 No. 83-00 / Tercera Brigada - Cantón Militar Pichincha | U73: lunes a viernes de 08:00 a 18:00 horas | V73: =VLOOKUP(A73,'directorio 3 ago 26'!$A$2:$J$658,10,FALSE) -> LUNES A VIERNES DE 08:00 A 18:00 HORAS
A74: fiscalia2222coes@justiciamilitar.gov.co | B74: fiscalia2222coes@justiciamilitar.gov.co | D74: PRIMERA INSTANCIA | E74: PONAL | F74: Fiscalía 2222 Penal Militar y Policial delegada ante Juez Penal Militar y Policial de Conocimiento Especializado | G74: =VLOOKUP(A74,'directorio 3 ago 26'!$A$2:$J$658,3,FALSE) -> Fiscalía 2222 Penal Militar y Policial Delegada ante Juez Penal Militar y Policial de Conocimiento Especializado | H74: Medellín | I74: =VLOOKUP(A74,'directorio 3 ago 26'!$A$2:$J$658,4,FALSE) -> Medellín | J74: Antioquia | K74: =VLOOKUP(A74,'directorio 3 ago 26'!$A$2:$J$658,5,FALSE) -> Antioquia | L74: 5 | M74: =VLOOKUP(Tabla22[[#This Row],[dptoTxt2]],dane!$A$2:$B$32,2,FALSE) -> 5 | N74: fiscalia2222coes@justiciamilitar.gov.co | P74: 1208 | Q74: =VLOOKUP(C74,'directorio 3 ago 26'!$A$2:$K$658,7,FALSE) -> #N/A | R74: 1208 | S74: Carrera 46 No. 20 C - 01 (Puente Aranda) Cantón Militar Occidental “Coronel Francisco José de Caldas” - Bogotá D.C. | T74: =VLOOKUP(A74,'directorio 3 ago 26'!$A$2:$J$658,9,FALSE) -> Carrera 46 No. 20 C - 01 (Puente Aranda) Cantón Militar Occidental “Coronel Francisco José de Caldas” | U74: lunes a viernes de 08:00 a 18:00 horas | V74: =VLOOKUP(A74,'directorio 3 ago 26'!$A$2:$J$658,10,FALSE) -> LUNES A VIERNES DE 08:00 A 17:00 HORAS
A75: fiscalia2223coes@justiciamilitar.gov.co | B75: fiscalia2223coes@justiciamilitar.gov.co | D75: PRIMERA INSTANCIA | E75: FFMM | F75: Fiscalía 2223 Penal Militar y Policial delegada ante Juez Penal Militar y Policial de Conocimiento Especializado | G75: =VLOOKUP(A75,'directorio 3 ago 26'!$A$2:$J$658,3,FALSE) -> Fiscalía 2223 Penal Militar y Policial Delegada ante Juez Penal Militar y Policial de Conocimiento Especializado | H75: Rionegro | I75: =VLOOKUP(A75,'directorio 3 ago 26'!$A$2:$J$658,4,FALSE) -> Medellín | J75: Antioquia | K75: =VLOOKUP(A75,'directorio 3 ago 26'!$A$2:$J$658,5,FALSE) -> Antioquia | L75: 5 | M75: =VLOOKUP(Tabla22[[#This Row],[dptoTxt2]],dane!$A$2:$B$32,2,FALSE) -> 5 | N75: fiscalia2223coes@justiciamilitar.gov.co | P75: 1207 | Q75: =VLOOKUP(C75,'directorio 3 ago 26'!$A$2:$K$658,7,FALSE) -> #N/A | R75: 1207 | S75: Grupo de Caballería Mecanizado No 4 “Juan del Corral” Vereda Garrido Rionegro – Antioquia | T75: =VLOOKUP(A75,'directorio 3 ago 26'!$A$2:$J$658,9,FALSE) -> Carrera 46 No. 20 C - 01 (Puente Aranda) Cantón Militar Occidental “Coronel Francisco José de Caldas” | U75: lunes a viernes de 08:00 a 18:00 horas | V75: =VLOOKUP(A75,'directorio 3 ago 26'!$A$2:$J$658,10,FALSE) -> LUNES A VIERNES DE 08:00 A 17:00 HORAS
A76: fiscal2401con@justiciamilitar.gov.co | B76: fiscal2401conocimiento@justiciamilitar.gov.co/afiscal2401con@justiciamilitar.gov.co | C76: afiscal2401con@justiciamilitar.gov.co | D76: PRIMERA INSTANCIA | E76: FFMM | F76: Fiscalía 2401 Penal Militar y Policial delegada ante Juez Penal Militar y Policial de Conocimiento | G76: =VLOOKUP(A76,'directorio 3 ago 26'!$A$2:$J$658,3,FALSE) -> Fiscalía 2401 Penal Militar y Policial Delegada ante Juez Penal Militar y Policial de Conocimiento | H76: Bogotá, D.C. | I76: =VLOOKUP(A76,'directorio 3 ago 26'!$A$2:$J$658,4,FALSE) -> Bogotá D.C. | J76: Bogotá, D.C. | K76: =VLOOKUP(A76,'directorio 3 ago 26'!$A$2:$J$658,5,FALSE) -> Bogotá D.C. | L76: 11 | M76: =VLOOKUP(Tabla22[[#This Row],[dptoTxt2]],dane!$A$2:$B$32,2,FALSE) -> 11 | N76: fiscal2401conocimiento@justiciamilitar.gov.co/afiscal2401con@justiciamilitar.gov.co | O76: 1208 | P76: 1363 | Q76: =VLOOKUP(C76,'directorio 3 ago 26'!$A$2:$K$658,7,FALSE) -> 0 | R76: 1363 | S76: Carrera 46 No. 20 C - 01 (Puente Aranda) Cantón Militar Occidental “Coronel Francisco José de Caldas” | T76: =VLOOKUP(A76,'directorio 3 ago 26'!$A$2:$J$658,9,FALSE) -> Carrera 46 No. 20 C - 01 (Puente Aranda) Cantón Militar Occidental “Coronel Francisco José de Caldas” | U76: lunes a viernes de 08:00 a 17:00 horas | V76: =VLOOKUP(A76,'directorio 3 ago 26'!$A$2:$J$658,10,FALSE) -> LUNES A VIERNES DE 08:00 A 17:00 HORAS
A77: fiscal2402con@justiciamilitar.gov.co | B77: fiscal2402conocimiento@justiciamilitar.gov.co/afiscal2402con@justiciamilitar.gov.co | C77: afiscal2402con@justiciamilitar.gov.co | D77: PRIMERA INSTANCIA | E77: FFMM | F77: Fiscalía 2402 Penal Militar y Policial delegada ante Juez Penal Militar y Policial de Conocimiento | G77: =VLOOKUP(A77,'directorio 3 ago 26'!$A$2:$J$658,3,FALSE) -> Fiscalía 2402 Penal Militar y Policial Delegada ante Juez Penal Militar y Policial de Conocimiento | H77: Bogotá, D.C. | I77: =VLOOKUP(A77,'directorio 3 ago 26'!$A$2:$J$658,4,FALSE) -> Bogotá D.C. | J77: Bogotá, D.C. | K77: =VLOOKUP(A77,'directorio 3 ago 26'!$A$2:$J$658,5,FALSE) -> Bogotá D.C. | L77: 11 | M77: =VLOOKUP(Tabla22[[#This Row],[dptoTxt2]],dane!$A$2:$B$32,2,FALSE) -> 11 | N77: fiscal2402conocimiento@justiciamilitar.gov.co/afiscal2402con@justiciamilitar.gov.co | O77: 1206 | P77: 0 | Q77: =VLOOKUP(C77,'directorio 3 ago 26'!$A$2:$K$658,7,FALSE) -> 0 | S77: Carrera 46 No. 20 C - 01 (Puente Aranda) Cantón Militar Occidental “Coronel Francisco José de Caldas” | T77: =VLOOKUP(A77,'directorio 3 ago 26'!$A$2:$J$658,9,FALSE) -> Calle 22 No. 8-56 Comando Primera Brigada Ejército | U77: lunes a viernes de 08:00 a 17:00 horas | V77: =VLOOKUP(A77,'directorio 3 ago 26'!$A$2:$J$658,10,FALSE) -> LUNES A VIERNES DE 08:00 A 18:00 HORAS
A78: fiscal2403con@justiciamilitar.gov.co | B78: fiscal2403conocimiento@justiciamilitar.gov.co/afiscal2403con@justiciamilitar.gov.co | C78: afiscal2403con@justiciamilitar.gov.co | D78: PRIMERA INSTANCIA | E78: PONAL | F78: Fiscalía 2403 Penal Militar y Policial delegada ante Juez Penal Militar y Policial de Conocimiento | G78: =VLOOKUP(A78,'directorio 3 ago 26'!$A$2:$J$658,3,FALSE) -> Fiscalía 2403 Penal Militar y Policial Delegada ante Juez Penal Militar y Policial de Conocimiento | H78: Bogotá, D.C. | I78: =VLOOKUP(A78,'directorio 3 ago 26'!$A$2:$J$658,4,FALSE) -> Bogotá D.C. | J78: Bogotá, D.C. | K78: =VLOOKUP(A78,'directorio 3 ago 26'!$A$2:$J$658,5,FALSE) -> Bogotá D.C. | L78: 11 | M78: =VLOOKUP(Tabla22[[#This Row],[dptoTxt2]],dane!$A$2:$B$32,2,FALSE) -> 11 | N78: fiscal2403conocimiento@justiciamilitar.gov.co/afiscal2403con@justiciamilitar.gov.co | O78: 1204/1316 | P78: 0 | Q78: =VLOOKUP(C78,'directorio 3 ago 26'!$A$2:$K$658,7,FALSE) -> 2364 | S78: Carrera 46 No. 20 C - 01 (Puente Aranda) Cantón Militar Occidental “Coronel Francisco José de Caldas” | T78: =VLOOKUP(A78,'directorio 3 ago 26'!$A$2:$J$658,9,FALSE) -> Calle 22 No. 8-56 Comando Primera Brigada Ejército | U78: lunes a viernes de 08:00 a 17:00 horas | V78: =VLOOKUP(A78,'directorio 3 ago 26'!$A$2:$J$658,10,FALSE) -> LUNES A VIERNES DE 08:00 A 18:00 HORAS
A79: fiscalia2405con@justiciamilitar.gov.co | B79: fiscalia2405con@justiciamilitar.gov.co/sfiscal2405con@justiciamilitar.gov.co | C79: sfiscal2405con@justiciamilitar.gov.co | D79: PRIMERA INSTANCIA | E79: PONAL | F79: Fiscalía 2405 Penal Militar y Policial delegada ante Juez Penal Militar y Policial de Conocimiento | G79: =VLOOKUP(A79,'directorio 3 ago 26'!$A$2:$J$658,3,FALSE) -> Fiscalía 2405 Penal Militar y Policial Delegada ante Juez Penal Militar y Policial de Conocimiento | H79: Bogotá, D.C. | I79: =VLOOKUP(A79,'directorio 3 ago 26'!$A$2:$J$658,4,FALSE) -> Bogotá D.C. | J79: Bogotá, D.C. | K79: =VLOOKUP(A79,'directorio 3 ago 26'!$A$2:$J$658,5,FALSE) -> Bogotá D.C. | L79: 11 | M79: =VLOOKUP(Tabla22[[#This Row],[dptoTxt2]],dane!$A$2:$B$32,2,FALSE) -> 11 | N79: fiscalia2405con@justiciamilitar.gov.co/sfiscal2405con@justiciamilitar.gov.co | O79: 1327 | P79: 0 | Q79: =VLOOKUP(C79,'directorio 3 ago 26'!$A$2:$K$658,7,FALSE) -> 1235 | S79: Carrera 46 No. 20 C - 01 (Puente Aranda) Cantón Militar Occidental “Coronel Francisco José de Caldas” | T79: =VLOOKUP(A79,'directorio 3 ago 26'!$A$2:$J$658,9,FALSE) -> Carrera 48 Sur No. 157 - 199. Bloque A. Piso: 2. Comando Departamento Policía Tolima. Sector Picaleña. | U79: lunes a viernes de 08:00 a 17:00 horas | V79: =VLOOKUP(A79,'directorio 3 ago 26'!$A$2:$J$658,10,FALSE) -> LUNES A VIERNES DE 08:00 A 18:00 HORAS
A80: fiscalia2406con@justiciamilitar.gov.co | B80: fiscalia2406con@justiciamilitar.gov.co/sfiscal2406con@justiciamilitar.gov.co | C80: sfiscal2406con@justiciamilitar.gov.co | D80: PRIMERA INSTANCIA | E80: FFMM | F80: Fiscalía 2406 Penal Militar y Policial delegada ante Juez Penal Militar y Policial de Conocimiento | G80: =VLOOKUP(A80,'directorio 3 ago 26'!$A$2:$J$658,3,FALSE) -> Fiscalía 2406 Penal Militar y Policial Delegada ante Juez Penal Militar y Policial de Conocimiento | H80: Bogotá, D.C. | I80: =VLOOKUP(A80,'directorio 3 ago 26'!$A$2:$J$658,4,FALSE) -> Bogotá D.C. | J80: Bogotá, D.C. | K80: =VLOOKUP(A80,'directorio 3 ago 26'!$A$2:$J$658,5,FALSE) -> Bogotá D.C. | L80: 11 | M80: =VLOOKUP(Tabla22[[#This Row],[dptoTxt2]],dane!$A$2:$B$32,2,FALSE) -> 11 | N80: fiscalia2406con@justiciamilitar.gov.co/sfiscal2406con@justiciamilitar.gov.co | P80: 0 | Q80: =VLOOKUP(C80,'directorio 3 ago 26'!$A$2:$K$658,7,FALSE) -> 0 | S80: Carrera 46 No. 20 C - 01 (Puente Aranda) Cantón Militar Occidental “Coronel Francisco José de Caldas” | T80: =VLOOKUP(A80,'directorio 3 ago 26'!$A$2:$J$658,9,FALSE) -> Calle 14 No. 5-00 Barrio Pueblo Nuevo - Cantón Militar Del Sur Del Tolima | U80: lunes a viernes de 08:00 a 17:00 horas | V80: =VLOOKUP(A80,'directorio 3 ago 26'!$A$2:$J$658,10,FALSE) -> LUNES A VIERNES DE 08:00 A 18:00 HORAS
A81: fiscalia2419con@justiciamilitar.gov.co | B81: fiscalia2419con@justiciamilitar.gov.co/sfiscal2419con@justiciamilitar.gov.co | C81: sfiscal2419con@justiciamilitar.gov.co | D81: PRIMERA INSTANCIA | E81: PONAL | F81: Fiscalía 2419 Penal Militar y Policial delegada ante Juez Penal Militar y Policial de Conocimiento | G81: =VLOOKUP(A81,'directorio 3 ago 26'!$A$2:$J$658,3,FALSE) -> Fiscalía 2419 Penal Militar y Policial Delegada ante Juez Penal Militar y Policial de Conocimiento | H81: Bogotá, D.C. | I81: =VLOOKUP(A81,'directorio 3 ago 26'!$A$2:$J$658,4,FALSE) -> Bogotá D.C. | J81: Bogotá, D.C. | K81: =VLOOKUP(A81,'directorio 3 ago 26'!$A$2:$J$658,5,FALSE) -> Bogotá D.C. | L81: 11 | M81: =VLOOKUP(Tabla22[[#This Row],[dptoTxt2]],dane!$A$2:$B$32,2,FALSE) -> 11 | N81: fiscalia2419con@justiciamilitar.gov.co/sfiscal2419con@justiciamilitar.gov.co | O81: 1363 | P81: 0 | Q81: =VLOOKUP(C81,'directorio 3 ago 26'!$A$2:$K$658,7,FALSE) -> 0 | S81: Carrera 46 No. 20 C - 01 (Puente Aranda) Cantón Militar Occidental “Coronel Francisco José de Caldas” | T81: =VLOOKUP(A81,'directorio 3 ago 26'!$A$2:$J$658,9,FALSE) -> Calle 71 No. 25-00 Barrio Palermo - Batallón de Infantería No. 22 Batalla Ayacucho | U81: lunes a viernes de 08:00 a 17:00 horas | V81: =VLOOKUP(A81,'directorio 3 ago 26'!$A$2:$J$658,10,FALSE) -> LUNES A VIERNES DE 08:00 A 18:00 HORAS
A82: fiscalia2420con@justiciamilitar.gov.co | B82: fiscalia2420con@justiciamilitar.gov.co | D82: PRIMERA INSTANCIA | E82: PONAL | F82: Fiscalía 2420 Penal Militar y Policial delegada ante Juez Penal Militar y Policial de Conocimiento | G82: =VLOOKUP(A82,'directorio 3 ago 26'!$A$2:$J$658,3,FALSE) -> Fiscalía 2420 Penal Militar y Policial Delegada ante Juez Penal Militar y Policial de Conocimiento | H82: Tunja | I82: =VLOOKUP(A82,'directorio 3 ago 26'!$A$2:$J$658,4,FALSE) -> Tunja | J82: Boyacá | K82: =VLOOKUP(A82,'directorio 3 ago 26'!$A$2:$J$658,5,FALSE) -> Boyacá | L82: 15 | M82: =VLOOKUP(Tabla22[[#This Row],[dptoTxt2]],dane!$A$2:$B$32,2,FALSE) -> 15 | N82: fiscalia2420con@justiciamilitar.gov.co | P82: 2490 | Q82: =VLOOKUP(C82,'directorio 3 ago 26'!$A$2:$K$658,7,FALSE) -> #N/A | R82: 2490 | S82: Calle 22 No. 8-56 Comando Primera Brigada Ejército | T82: =VLOOKUP(A82,'directorio 3 ago 26'!$A$2:$J$658,9,FALSE) -> Avenida Bolívar No. 25 Norte 00 - Octava Brigada Ejército Nacional - Palacio de Justicia Penal Militar y Policial | U82: lunes a viernes de 08:00 a 18:00 horas | V82: =VLOOKUP(A82,'directorio 3 ago 26'!$A$2:$J$658,10,FALSE) -> LUNES A VIERNES DE 08:00 A 18:00 HORAS
A83: fiscalia2421con@justiciamilitar.gov.co | B83: fiscalia2421con@justiciamilitar.gov.co | D83: PRIMERA INSTANCIA | E83: FFMM | F83: Fiscalía 2421 Penal Militar y Policial delegada ante Juez Penal Militar y Policial de Conocimiento | G83: =VLOOKUP(A83,'directorio 3 ago 26'!$A$2:$J$658,3,FALSE) -> Fiscalía 2421 Penal Militar y Policial Delegada ante Juez Penal Militar y Policial de Conocimiento | H83: Tunja | I83: =VLOOKUP(A83,'directorio 3 ago 26'!$A$2:$J$658,4,FALSE) -> Tunja | J83: Boyacá | K83: =VLOOKUP(A83,'directorio 3 ago 26'!$A$2:$J$658,5,FALSE) -> Boyacá | L83: 15 | M83: =VLOOKUP(Tabla22[[#This Row],[dptoTxt2]],dane!$A$2:$B$32,2,FALSE) -> 15 | N83: fiscalia2421con@justiciamilitar.gov.co | P83: 2485 | Q83: =VLOOKUP(C83,'directorio 3 ago 26'!$A$2:$K$658,7,FALSE) -> #N/A | R83: 2485 | S83: Calle 22 No. 8-56 Comando Primera Brigada Ejército | T83: =VLOOKUP(A83,'directorio 3 ago 26'!$A$2:$J$658,9,FALSE) -> Avenida Bolívar No. 25 Norte 00 - Octava Brigada Ejército Nacional - Palacio de Justicia Penal Militar y Policial | U83: lunes a viernes de 08:00 a 18:00 horas | V83: =VLOOKUP(A83,'directorio 3 ago 26'!$A$2:$J$658,10,FALSE) -> LUNES A VIERNES DE 08:00 A 18:00 HORAS
A84: fiscalia2422con@justiciamilitar.gov.co | B84: fiscalia2422con@justiciamilitar.gov.co/sfiscal2422con@justiciamilitar.gov.co | C84: sfiscal2422con@justiciamilitar.gov.co | D84: PRIMERA INSTANCIA | E84: FFMM | F84: Fiscalía 2422 Penal Militar y Policial delegada ante Juez Penal Militar y Policial de Conocimiento | G84: =VLOOKUP(A84,'directorio 3 ago 26'!$A$2:$J$658,3,FALSE) -> Fiscalía 2422 Penal Militar y Policial Delegada ante Juez Penal Militar y Policial de Conocimiento | H84: Tolemaida | I84: =VLOOKUP(A84,'directorio 3 ago 26'!$A$2:$J$658,4,FALSE) -> Tolemaida | J84: Cundinamarca | K84: =VLOOKUP(A84,'directorio 3 ago 26'!$A$2:$J$658,5,FALSE) -> Cundinamarca | L84: 25 | M84: =VLOOKUP(Tabla22[[#This Row],[dptoTxt2]],dane!$A$2:$B$32,2,FALSE) -> 25 | N84: fiscalia2422con@justiciamilitar.gov.co/sfiscal2422con@justiciamilitar.gov.co | P84: 0 | Q84: =VLOOKUP(C84,'directorio 3 ago 26'!$A$2:$K$658,7,FALSE) -> 0 | S84: Fuerte Militar de Tolemaida Piso 2 - Supermercado Colsubsidio - Centro Comercial Serviya | T84: =VLOOKUP(A84,'directorio 3 ago 26'!$A$2:$J$658,9,FALSE) -> Avenida Las Américas No. 46-35, Piso 3 Comando Policia Metropolitana de Pereira Frente a Homecenter | U84: lunes a viernes de 08:00 a 18:00 horas | V84: =VLOOKUP(A84,'directorio 3 ago 26'!$A$2:$J$658,10,FALSE) -> LUNES A VIERNES DE 08:00 A 18:00 HORAS
A85: fiscalia2423con@justiciamilitar.gov.co | B85: fiscalia2423con@justiciamilitar.gov.co/sfiscal2423con@justiciamilitar.gov.co | C85: sfiscal2423con@justiciamilitar.gov.co | D85: PRIMERA INSTANCIA | E85: PONAL | F85: Fiscalía 2423 Penal Militar y Policial delegada ante Juez Penal Militar y Policial de Conocimiento | G85: =VLOOKUP(A85,'directorio 3 ago 26'!$A$2:$J$658,3,FALSE) -> Fiscalía 2423 Penal Militar y Policial Delegada ante Juez Penal Militar y Policial de Conocimiento | H85: Ibagué | I85: =VLOOKUP(A85,'directorio 3 ago 26'!$A$2:$J$658,4,FALSE) -> Ibagué | J85: Tolima | K85: =VLOOKUP(A85,'directorio 3 ago 26'!$A$2:$J$658,5,FALSE) -> Tolima | L85: 73 | M85: =VLOOKUP(Tabla22[[#This Row],[dptoTxt2]],dane!$A$2:$B$32,2,FALSE) -> 73 | N85: fiscalia2423con@justiciamilitar.gov.co/sfiscal2423con@justiciamilitar.gov.co | P85: 0 | Q85: =VLOOKUP(C85,'directorio 3 ago 26'!$A$2:$K$658,7,FALSE) -> 0 | S85: Carrera 48 Sur No. 157 - 199. Bloque A. Piso: 2. Comando Departamento Policía Tolima. Sector Picaleña. | T85: =VLOOKUP(A85,'directorio 3 ago 26'!$A$2:$J$658,9,FALSE) -> Calle 18 No. 47-160 Barrio Torobajo - Policía Metropolitana de San Juan de Pasto | U85: lunes a viernes de 08:00 a 18:00 horas | V85: =VLOOKUP(A85,'directorio 3 ago 26'!$A$2:$J$658,10,FALSE) -> LUNES A VIERNES DE 08:00 A 18:00 HORAS
A86: fiscalia2424con@justiciamilitar.gov.co | B86: fiscalia2424con@justiciamilitar.gov.co/sfiscal2424con@justiciamilitar.gov.co | C86: sfiscal2424con@justiciamilitar.gov.co | D86: PRIMERA INSTANCIA | E86: FFMM | F86: Fiscalía 2424 Penal Militar y Policial delegada ante Juez Penal Militar y Policial de Conocimiento | G86: =VLOOKUP(A86,'directorio 3 ago 26'!$A$2:$J$658,3,FALSE) -> Fiscalía 2424 Penal Militar y Policial Delegada ante Juez Penal Militar y Policial de Conocimiento | H86: Chaparral | I86: =VLOOKUP(A86,'directorio 3 ago 26'!$A$2:$J$658,4,FALSE) -> Chaparral | J86: Tolima | K86: =VLOOKUP(A86,'directorio 3 ago 26'!$A$2:$J$658,5,FALSE) -> Tolima | L86: 73 | M86: =VLOOKUP(Tabla22[[#This Row],[dptoTxt2]],dane!$A$2:$B$32,2,FALSE) -> 73 | N86: fiscalia2424con@justiciamilitar.gov.co/sfiscal2424con@justiciamilitar.gov.co | O86: 2425/2426 | P86: 0 | Q86: =VLOOKUP(C86,'directorio 3 ago 26'!$A$2:$K$658,7,FALSE) -> 0 | S86: Calle 14 No. 5-00 Barrio Pueblo Nuevo - Cantón Militar Del Sur Del Tolima | T86: =VLOOKUP(A86,'directorio 3 ago 26'!$A$2:$J$658,9,FALSE) -> Calle 18 No. 47-160 Barrio Torobajo - Policía Metropolitana de San Juan de Pasto | U86: lunes a viernes de 08:00 a 18:00 horas | V86: =VLOOKUP(A86,'directorio 3 ago 26'!$A$2:$J$658,10,FALSE) -> LUNES A VIERNES DE 08:00 A 18:00 HORAS
A87: fiscalia2425con@justiciamilitar.gov.co | B87: fiscalia2425con@justiciamilitar.gov.co/sfiscal2425con@justiciamilitar.gov.co | C87: sfiscal2425con@justiciamilitar.gov.co | D87: PRIMERA INSTANCIA | E87: PONAL | F87: Fiscalía 2425 Penal Militar y Policial delegada ante Juez Penal Militar y Policial de Conocimiento | G87: =VLOOKUP(A87,'directorio 3 ago 26'!$A$2:$J$658,3,FALSE) -> Fiscalía 2425 Penal Militar y Policial Delegada ante Juez Penal Militar y Policial de Conocimiento | H87: Neiva | I87: =VLOOKUP(A87,'directorio 3 ago 26'!$A$2:$J$658,4,FALSE) -> Neiva | J87: Huila | K87: =VLOOKUP(A87,'directorio 3 ago 26'!$A$2:$J$658,5,FALSE) -> Huila | L87: 41 | M87: =VLOOKUP(Tabla22[[#This Row],[dptoTxt2]],dane!$A$2:$B$32,2,FALSE) -> 41 | N87: fiscalia2425con@justiciamilitar.gov.co/sfiscal2425con@justiciamilitar.gov.co | P87: 2466 | Q87: =VLOOKUP(C87,'directorio 3 ago 26'!$A$2:$K$658,7,FALSE) -> #N/A | R87: 2466 | S87: Calle 21 No. 12 - 50. Barrio Tenerife. Comando de Policía Metropolitana de Neiva. | T87: =VLOOKUP(A87,'directorio 3 ago 26'!$A$2:$J$658,9,FALSE) -> Calle 5 No. 83-00 / Tercera Brigada - Cantón Militar Pichincha | U87: lunes a viernes de 08:00 a 18:00 horas | V87: =VLOOKUP(A87,'directorio 3 ago 26'!$A$2:$J$658,10,FALSE) -> LUNES A VIERNES DE 08:00 A 18:00 HORAS
A88: fiscalia2426con@justiciamilitar.gov.co | B88: fiscalia2426con@justiciamilitar.gov.co/sfiscal2426con@justiciamilitar.gov.co | C88: sfiscal2426con@justiciamilitar.gov.co | D88: PRIMERA INSTANCIA | E88: FFMM | F88: Fiscalía 2426 Penal Militar y Policial delegada ante Juez Penal Militar y Policial de Conocimiento | G88: =VLOOKUP(A88,'directorio 3 ago 26'!$A$2:$J$658,3,FALSE) -> Fiscalía 2426 Penal Militar y Policial Delegada ante Juez Penal Militar y Policial de Conocimiento | H88: Neiva | I88: =VLOOKUP(A88,'directorio 3 ago 26'!$A$2:$J$658,4,FALSE) -> Neiva | J88: Huila | K88: =VLOOKUP(A88,'directorio 3 ago 26'!$A$2:$J$658,5,FALSE) -> Huila | L88: 41 | M88: =VLOOKUP(Tabla22[[#This Row],[dptoTxt2]],dane!$A$2:$B$32,2,FALSE) -> 41 | N88: fiscalia2426con@justiciamilitar.gov.co/sfiscal2426con@justiciamilitar.gov.co | P88: 2467 | Q88: =VLOOKUP(C88,'directorio 3 ago 26'!$A$2:$K$658,7,FALSE) -> 0 | R88: 2467 | S88: Carrera 16 No. 21-300. Batallón Tenerife | T88: =VLOOKUP(A88,'directorio 3 ago 26'!$A$2:$J$658,9,FALSE) -> Calle 5 No. 83-00 / Tercera Brigada - Cantón Militar Pichincha | U88: lunes a viernes de 08:00 a 18:00 horas | V88: =VLOOKUP(A88,'directorio 3 ago 26'!$A$2:$J$658,10,FALSE) -> LUNES A VIERNES DE 08:00 A 18:00 HORAS
A89: fiscalia2427con@justiciamilitar.gov.co | B89: fiscalia2427con@justiciamilitar.gov.co/sfiscal2427con@justiciamilitar.gov.co | C89: sfiscal2427con@justiciamilitar.gov.co | D89: PRIMERA INSTANCIA | E89: FFMM | F89: Fiscalía 2427 Penal Militar y Policial delegada ante Juez Penal Militar y Policial de Conocimiento | G89: =VLOOKUP(A89,'directorio 3 ago 26'!$A$2:$J$658,3,FALSE) -> Fiscalía 2427 Penal Militar y Policial Delegada ante Juez Penal Militar y Policial de Conocimiento | H89: Manizales | I89: =VLOOKUP(A89,'directorio 3 ago 26'!$A$2:$J$658,4,FALSE) -> Manizales | J89: Caldas | K89: =VLOOKUP(A89,'directorio 3 ago 26'!$A$2:$J$658,5,FALSE) -> Caldas | L89: 17 | M89: =VLOOKUP(Tabla22[[#This Row],[dptoTxt2]],dane!$A$2:$B$32,2,FALSE) -> 17 | N89: fiscalia2427con@justiciamilitar.gov.co/sfiscal2427con@justiciamilitar.gov.co | P89: 0 | Q89: =VLOOKUP(C89,'directorio 3 ago 26'!$A$2:$K$658,7,FALSE) -> 0 | S89: Calle 71 No. 25-00 Barrio Palermo - Batallón de Infantería No. 22 Batalla Ayacucho | T89: =VLOOKUP(A89,'directorio 3 ago 26'!$A$2:$J$658,9,FALSE) -> Carrera 3 Norte No. 24N - 16 Barrio El piloto Edificio el Piloto - Instalaciones de Incorporación y Disciplina de la Policía | U89: lunes a viernes de 08:00 a 18:00 horas | V89: =VLOOKUP(A89,'directorio 3 ago 26'!$A$2:$J$658,10,FALSE) -> LUNES A VIERNES DE 08:00 A 18:00 HORAS
A90: fiscalia2428con@justiciamilitar.gov.co | B90: fiscalia2428con@justiciamilitar.gov.co/sfiscal2428con@justiciamilitar.gov.co | C90: sfiscal2428con@justiciamilitar.gov.co | D90: PRIMERA INSTANCIA | E90: PONAL | F90: Fiscalía 2428 Penal Militar y Policial delegada ante Juez Penal Militar y Policial de Conocimiento | G90: =VLOOKUP(A90,'directorio 3 ago 26'!$A$2:$J$658,3,FALSE) -> Fiscalía 2428 Penal Militar y Policial Delegada ante Juez Penal Militar y Policial de Conocimiento | H90: Armenia | I90: =VLOOKUP(A90,'directorio 3 ago 26'!$A$2:$J$658,4,FALSE) -> Armenia | J90: Quindío | K90: =VLOOKUP(A90,'directorio 3 ago 26'!$A$2:$J$658,5,FALSE) -> Quindío | L90: 63 | M90: =VLOOKUP(Tabla22[[#This Row],[dptoTxt2]],dane!$A$2:$B$32,2,FALSE) -> 63 | N90: fiscalia2428con@justiciamilitar.gov.co/sfiscal2428con@justiciamilitar.gov.co | O90: 2490/2487 | P90: 0 | Q90: =VLOOKUP(C90,'directorio 3 ago 26'!$A$2:$K$658,7,FALSE) -> 0 | S90: Avenida Bolívar No. 25 Norte - 00 Palacio de Justicia Penal Militar y Policial | T90: =VLOOKUP(A90,'directorio 3 ago 26'!$A$2:$J$658,9,FALSE) -> Kilometro 1 Via la Habana - Batallon de Artillería No. 3 "Batalla de Palace" Guadalajara de Buga | U90: lunes a viernes de 08:00 a 18:00 horas | V90: =VLOOKUP(A90,'directorio 3 ago 26'!$A$2:$J$658,10,FALSE) -> LUNES A VIERNES DE 08:00 A 18:00 HORAS
A91: fiscalia2429con@justiciamilitar.gov.co | B91: fiscalia2429con@justiciamilitar.gov.co/sfiscal2429con@justiciamilitar.gov.co | C91: sfiscal2429con@justiciamilitar.gov.co | D91: PRIMERA INSTANCIA | E91: FFMM | F91: Fiscalía 2429 Penal Militar y Policial delegada ante Juez Penal Militar y Policial de Conocimiento | G91: =VLOOKUP(A91,'directorio 3 ago 26'!$A$2:$J$658,3,FALSE) -> Fiscalía 2429 Penal Militar y Policial Delegada ante Juez Penal Militar y Policial de Conocimiento | H91: Armenia | I91: =VLOOKUP(A91,'directorio 3 ago 26'!$A$2:$J$658,4,FALSE) -> Armenia | J91: Quindío | K91: =VLOOKUP(A91,'directorio 3 ago 26'!$A$2:$J$658,5,FALSE) -> Quindío | L91: 63 | M91: =VLOOKUP(Tabla22[[#This Row],[dptoTxt2]],dane!$A$2:$B$32,2,FALSE) -> 63 | N91: fiscalia2429con@justiciamilitar.gov.co/sfiscal2429con@justiciamilitar.gov.co | O91: 2485 | P91: 0 | Q91: =VLOOKUP(C91,'directorio 3 ago 26'!$A$2:$K$658,7,FALSE) -> 0 | S91: Avenida Bolívar No. 25 Norte - 00 Palacio de Justicia Penal Militar y Policial | T91: =VLOOKUP(A91,'directorio 3 ago 26'!$A$2:$J$658,9,FALSE) -> Avenida Los Cuarteles No. 80 - 00. Tercera Division Del Ejército. | U91: lunes a viernes de 08:00 a 18:00 horas | V91: =VLOOKUP(A91,'directorio 3 ago 26'!$A$2:$J$658,10,FALSE) -> LUNES A VIERNES DE 08:00 A 18:00 HORAS
A92: fiscalia2430con@justiciamilitar.gov.co | B92: fiscalia2430con@justiciamilitar.gov.co/sfiscal2430con@justiciamilitar.gov.co | C92: sfiscal2430con@justiciamilitar.gov.co | D92: PRIMERA INSTANCIA | E92: PONAL | F92: Fiscalía 2430 Penal Militar y Policial delegada ante Juez Penal Militar y Policial de Conocimiento | G92: =VLOOKUP(A92,'directorio 3 ago 26'!$A$2:$J$658,3,FALSE) -> Fiscalía 2430 Penal Militar y Policial Delegada ante Juez Penal Militar y Policial de Conocimiento | H92: Pereira | I92: =VLOOKUP(A92,'directorio 3 ago 26'!$A$2:$J$658,4,FALSE) -> Pereira | J92: Risaralda | K92: =VLOOKUP(A92,'directorio 3 ago 26'!$A$2:$J$658,5,FALSE) -> Risaralda | L92: 66 | M92: =VLOOKUP(Tabla22[[#This Row],[dptoTxt2]],dane!$A$2:$B$32,2,FALSE) -> 66 | N92: fiscalia2430con@justiciamilitar.gov.co/sfiscal2430con@justiciamilitar.gov.co | P92: 0 | Q92: =VLOOKUP(C92,'directorio 3 ago 26'!$A$2:$K$658,7,FALSE) -> 2510 | S92: Avenida Las Américas # 46-35, Piso 3 Comando Policia Metropolitana de Pereira Frente a Homecenter | T92: =VLOOKUP(A92,'directorio 3 ago 26'!$A$2:$J$658,9,FALSE) -> Avenida Panamericana 1N-75 Complejo Policial IJ. DIEGO MARÍA GUERRERO NAVIA - Comando Departamento de Policía Cauca - Edificio 7, Piso 3 | U92: lunes a viernes de 08:00 a 18:00 horas | V92: =VLOOKUP(A92,'directorio 3 ago 26'!$A$2:$J$658,10,FALSE) -> LUNES A VIERNES DE 08:00 A 18:00 HORAS
A93: fiscalia2431con@justiciamilitar.gov.co | B93: fiscalia2431con@justiciamilitar.gov.co/sfiscal2431con@justiciamilitar.gov.co | C93: sfiscal2431con@justiciamilitar.gov.co | D93: PRIMERA INSTANCIA | E93: PONAL | F93: Fiscalía 2431 Penal Militar y Policial delegada ante Juez Penal Militar y Policial de Conocimiento | G93: =VLOOKUP(A93,'directorio 3 ago 26'!$A$2:$J$658,3,FALSE) -> Fiscalía 2431 Penal Militar y Policial Delegada ante Juez Penal Militar y Policial de Conocimiento | H93: Pasto | I93: =VLOOKUP(A93,'directorio 3 ago 26'!$A$2:$J$658,4,FALSE) -> Pasto | J93: Nariño | K93: =VLOOKUP(A93,'directorio 3 ago 26'!$A$2:$J$658,5,FALSE) -> Nariño | L93: 52 | M93: =VLOOKUP(Tabla22[[#This Row],[dptoTxt2]],dane!$A$2:$B$32,2,FALSE) -> 52 | N93: fiscalia2431con@justiciamilitar.gov.co/sfiscal2431con@justiciamilitar.gov.co | P93: 2371 | Q93: =VLOOKUP(C93,'directorio 3 ago 26'!$A$2:$K$658,7,FALSE) -> 0 | R93: 2371 | S93: Calle 18 No. 47-160 Barrio Torobajo - Policía Metropolitana de San Juan de Pasto | T93: =VLOOKUP(A93,'directorio 3 ago 26'!$A$2:$J$658,9,FALSE) -> Carrera 6 No. 17 - 51. Frente al Parque Santander. Grupo de Caballería Mecanizado No. 3. “Gral. José Maria Cabal" | U93: lunes a viernes de 08:00 a 18:00 horas | V93: =VLOOKUP(A93,'directorio 3 ago 26'!$A$2:$J$658,10,FALSE) -> LUNES A VIERNES DE 08:00 A 18:00 HORAS
A94: fiscalia2432con@justiciamilitar.gov.co | B94: fiscalia2432con@justiciamilitar.gov.co/sfiscal2432con@justiciamilitar.gov.co | C94: sfiscal2432con@justiciamilitar.gov.co | D94: PRIMERA INSTANCIA | E94: FFMM | F94: Fiscalía 2432 Penal Militar y Policial delegada ante Juez Penal Militar y Policial de Conocimiento | G94: =VLOOKUP(A94,'directorio 3 ago 26'!$A$2:$J$658,3,FALSE) -> Fiscalía 2432 Penal Militar y Policial Delegada ante Juez Penal Militar y Policial de Conocimiento | H94: Pasto | I94: =VLOOKUP(A94,'directorio 3 ago 26'!$A$2:$J$658,4,FALSE) -> Pasto | J94: Nariño | K94: =VLOOKUP(A94,'directorio 3 ago 26'!$A$2:$J$658,5,FALSE) -> Nariño | L94: 52 | M94: =VLOOKUP(Tabla22[[#This Row],[dptoTxt2]],dane!$A$2:$B$32,2,FALSE) -> 52 | N94: fiscalia2432con@justiciamilitar.gov.co/sfiscal2432con@justiciamilitar.gov.co | P94: 0 | Q94: =VLOOKUP(C94,'directorio 3 ago 26'!$A$2:$K$658,7,FALSE) -> 0 | S94: Calle 18 No. 47-160 Barrio Torobajo - Policía Metropolitana de San Juan de Pasto | T94: =VLOOKUP(A94,'directorio 3 ago 26'!$A$2:$J$658,9,FALSE) -> Carrera 16 No. 21-300 - Novena Brigada. Batallón Tenerife | U94: lunes a viernes de 08:00 a 18:00 horas | V94: =VLOOKUP(A94,'directorio 3 ago 26'!$A$2:$J$658,10,FALSE) -> LUNES A VIERNES DE 08:00 A 18:00 HORAS
A95: fiscalia2433con@justiciamilitar.gov.co | B95: fiscalia2433con@justiciamilitar.gov.co/sfiscal2433con@justiciamilitar.gov.co | C95: sfiscal2433con@justiciamilitar.gov.co | D95: PRIMERA INSTANCIA | E95: FFMM | F95: Fiscalía 2433 Penal Militar y Policial delegada ante Juez Penal Militar y Policial de Conocimiento | G95: =VLOOKUP(A95,'directorio 3 ago 26'!$A$2:$J$658,3,FALSE) -> Fiscalía 2433 Penal Militar y Policial Delegada ante Juez Penal Militar y Policial de Conocimiento | H95: Cali | I95: =VLOOKUP(A95,'directorio 3 ago 26'!$A$2:$J$658,4,FALSE) -> Cali | J95: Valle del Cauca | K95: =VLOOKUP(A95,'directorio 3 ago 26'!$A$2:$J$658,5,FALSE) -> Valle del Cauca | L95: 76 | M95: =VLOOKUP(Tabla22[[#This Row],[dptoTxt2]],dane!$A$2:$B$32,2,FALSE) -> 76 | N95: fiscalia2433con@justiciamilitar.gov.co/sfiscal2433con@justiciamilitar.gov.co | P95: 0 | Q95: =VLOOKUP(C95,'directorio 3 ago 26'!$A$2:$K$658,7,FALSE) -> 0 | S95: Calle 5 No. 83-00 Cantón Militar Pichincha | T95: =VLOOKUP(A95,'directorio 3 ago 26'!$A$2:$J$658,9,FALSE) -> Centro Comercial Zulia (Servifree), 2do Piso. Centro Nacional de Entrenamiento (CENAE) / Nilo — Cundinamarca. | U95: lunes a viernes de 08:00 a 18:00 horas | V95: =VLOOKUP(A95,'directorio 3 ago 26'!$A$2:$J$658,10,FALSE) -> LUNES A VIERNES DE 08:00 A 18:00 HORAS
A96: fiscalia2434con@justiciamilitar.gov.co | B96: fiscalia2434con@justiciamilitar.gov.co/sfiscal2434con@justiciamilitar.gov.co | C96: sfiscal2434con@justiciamilitar.gov.co | D96: PRIMERA INSTANCIA | E96: PONAL | F96: Fiscalía 2434 Penal Militar y Policial delegada ante Juez Penal Militar y Policial de Conocimiento | G96: =VLOOKUP(A96,'directorio 3 ago 26'!$A$2:$J$658,3,FALSE) -> Fiscalía 2434 Penal Militar y Policial Delegada ante Juez Penal Militar y Policial de Conocimiento | H96: Cali | I96: =VLOOKUP(A96,'directorio 3 ago 26'!$A$2:$J$658,4,FALSE) -> Buga | J96: Valle del Cauca | K96: =VLOOKUP(A96,'directorio 3 ago 26'!$A$2:$J$658,5,FALSE) -> Valle del Cauca | L96: 76 | M96: =VLOOKUP(Tabla22[[#This Row],[dptoTxt2]],dane!$A$2:$B$32,2,FALSE) -> 76 | N96: fiscalia2434con@justiciamilitar.gov.co/sfiscal2434con@justiciamilitar.gov.co | P96: 0 | Q96: =VLOOKUP(C96,'directorio 3 ago 26'!$A$2:$K$658,7,FALSE) -> 0 | S96: CR 3RA NORTE # 24N - 16 Barrio: El piloto Edificio el Piloto Instalaciones de Incorporación y Disciplina de la Policía | T96: =VLOOKUP(A96,'directorio 3 ago 26'!$A$2:$J$658,9,FALSE) -> Carrera 9 No. 6-25 | U96: lunes a viernes de 08:00 a 18:00 horas | V96: =VLOOKUP(A96,'directorio 3 ago 26'!$A$2:$J$658,10,FALSE) -> LUNES A VIERNES DE 08:00 A 18:00 HORAS
A97: fiscalia2435con@justiciamilitar.gov.co | B97: fiscalia2435con@justiciamilitar.gov.co/sfiscal2435con@justiciamilitar.gov.co | C97: sfiscal2435con@justiciamilitar.gov.co | D97: PRIMERA INSTANCIA | E97: FFMM | F97: Fiscalía 2435 Penal Militar y Policial delegada ante Juez Penal Militar y Policial de Conocimiento | G97: =VLOOKUP(A97,'directorio 3 ago 26'!$A$2:$J$658,3,FALSE) -> Fiscalía 2435 Penal Militar y Policial Delegada ante Juez Penal Militar y Policial de Conocimiento | H97: Buga | I97: =VLOOKUP(A97,'directorio 3 ago 26'!$A$2:$J$658,4,FALSE) -> Buga | J97: Valle del Cauca | K97: =VLOOKUP(A97,'directorio 3 ago 26'!$A$2:$J$658,5,FALSE) -> Valle del Cauca | L97: 76 | M97: =VLOOKUP(Tabla22[[#This Row],[dptoTxt2]],dane!$A$2:$B$32,2,FALSE) -> 76 | N97: fiscalia2435con@justiciamilitar.gov.co/sfiscal2435con@justiciamilitar.gov.co | O97: 2468/2469 | P97: 0 | Q97: =VLOOKUP(C97,'directorio 3 ago 26'!$A$2:$K$658,7,FALSE) -> 0 | S97: Kilometro 1 Via la Habana - Batallon de Artillería No. 3 "Batalla de Palace" Guadalajara de Buga | T97: =VLOOKUP(A97,'directorio 3 ago 26'!$A$2:$J$658,9,FALSE) -> Kilómetro 1 Vía Al Mar. Brigada No. 17 del Ejército. Palacio de Justicia. | U97: lunes a viernes de 08:00 a 18:00 horas | V97: =VLOOKUP(A97,'directorio 3 ago 26'!$A$2:$J$658,10,FALSE) -> LUNES A VIERNES DE 08:00 A 17:00 HORAS
A98: fiscalia2436con@justiciamilitar.gov.co | B98: fiscalia2436con@justiciamilitar.gov.co/sfiscal2436con@justiciamilitar.gov.co | C98: sfiscal2436con@justiciamilitar.gov.co | D98: PRIMERA INSTANCIA | E98: FFMM | F98: Fiscalía 2436 Penal Militar y Policial delegada ante Juez Penal Militar y Policial de Conocimiento | G98: =VLOOKUP(A98,'directorio 3 ago 26'!$A$2:$J$658,3,FALSE) -> Fiscalía 2436 Penal Militar y Policial Delegada ante Juez Penal Militar y Policial de Conocimiento | H98: Popayán | I98: =VLOOKUP(A98,'directorio 3 ago 26'!$A$2:$J$658,4,FALSE) -> Popayán | J98: Cauca | K98: =VLOOKUP(A98,'directorio 3 ago 26'!$A$2:$J$658,5,FALSE) -> Cauca | L98: 19 | M98: =VLOOKUP(Tabla22[[#This Row],[dptoTxt2]],dane!$A$2:$B$32,2,FALSE) -> 19 | N98: fiscalia2436con@justiciamilitar.gov.co/sfiscal2436con@justiciamilitar.gov.co | P98: 0 | Q98: =VLOOKUP(C98,'directorio 3 ago 26'!$A$2:$K$658,7,FALSE) -> 0 | S98: Avenida Los Cuarteles No. 80 - 00. Tercera Division Del Ejército. | T98: =VLOOKUP(A98,'directorio 3 ago 26'!$A$2:$J$658,9,FALSE) -> Kilómetro 7 Vía Caucasia A Medellín. Batallón De Infantería No. 31. "Rifles". | U98: lunes a viernes de 08:00 a 18:00 horas | V98: =VLOOKUP(A98,'directorio 3 ago 26'!$A$2:$J$658,10,FALSE) -> LUNES A VIERNES DE 08:00 A 17:00 HORAS
A99: fiscalia2454con@justiciamilitar.gov.co | B99: fiscalia2454con@justiciamilitar.gov.co | D99: PRIMERA INSTANCIA | E99: FFMM | F99: Fiscalía 2454 Penal Militar y Policial delegada ante Juez Penal Militar y Policial de Conocimiento | G99: =VLOOKUP(A99,'directorio 3 ago 26'!$A$2:$J$658,3,FALSE) -> Fiscalía 2454 Penal Militar y Policial Delegada ante Juez Penal Militar y Policial de Conocimiento | H99: Carepa | I99: =VLOOKUP(A99,'directorio 3 ago 26'!$A$2:$J$658,4,FALSE) -> Carepa | J99: Antioquia | K99: =VLOOKUP(A99,'directorio 3 ago 26'!$A$2:$J$658,5,FALSE) -> Antioquia | L99: 5 | M99: =VLOOKUP(Tabla22[[#This Row],[dptoTxt2]],dane!$A$2:$B$32,2,FALSE) -> 5 | N99: fiscalia2454con@justiciamilitar.gov.co | P99: 0 | Q99: =VLOOKUP(C99,'directorio 3 ago 26'!$A$2:$K$658,7,FALSE) -> #N/A | S99: Kilómetro 1 Vía Al Mar. Brigada No. 17 del Ejército. Palacio de Justicia. | T99: =VLOOKUP(A99,'directorio 3 ago 26'!$A$2:$J$658,9,FALSE) -> Avenida Sierra Chiquita Kilómetro 3 Vía Jaraquiel a Montería - Décimo Primera Brigada Ejército | U99: lunes a viernes de 08:00 a 18:00 horas | V99: =VLOOKUP(A99,'directorio 3 ago 26'!$A$2:$J$658,10,FALSE) -> LUNES A VIERNES DE 08:00 A 18:00 HORAS
A100: fiscalia2455con@justiciamilitar.gov.co | B100: fiscalia2455con@justiciamilitar.gov.co | D100: PRIMERA INSTANCIA | E100: FFMM | F100: Fiscalía 2455 Penal Militar y Policial delegada ante Juez Penal Militar y Policial de Conocimiento | G100: =VLOOKUP(A100,'directorio 3 ago 26'!$A$2:$J$658,3,FALSE) -> Fiscalía 2455 Penal Militar y Policial Delegada ante Juez Penal Militar y Policial de Conocimiento | H100: Caucasia | I100: =VLOOKUP(A100,'directorio 3 ago 26'!$A$2:$J$658,4,FALSE) -> Caucasia | J100: Antioquia | K100: =VLOOKUP(A100,'directorio 3 ago 26'!$A$2:$J$658,5,FALSE) -> Antioquia | L100: 5 | M100: =VLOOKUP(Tabla22[[#This Row],[dptoTxt2]],dane!$A$2:$B$32,2,FALSE) -> 5 | N100: fiscalia2455con@justiciamilitar.gov.co | O100: 2234 | P100: 0 | Q100: =VLOOKUP(C100,'directorio 3 ago 26'!$A$2:$K$658,7,FALSE) -> #N/A | S100: Kilómetro 7 Vía Caucasia A Medellín. Batallón De Infantería No. 31. "Rifles". | T100: =VLOOKUP(A100,'directorio 3 ago 26'!$A$2:$J$658,9,FALSE) -> Batallon de Ingenieros de combate No. 2 General "Javier y Vergara Velasco" Carrera Oriental Vía Aeropuerto. Cantón Militar de Malambo. Binar | U100: lunes a viernes de 08:00 a 18:00 horas | V100: =VLOOKUP(A100,'directorio 3 ago 26'!$A$2:$J$658,10,FALSE) -> LUNES A VIERNES DE 08:00 A 18:00 HORAS
...

Sheet dane
A1: dptoTxt | B1: dpto
A2: Bogotá D.C. | B2: 11
A3: Valle del Cauca | B3: 76
A4: Huila | B4: 41
A5: Tolima | B5: 73
A6: Quindío | B6: 63
A7: Cauca | B7: 19
A8: Nariño | B8: 52
A9: Antioquia | B9: 5
A10: Bolívar | B10: 13
A11: Cesar | B11: 20
A12: Norte de Santander | B12: 54
A13: Santander | B13: 68
... A32: Vaupés | B32: 97

Sheet directorio 3 ago 26
A1: CORREO ELECTRÓNICO INSTITUCIONAL | B1: CARGO | C1: DESPACHO JUDICIAL | D1: CIUDAD DESPACHO | E1: DEPTO DESPACHO | F1: CORREO ELECTRÓNICO INSTITUCIONAL | G1: EXTENSIÓN PBX: 6015169563 | H1: SEDE | I1: DIRECCION DEL DESPACHO | J1: HORARIO DE ATENCIÓN
A2: mauricio.lara@justiciamilitar.gov.co | B2: Magistrado del Tribunal Superior Militar y Policial | C2: Tribunal Superior Militar y Policial | D2: Bogotá D.C. | E2: Bogotá D.C. | F2: mauricio.lara@justiciamilitar.gov.co | G2: 1534 | H2: PALACIO DE JUSTICIA PENAL MILITAR Y POLICIAL "TF LAURA ROCIO PRIETO FORERO" | I2: Carrera 46 No. 20 C - 01 (Puente Aranda) Cantón Militar Occidental “Coronel Francisco José de Caldas” | J2: LUNES A VIERNES DE 08:00 A 17:00 HORAS | K2: =VLOOKUP(A2,'directorio formulado'!$A$2:$V$289,1,FALSE) -> mauricio.lara@justiciamilitar.gov.co
A3: gustavo.suarez@justiciamilitar.gov.co | B3: Magistrado del Tribunal Superior Militar y Policial | C3: Tribunal Superior Militar y Policial | D3: Bogotá D.C. | E3: Bogotá D.C. | F3: gustavo.suarez@justiciamilitar.gov.co | G3: 1532 | H3: PALACIO DE JUSTICIA PENAL MILITAR Y POLICIAL "TF LAURA ROCIO PRIETO FORERO" | I3: Carrera 46 No. 20 C - 01 (Puente Aranda) Cantón Militar Occidental “Coronel Francisco José de Caldas” | J3: LUNES A VIERNES DE 08:00 A 17:00 HORAS | K3: =VLOOKUP(A3,'directorio formulado'!$A$2:$V$289,1,FALSE) -> gustavo.suarez@justiciamilitar.gov.co
A4: paola.zuluaga@justiciamilitar.gov.co | B4: Magistrado del Tribunal Superior Militar y Policial | C4: Tribunal Superior Militar y Policial | D4: Bogotá D.C. | E4: Bogotá D.C. | F4: paola.zuluaga@justiciamilitar.gov.co | G4: 1503 | H4: PALACIO DE JUSTICIA PENAL MILITAR Y POLICIAL "TF LAURA ROCIO PRIETO FORERO" | I4: Carrera 46 No. 20 C - 01 (Puente Aranda) Cantón Militar Occidental “Coronel Francisco José de Caldas” | J4: LUNES A VIERNES DE 08:00 A 17:00 HORAS | K4: =VLOOKUP(A4,'directorio formulado'!$A$2:$V$289,1,FALSE) -> paola.zuluaga@justiciamilitar.gov.co
A5: sandra.botia@justiciamilitar.gov.co | B5: Magistrado del Tribunal Superior Militar y Policial | C5: Tribunal Superior Militar y Policial | D5: Bogotá D.C. | E5: Bogotá D.C. | F5: sandra.botia@justiciamilitar.gov.co | G5: 1528 | H5: PALACIO DE JUSTICIA PENAL MILITAR Y POLICIAL "TF LAURA ROCIO PRIETO FORERO" | I5: Carrera 46 No. 20 C - 01 (Puente Aranda) Cantón Militar Occidental “Coronel Francisco José de Caldas” | J5: LUNES A VIERNES DE 08:00 A 17:00 HORAS | K5: =VLOOKUP(A5,'directorio formulado'!$A$2:$V$289,1,FALSE) -> sandra.botia@justiciamilitar.gov.co
A6: jorge.lopez@justiciamilitar.gov.co | B6: Magistrado del Tribunal Superior Militar y Policial | C6: Tribunal Superior Militar y Policial | D6: Bogotá D.C. | E6: Bogotá D.C. | F6: jorge.lopez@justiciamilitar.gov.co | G6: 1525 | H6: PALACIO DE JUSTICIA PENAL MILITAR Y POLICIAL "TF LAURA ROCIO PRIETO FORERO" | I6: Carrera 46 No. 20 C - 01 (Puente Aranda) Cantón Militar Occidental “Coronel Francisco José de Caldas” | J6: LUNES A VIERNES DE 08:00 A 17:00 HORAS | K6: =VLOOKUP(A6,'directorio formulado'!$A$2:$V$289,1,FALSE) -> jorge.lopez@justiciamilitar.gov.co
A7: roberto.ramirez@justiciamilitar.gov.co | B7: Magistrado del Tribunal Superior Militar y Policial | C7: Tribunal Superior Militar y Policial | D7: Bogotá D.C. | E7: Bogotá D.C. | F7: roberto.ramirez@justiciamilitar.gov.co | G7: 1520 | H7: PALACIO DE JUSTICIA PENAL MILITAR Y POLICIAL "TF LAURA ROCIO PRIETO FORERO" | I7: Carrera 46 No. 20 C - 01 (Puente Aranda) Cantón Militar Occidental “Coronel Francisco José de Caldas” | J7: LUNES A VIERNES DE 08:00 A 17:00 HORAS | K7: =VLOOKUP(A7,'directorio formulado'!$A$2:$V$289,1,FALSE) -> roberto.ramirez@justiciamilitar.gov.co
A8: ivan.quintero@justiciamilitar.gov.co | B8: Secretario del Tribunal Superior Militar y Policial | C8: Tribunal Superior Militar y Policial | D8: Bogotá D.C. | E8: Bogotá D.C. | F8: ivan.quintero@justiciamilitar.gov.co | G8: 1512 | H8: PALACIO DE JUSTICIA PENAL MILITAR Y POLICIAL "TF LAURA ROCIO PRIETO FORERO" | I8: Carrera 46 No. 20 C - 01 (Puente Aranda) Cantón Militar Occidental “Coronel Francisco José de Caldas” | J8: LUNES A VIERNES DE 08:00 A 17:00 HORAS | K8: =VLOOKUP(A8,'directorio formulado'!$A$2:$V$289,1,FALSE) -> ivan.quintero@justiciamilitar.gov.co
A9: eldidvey.castro@justiciamilitar.gov.co | B9: Relator del Tribunal Superior Militar y Policial | C9: Tribunal Superior Militar y Policial | D9: Bogotá D.C. | E9: Bogotá D.C. | F9: eldidvey.castro@justiciamilitar.gov.co | G9: 1091 | H9: PALACIO DE JUSTICIA PENAL MILITAR Y POLICIAL "TF LAURA ROCIO PRIETO FORERO" | I9: Carrera 46 No. 20 C - 01 (Puente Aranda) Cantón Militar Occidental “Coronel Francisco José de Caldas” | J9: LUNES A VIERNES DE 08:00 A 17:00 HORAS | K9: =VLOOKUP(A9,'directorio formulado'!$A$2:$V$289,1,FALSE) -> eldidvey.castro@justiciamilitar.gov.co
A10: flor.murcia@justiciamilitar.gov.co | B10: Auxiliar Judicial del Tribunal Superior Militar y Policial | C10: Tribunal Superior Militar y Policial | D10: Bogotá D.C. | E10: Bogotá D.C. | F10: flor.murcia@justiciamilitar.gov.co | G10: 1529 | H10: PALACIO DE JUSTICIA PENAL MILITAR Y POLICIAL "TF LAURA ROCIO PRIETO FORERO" | I10: Carrera 46 No. 20 C - 01 (Puente Aranda) Cantón Militar Occidental “Coronel Francisco José de Caldas” | J10: LUNES A VIERNES DE 08:00 A 17:00 HORAS | K10: =VLOOKUP(A10,'directorio formulado'!$A$2:$V$289,1,FALSE) -> #N/A
A11: julied.figueroa@justiciamilitar.gov.co | B11: Auxiliar Judicial del Tribunal Superior Militar y Policial | C11: Tribunal Superior Militar y Policial | D11: Bogotá D.C. | E11: Bogotá D.C. | F11: julied.figueroa@justiciamilitar.gov.co | H11: PALACIO DE JUSTICIA PENAL MILITAR Y POLICIAL "TF LAURA ROCIO PRIETO FORERO" | I11: Carrera 46 No. 20 C - 01 (Puente Aranda) Cantón Militar Occidental “Coronel Francisco José de Caldas” | J11: LUNES A VIERNES DE 08:00 A 17:00 HORAS | K11: =VLOOKUP(A11,'directorio formulado'!$A$2:$V$289,1,FALSE) -> #N/A
A12: juan.bautista@justiciamilitar.gov.co | B12: Auxiliar Judicial del Tribunal Superior Militar y Policial | C12: Tribunal Superior Militar y Policial | D12: Bogotá D.C. | E12: Bogotá D.C. | F12: juan.bautista@justiciamilitar.gov.co | H12: PALACIO DE JUSTICIA PENAL MILITAR Y POLICIAL "TF LAURA ROCIO PRIETO FORERO" | I12: Carrera 46 No. 20 C - 01 (Puente Aranda) Cantón Militar Occidental “Coronel Francisco José de Caldas” | J12: LUNES A VIERNES DE 08:00 A 17:00 HORAS | K12: =VLOOKUP(A12,'directorio formulado'!$A$2:$V$289,1,FALSE) -> #N/A
A13: ivan.pena@justiciamilitar.gov.co | B13: Auxiliar Judicial del Tribunal Superior Militar y Policial | C13: Tribunal Superior Militar y Policial | D13: Bogotá D.C. | E13: Bogotá D.C. | F13: ivan.pena@justiciamilitar.gov.co | G13: 1536 | H13: PALACIO DE JUSTICIA PENAL MILITAR Y POLICIAL "TF LAURA ROCIO PRIETO FORERO" | I13: Carrera 46 No. 20 C - 01 (Puente Aranda) Cantón Militar Occidental “Coronel Francisco José de Caldas” | J13: LUNES A VIERNES DE 08:00 A 17:00 HORAS | K13: =VLOOKUP(A13,'directorio formulado'!$A$2:$V$289,1,FALSE) -> #N/A
A14: higgins.alvarez@justiciamilitar.gov.co | B14: Auxiliar Judicial del Tribunal Superior Militar y Policial | C14: Tribunal Superior Militar y Policial | D14: Bogotá D.C. | E14: Bogotá D.C. | F14: higgins.alvarez@justiciamilitar.gov.co | G14: 1530 | H14: PALACIO DE JUSTICIA PENAL MILITAR Y POLICIAL "TF LAURA ROCIO PRIETO FORERO" | I14: Carrera 46 No. 20 C - 01 (Puente Aranda) Cantón Militar Occidental “Coronel Francisco José de Caldas” | J14: LUNES A VIERNES DE 08:00 A 17:00 HORAS | K14: =VLOOKUP(A14,'directorio formulado'!$A$2:$V$289,1,FALSE) -> #N/A
A15: andrea.naranjo@justiciamilitar.gov.co | B15: Auxiliar Judicial del Tribunal Superior Militar y Policial | C15: Tribunal Superior Militar y Policial | D15: Bogotá D.C. | E15: Bogotá D.C. | F15: andrea.naranjo@justiciamilitar.gov.co | G15: 1535 | H15: PALACIO DE JUSTICIA PENAL MILITAR Y POLICIAL "TF LAURA ROCIO PRIETO FORERO" | I15: Carrera 46 No. 20 C - 01 (Puente Aranda) Cantón Militar Occidental “Coronel Francisco José de Caldas” | J15: LUNES A VIERNES DE 08:00 A 17:00 HORAS | K15: =VLOOKUP(A15,'directorio formulado'!$A$2:$V$289,1,FALSE) -> #N/A
A16: yusmary.casallas@justiciamilitar.gov.co | B16: Auxiliar Judicial del Tribunal Superior Militar y Policial | C16: Tribunal Superior Militar y Policial | D16: Bogotá D.C. | E16: Bogotá D.C. | F16: yusmary.casallas@justiciamilitar.gov.co | G16: 1531 | H16: PALACIO DE JUSTICIA PENAL MILITAR Y POLICIAL "TF LAURA ROCIO PRIETO FORERO" | I16: Carrera 46 No. 20 C - 01 (Puente Aranda) Cantón Militar Occidental “Coronel Francisco José de Caldas” | J16: LUNES A VIERNES DE 08:00 A 17:00 HORAS | K16: =VLOOKUP(A16,'directorio formulado'!$A$2:$V$289,1,FALSE) -> #N/A
A17: yenith.roa@justiciamilitar.gov.co | B17: Auxiliar Judicial del Tribunal Superior Militar y Policial | C17: Tribunal Superior Militar y Policial | D17: Bogotá D.C. | E17: Bogotá D.C. | F17: yenith.roa@justiciamilitar.gov.co | G17: 1533 | H17: PALACIO DE JUSTICIA PENAL MILITAR Y POLICIAL "TF LAURA ROCIO PRIETO FORERO" | I17: Carrera 46 No. 20 C - 01 (Puente Aranda) Cantón Militar Occidental “Coronel Francisco José de Caldas” | J17: LUNES A VIERNES DE 08:00 A 17:00 HORAS | K17: =VLOOKUP(A17,'directorio formulado'!$A$2:$V$289,1,FALSE) -> #N/A
A18: Carlos.Basto@justiciamilitar.gov.co | B18: Auxiliar Judicial del Tribunal Superior Militar y Policial | C18: Tribunal Superior Militar y Policial | D18: Bogotá D.C. | E18: Bogotá D.C. | F18: Carlos.Basto@justiciamilitar.gov.co | G18: 1521 | H18: PALACIO DE JUSTICIA PENAL MILITAR Y POLICIAL "TF LAURA ROCIO PRIETO FORERO" | I18: Carrera 46 No. 20 C - 01 (Puente Aranda) Cantón Militar Occidental “Coronel Francisco José de Caldas” | J18: LUNES A VIERNES DE 08:00 A 17:00 HORAS | K18: =VLOOKUP(A18,'directorio formulado'!$A$2:$V$289,1,FALSE) -> Carlos.Basto@justiciamilitar.gov.co
A19: esteban.guarin@justiciamilitar.gov.co | B19: Auxiliar Judicial del Tribunal Superior Militar y Policial | C19: Tribunal Superior Militar y Policial | D19: Bogotá D.C. | E19: Bogotá D.C. | F19: esteban.guarin@justiciamilitar.gov.co | G19: 1527 | H19: PALACIO DE JUSTICIA PENAL MILITAR Y POLICIAL "TF LAURA ROCIO PRIETO FORERO" | I19: Carrera 46 No. 20 C - 01 (Puente Aranda) Cantón Militar Occidental “Coronel Francisco José de Caldas” | J19: LUNES A VIERNES DE 08:00 A 17:00 HORAS | K19: =VLOOKUP(A19,'directorio formulado'!$A$2:$V$289,1,FALSE) -> #N/A
A20: dora.ramirez@justiciamilitar.gov.co | B20: Oficial Mayor del Tribunal Superior Militar y Policial | C20: Tribunal Superior Militar y Policial | D20: Bogotá D.C. | E20: Bogotá D.C. | F20: dora.ramirez@justiciamilitar.gov.co | G20: 1514 | H20: PALACIO DE JUSTICIA PENAL MILITAR Y POLICIAL "TF LAURA ROCIO PRIETO FORERO" | I20: Carrera 46 No. 20 C - 01 (Puente Aranda) Cantón Militar Occidental “Coronel Francisco José de Caldas” | J20: LUNES A VIERNES DE 08:00 A 17:00 HORAS | K20: =VLOOKUP(A20,'directorio formulado'!$A$2:$V$289,1,FALSE) -> #N/A
A21: omar.aguilar@justiciamilitar.gov.co | B21: Escribiente del Tribunal Superior Militar y Policial | C21: Tribunal Superior Militar y Policial | D21: Bogotá D.C. | E21: Bogotá D.C. | F21: omar.aguilar@justiciamilitar.gov.co | G21: 1090 | H21: PALACIO DE JUSTICIA PENAL MILITAR Y POLICIAL "TF LAURA ROCIO PRIETO FORERO" | I21: Carrera 46 No. 20 C - 01 (Puente Aranda) Cantón Militar Occidental “Coronel Francisco José de Caldas” | J21: LUNES A VIERNES DE 08:00 A 17:00 HORAS | K21: =VLOOKUP(A21,'directorio formulado'!$A$2:$V$289,1,FALSE) -> #N/A
A22: maycol.daza@justiciamilitar.gov.co | B22: Escribiente del Tribunal Superior Militar y Policial | C22: Tribunal Superior Militar y Policial | D22: Bogotá D.C. | E22: Bogotá D.C. | F22: maycol.daza@justiciamilitar.gov.co | G22: 1094 | H22: PALACIO DE JUSTICIA PENAL MILITAR Y POLICIAL "TF LAURA ROCIO PRIETO FORERO" | I22: Carrera 46 No. 20 C - 01 (Puente Aranda) Cantón Militar Occidental “Coronel Francisco José de Caldas” | J22: LUNES A VIERNES DE 08:00 A 17:00 HORAS | K22: =VLOOKUP(A22,'directorio formulado'!$A$2:$V$289,1,FALSE) -> #N/A
A23: oscar.gudino@justiciamilitar.gov.co | B23: Escribiente del Tribunal Superior Militar y Policial | C23: Tribunal Superior Militar y Policial | D23: Bogotá D.C. | E23: Bogotá D.C. | F23: oscar.gudino@justiciamilitar.gov.co | G23: 1092 | H23: PALACIO DE JUSTICIA PENAL MILITAR Y POLICIAL "TF LAURA ROCIO PRIETO FORERO" | I23: Carrera 46 No. 20 C - 01 (Puente Aranda) Cantón Militar Occidental “Coronel Francisco José de Caldas” | J23: LUNES A VIERNES DE 08:00 A 17:00 HORAS | K23: =VLOOKUP(A23,'directorio formulado'!$A$2:$V$289,1,FALSE) -> #N/A
A24: jesus.marin@justiciamilitar.gov.co | B24: Escribiente del Tribunal Superior Militar y Policial | C24: Tribunal Superior Militar y Policial | D24: Bogotá D.C. | E24: Bogotá D.C. | F24: jesus.marin@justiciamilitar.gov.co | G24: 1093 | H24: PALACIO DE JUSTICIA PENAL MILITAR Y POLICIAL "TF LAURA ROCIO PRIETO FORERO" | I24: Carrera 46 No. 20 C - 01 (Puente Aranda) Cantón Militar Occidental “Coronel Francisco José de Caldas” | J24: LUNES A VIERNES DE 08:00 A 17:00 HORAS | K24: =VLOOKUP(A24,'directorio formulado'!$A$2:$V$289,1,FALSE) -> #N/A
... A28: sjuez1202conesp@justiciamilitar.gov.co | B28: Secretario de Despacho | C28: Juzgados Penales Militares y Policiales de Conocimiento Especializado | D28: Bogotá D.C. | E28: Bogotá D.C. | F28: sjuez1202conesp@justiciamilitar.gov.co | G28: 1242 | H28: PALACIO DE JUSTICIA PENAL MILITAR Y POLICIAL "TF LAURA ROCIO PRIETO FORERO" | I28: Carrera 46 No. 20 C - 01 (Puente Aranda) Cantón Militar Occidental “Coronel Francisco José de Caldas” | J28: LUNES A VIERNES DE 08:00 A 17:00 HORAS | K28: =VLOOKUP(A28,'directorio formulado'!$A$2:$V$289,1,FALSE) -> #N/A
A29: juzgado1203cones@justiciamilitar.gov.co | B29: Juez Penal Militar y Policial de Conocimiento Especializado | C29: Juzgado 1203 Penal Militar y Policial de Conocimiento Especializado | D29: Cali | E29: Valle del Cauca | F29: juzgado1203cones@justiciamilitar.gov.co | H29: PALACIO DE JUSTICIA PENAL MILITAR Y POLICIAL | I29: Calle 5 No. 83-00 / Tercera Brigada - Cantón Militar Pichincha | J29: LUNES A VIERNES DE 08:00 A 18:00 HORAS | K29: =VLOOKUP(A29,'directorio formulado'!$A$2:$V$289,1,FALSE) -> juzgado1203cones@justiciamilitar.gov.co
A30: sjuez1203cones@justiciamilitar.gov.co | B30: Secretario de Despacho | C30: Juzgado 1203 Penal Militar y Policial de Conocimiento Especializado | D30: Cali | E30: Valle del Cauca | F30: sjuez1203cones@justiciamilitar.gov.co | G30: 1240 | H30: PALACIO DE JUSTICIA PENAL MILITAR Y POLICIAL | I30: Calle 5 No. 83-00 / Tercera Brigada - Cantón Militar Pichincha | J30: LUNES A VIERNES DE 08:00 A 18:00 HORAS | K30: =VLOOKUP(A30,'directorio formulado'!$A$2:$V$289,1,FALSE) -> #N/A
A31: juzgado1204cones@justiciamilitar.gov.co | B31: Juez Penal Militar y Policial de Conocimiento Especializado | C31: Juzgado 1204 Penal Militar y Policial de Conocimiento Especializado | D31: Cali | E31: Valle del Cauca | F31: juzgado1204cones@justiciamilitar.gov.co | H31: MECAL | I31: Carrera 1 No. 33-00 Barrio Berlín, Estación de Policia San Francisco | J31: LUNES A VIERNES DE 08:00 A 18:00 HORAS | K31: =VLOOKUP(A31,'directorio formulado'!$A$2:$V$289,1,FALSE) -> juzgado1204cones@justiciamilitar.gov.co
A32: sjjuez51deipm@justiciamilitar.gov.co | B32: Secretario de Despacho | C32: Juzgado 1204 Penal Militar y Policial de Conocimiento Especializado | D32: Cali | E32: Valle del Cauca | F32: sjjuez51deipm@justiciamilitar.gov.co | G32: 2405 | H32: MECAL | I32: Carrera 1 No. 33-00 Barrio Berlín, Estación de Policia San Francisco | J32: LUNES A VIERNES DE 08:00 A 18:00 HORAS | K32: =VLOOKUP(A32,'directorio formulado'!$A$2:$V$289,1,FALSE) -> #N/A
A33: juez1301con@justiciamilitar.gov.co | B33: Juez Penal Militar y Policial de Conocimiento | C33: Juzgado 1301 Penal Militar y Policial de Conocimiento | D33: Bogotá D.C. | E33: Bogotá D.C. | F33: juez1301con@justiciamilitar.gov.co | G33: 1220 | H33: PALACIO DE JUSTICIA PENAL MILITAR Y POLICIAL "TF LAURA ROCIO PRIETO FORERO" | I33: Carrera 46 No. 20 C - 01 (Puente Aranda) Cantón Militar Occidental “Coronel Francisco José de Caldas” | J33: LUNES A VIERNES DE 08:00 A 17:00 HORAS | K33: =VLOOKUP(A33,'directorio formulado'!$A$2:$V$289,1,FALSE) -> juez1301con@justiciamilitar.gov.co
A34: sjuez1301con@justiciamilitar.gov.co | B34: Secretario de Despacho | C34: Juzgado 1301 Penal Militar y Policial de Conocimiento | D34: Bogotá D.C. | E34: Bogotá D.C. | F34: sjuez1301con@justiciamilitar.gov.co | G34: 1221 | H34: PALACIO DE JUSTICIA PENAL MILITAR Y POLICIAL "TF LAURA ROCIO PRIETO FORERO" | I34: Carrera 46 No. 20 C - 01 (Puente Aranda) Cantón Militar Occidental “Coronel Francisco José de Caldas” | J34: LUNES A VIERNES DE 08:00 A 17:00 HORAS | K34: =VLOOKUP(A34,'directorio formulado'!$A$2:$V$289,1,FALSE) -> #N/A
A35: juez1302con@justiciamilitar.gov.co | B35: Juez Penal Militar y Policial de Conocimiento | C35: Juzgado 1302 Penal Militar y Policial de Conocimiento | D35: Bogotá D.C. | E35: Bogotá D.C. | F35: juez1302con@justiciamilitar.gov.co | G35: 1218 | H35: PALACIO DE JUSTICIA PENAL MILITAR Y POLICIAL "TF LAURA ROCIO PRIETO FORERO" | I35: Carrera 46 No. 20 C - 01 (Puente Aranda) Cantón Militar Occidental “Coronel Francisco José de Caldas” | J35: LUNES A VIERNES DE 08:00 A 17:00 HORAS | K35: =VLOOKUP(A35,'directorio formulado'!$A$2:$V$289,1,FALSE) -> juez1302con@justiciamilitar.gov.co
A36: sjuez1302con@justiciamilitar.gov.co | B36: Secretario de Despacho | C36: Juzgado 1302 Penal Militar y Policial de Conocimiento | D36: Bogotá D.C. | E36: Bogotá D.C. | F36: sjuez1302con@justiciamilitar.gov.co | G36: 1219 | H36: PALACIO DE JUSTICIA PENAL MILITAR Y POLICIAL "TF LAURA ROCIO PRIETO FORERO" | I36: Carrera 46 No. 20 C - 01 (Puente Aranda) Cantón Militar Occidental “Coronel Francisco José de Caldas” | J36: LUNES A VIERNES DE 08:00 A 17:00 HORAS | K36: =VLOOKUP(A36,'directorio formulado'!$A$2:$V$289,1,FALSE) -> #N/A
A37: juzgado1305con@justiciamilitar.gov.co | B37: Juez Penal Militar y Policial de Conocimiento | C37: Juzgado 1305 Penal Militar y Policial de Conocimiento | D37: Bogotá D.C. | E37: Bogotá D.C. | F37: juzgado1305con@justiciamilitar.gov.co | H37: PALACIO DE JUSTICIA PENAL MILITAR Y POLICIAL "TF LAURA ROCIO PRIETO FORERO" | I37: Carrera 46 No. 20 C - 01 (Puente Aranda) Cantón Militar Occidental “Coronel Francisco José de Caldas” | J37: LUNES A VIERNES DE 08:00 A 17:00 HORAS | K37: =VLOOKUP(A37,'directorio formulado'!$A$2:$V$289,1,FALSE) -> juzgado1305con@justiciamilitar.gov.co
A38: sjuez1305con@justiciamilitar.gov.co | B38: Secretario de Despacho | C38: Juzgado 1305 Penal Militar y Policial de Conocimiento | D38: Bogotá D.C. | E38: Bogotá D.C. | F38: sjuez1305con@justiciamilitar.gov.co | H38: PALACIO DE JUSTICIA PENAL MILITAR Y POLICIAL "TF LAURA ROCIO PRIETO FORERO" | I38: Carrera 46 No. 20 C - 01 (Puente Aranda) Cantón Militar Occidental “Coronel Francisco José de Caldas” | J38: LUNES A VIERNES DE 08:00 A 17:00 HORAS | K38: =VLOOKUP(A38,'directorio formulado'!$A$2:$V$289,1,FALSE) -> #N/A
A39: juzgado1306con@justiciamilitar.gov.co | B39: Juez Penal Militar y Policial de Conocimiento | C39: Juzgado 1306 Penal Militar y Policial de Conocimiento | D39: Bogotá D.C. | E39: Bogotá D.C. | F39: juzgado1306con@justiciamilitar.gov.co | G39: 1330 | H39: PALACIO DE JUSTICIA PENAL MILITAR Y POLICIAL "TF LAURA ROCIO PRIETO FORERO" | I39: Carrera 46 No. 20 C - 01 (Puente Aranda) Cantón Militar Occidental “Coronel Francisco José de Caldas” | J39: LUNES A VIERNES DE 08:00 A 17:00 HORAS | K39: =VLOOKUP(A39,'directorio formulado'!$A$2:$V$289,1,FALSE) -> juzgado1306con@justiciamilitar.gov.co
A40: sjuez1305con@justiciamilitar.gov.co | B40: Secretario de Despacho | C40: Juzgado 1306 Penal Militar y Policial de Conocimiento | D40: Bogotá D.C. | E40: Bogotá D.C. | F40: sjuez1305con@justiciamilitar.gov.co | G40: 1331 | H40: PALACIO DE JUSTICIA PENAL MILITAR Y POLICIAL "TF LAURA ROCIO PRIETO FORERO" | I40: Carrera 46 No. 20 C - 01 (Puente Aranda) Cantón Militar Occidental “Coronel Francisco José de Caldas” | J40: LUNES A VIERNES DE 08:00 A 17:00 HORAS | K40: =VLOOKUP(A40,'directorio formulado'!$A$2:$V$289,1,FALSE) -> #N/A
A41: Juzgado1307con@justiciamilitar.gov.co | B41: Juez Penal Militar y Policial de Conocimiento | C41: Juzgado 1307 Penal Militar y Policial de Conocimiento | D41: Neiva | E41: Huila | F41: Juzgado1307con@justiciamilitar.gov.co | H41: BATEN | I41: Carrera 16 No. 21 - 300. Batallón de Artillería No. 9. "Tenerife". | J41: LUNES A VIERNES DE 08:00 A 18:00 HORAS | K41: =VLOOKUP(A41,'directorio formulado'!$A$2:$V$289,1,FALSE) -> Juzgado1307con@justiciamilitar.gov.co
A42: sjuez1307con@justiciamilitar.gov.co | B42: Secretario de Despacho | C42: Juzgado 1307 Penal Militar y Policial de Conocimiento | D42: Neiva | E42: Huila | F42: sjuez1307con@justiciamilitar.gov.co | H42: BATEN | I42: Carrera 16 No. 21 - 300. Batallón de Artillería No. 9. "Tenerife". | J42: LUNES A VIERNES DE 08:00 A 18:00 HORAS | K42: =VLOOKUP(A42,'directorio formulado'!$A$2:$V$289,1,FALSE) -> #N/A
A43: Juzgado1308con@justiciamilitar.gov.co | B43: Juez Penal Militar y Policial de Conocimiento | C43: Juzgado 1308 Penal Militar y Policial de Conocimiento | D43: Ibagué | E43: Tolima | F43: Juzgado1308con@justiciamilitar.gov.co | H43: DETOL | I43: Carrera 48 Sur No. 157-199 Bloque A, Piso 2 Comando Departamento Policía Tolima Sector Picaleña | J43: LUNES A VIERNES DE 08:00 A 18:00 HORAS | K43: =VLOOKUP(A43,'directorio formulado'!$A$2:$V$289,1,FALSE) -> Juzgado1308con@justiciamilitar.gov.co
A44: sjuez1308con@justiciamilitar.gov.co | B44: Secretario de Despacho | C44: Juzgado 1308 Penal Militar y Policial de Conocimiento | D44: Ibagué | E44: Tolima | F44: sjuez1308con@justiciamilitar.gov.co | H44: DETOL | I44: Carrera 48 Sur No. 157-199 Bloque A, Piso 2 Comando Departamento Policía Tolima Sector Picaleña | J44: LUNES A VIERNES DE 08:00 A 18:00 HORAS | K44: =VLOOKUP(A44,'directorio formulado'!$A$2:$V$289,1,FALSE) -> #N/A
A45: Juzgado1309con@justiciamilitar.gov.co | B45: Juez Penal Militar y Policial de Conocimiento | C45: Juzgado 1309 Penal Militar y Policial de Conocimiento | D45: Armenia | E45: Quindío | F45: Juzgado1309con@justiciamilitar.gov.co | G45: 2452 | H45: PALACIO DE JUSTICIA PENAL MILITAR Y POLICIAL | I45: Avenida Bolívar No. 25 Norte 00 - Octava Brigada Ejército Nacional - Palacio de Justicia Penal Militar y Policial | J45: LUNES A VIERNES DE 08:00 A 18:00 HORAS | K45: =VLOOKUP(A45,'directorio formulado'!$A$2:$V$289,1,FALSE) -> Juzgado1309con@justiciamilitar.gov.co
A46: sjuez1309con@justiciamilitar.gov.co | B46: Secretario de Despacho | C46: Juzgado 1309 Penal Militar y Policial de Conocimiento | D46: Armenia | E46: Quindío | F46: sjuez1309con@justiciamilitar.gov.co | G46: 2453 | H46: PALACIO DE JUSTICIA PENAL MILITAR Y POLICIAL | I46: Avenida Bolívar No. 25 Norte 00 - Octava Brigada Ejército Nacional - Palacio de Justicia Penal Militar y Policial | J46: LUNES A VIERNES DE 08:00 A 18:00 HORAS | K46: =VLOOKUP(A46,'directorio formulado'!$A$2:$V$289,1,FALSE) -> #N/A
A47: juzgado1310con@justiciamilitar.gov.co | B47: Juez Penal Militar y Policial de Conocimiento | C47: Juzgado 1310 Penal Militar y Policial de Conocimiento | D47: Armenia | E47: Quindío | F47: juzgado1310con@justiciamilitar.gov.co | G47: 2486 | H47: PALACIO DE JUSTICIA PENAL MILITAR Y POLICIAL | I47: Avenida Bolívar No. 25 Norte 00 - Octava Brigada Ejército Nacional - Palacio de Justicia Penal Militar y Policial | J47: LUNES A VIERNES DE 08:00 A 18:00 HORAS | K47: =VLOOKUP(A47,'directorio formulado'!$A$2:$V$289,1,FALSE) -> juzgado1310con@justiciamilitar.gov.co
A48: sjuez1310con@justiciamilitar.gov.co | B48: Secretario de Despacho | C48: Juzgado 1310 Penal Militar y Policial de Conocimiento | D48: Armenia | E48: Quindío | F48: sjuez1310con@justiciamilitar.gov.co | G48: 2489 | H48: PALACIO DE JUSTICIA PENAL MILITAR Y POLICIAL | I48: Avenida Bolívar No. 25 Norte 00 - Octava Brigada Ejército Nacional - Palacio de Justicia Penal Militar y Policial | J48: LUNES A VIERNES DE 08:00 A 18:00 HORAS | K48: =VLOOKUP(A48,'directorio formulado'!$A$2:$V$289,1,FALSE) -> #N/A
A49: juzgado1311con@justiciamilitar.gov.co | B49: Juez Penal Militar y Policial de Conocimiento | C49: Juzgado 1311 Penal Militar y Policial de Conocimiento | D49: Popayán | E49: Cauca | F49: juzgado1311con@justiciamilitar.gov.co | H49: PALACIO DE JUSTICIA PENAL MILITAR Y POLICIAL | I49: Avenida Los Cuarteles No. 80 - 00 - Cantón Militar José Hilario López - Tercera División del Ejército - Brigada No. 29. | J49: LUNES A VIERNES DE 08:00 A 18:00 HORAS | K49: =VLOOKUP(A49,'directorio formulado'!$A$2:$V$289,1,FALSE) -> juzgado1311con@justiciamilitar.gov.co
A50: sjuez1311con@justiciamilitar.gov.co | B50: Secretario de Despacho | C50: Juzgado 1311 Penal Militar y Policial de Conocimiento | D50: Popayán | E50: Cauca | F50: sjuez1311con@justiciamilitar.gov.co | H50: PALACIO DE JUSTICIA PENAL MILITAR Y POLICIAL | I50: Avenida Los Cuarteles No. 80 - 00 - Cantón Militar José Hilario López - Tercera División del Ejército - Brigada No. 29. | J50: LUNES A VIERNES DE 08:00 A 18:00 HORAS | K50: =VLOOKUP(A50,'directorio formulado'!$A$2:$V$289,1,FALSE) -> #N/A
A51: juzgado1312con@justiciamilitar.gov.co | B51: Juez Penal Militar y Policial de Conocimiento | C51: Juzgado 1312 Penal Militar y Policial de Conocimiento | D51: Popayán | E51: Cauca | F51: juzgado1312con@justiciamilitar.gov.co | H51: CDPC | I51: Avenida Panamericana 1N-75 Complejo Policial IJ. DIEGO MARÍA GUERRERO NAVIA - Comando Departamento de Policía Cauca - Edificio 7, Piso 3 | J51: LUNES A VIERNES DE 08:00 A 18:00 HORAS | K51: =VLOOKUP(A51,'directorio formulado'!$A$2:$V$289,1,FALSE) -> juzgado1312con@justiciamilitar.gov.co
A52: sjuez1312con@justiciamilitar.gov.co | B52: Secretario de Despacho | C52: Juzgado 1312 Penal Militar y Policial de Conocimiento | D52: Popayán | E52: Cauca | F52: sjuez1312con@justiciamilitar.gov.co | H52: CDPC | I52: Avenida Panamericana 1N-75 Complejo Policial IJ. DIEGO MARÍA GUERRERO NAVIA - Comando Departamento de Policía Cauca - Edificio 7, Piso 3 | J52: LUNES A VIERNES DE 08:00 A 18:00 HORAS | K52: =VLOOKUP(A52,'directorio formulado'!$A$2:$V$289,1,FALSE) -> #N/A
A53: juzgado1313con@justiciamilitar.gov.co | B53: Juez Penal Militar y Policial de Conocimiento | C53: Juzgado 1313 Penal Militar y Policial de Conocimiento | D53: Ipiales | E53: Nariño | F53: juzgado1313con@justiciamilitar.gov.co | H53: PALACIO DE JUSTICIA PENAL MILITAR Y POLICIAL | I53: Carrera 6 No. 17 - 51. Frente al Parque Santander. Grupo de Caballería Mecanizado No. 3. “Gral. José Maria Cabal" | J53: LUNES A VIERNES DE 08:00 A 18:00 HORAS | K53: =VLOOKUP(A53,'directorio formulado'!$A$2:$V$289,1,FALSE) -> juzgado1313con@justiciamilitar.gov.co
A54: sjuez1313con@justiciamilitar.gov.co | B54: Secretario de Despacho | C54: Juzgado 1313 Penal Militar y Policial de Conocimiento | D54: Ipiales | E54: Nariño | F54: sjuez1313con@justiciamilitar.gov.co | H54: PALACIO DE JUSTICIA PENAL MILITAR Y POLICIAL | I54: Carrera 6 No. 17 - 51. Frente al Parque Santander. Grupo de Caballería Mecanizado No. 3. “Gral. José Maria Cabal" | J54: LUNES A VIERNES DE 08:00 A 18:00 HORAS | K54: =VLOOKUP(A54,'directorio formulado'!$A$2:$V$289,1,FALSE) -> #N/A
A55: juzgado1314con@justiciamilitar.gov.co | B55: Juez Penal Militar y Policial de Conocimiento | C55: Juzgado 1314 Penal Militar y Policial de Conocimiento | D55: Pasto | E55: Nariño | F55: juzgado1314con@justiciamilitar.gov.co | H55: BASPC 23 | I55: Calle 22 No. 14 -47, Avenida Colombia - Instalaciones del Batallón ASPC No. 23 "Gr. Ramón Espina" Cantón Militar Boyacá | J55: LUNES A VIERNES DE 08:00 A 18:00 HORAS | K55: =VLOOKUP(A55,'directorio formulado'!$A$2:$V$289,1,FALSE) -> juzgado1314con@justiciamilitar.gov.co
A56: sjjuez1314con@justiciamilitar.gov.co | B56: Secretario de Despacho | C56: Juzgado 1314 Penal Militar y Policial de Conocimiento | D56: Pasto | E56: Nariño | F56: sjjuez1314con@justiciamilitar.gov.co | H56: BASPC 23 | I56: Calle 22 No. 14 -47, Avenida Colombia - Instalaciones del Batallón ASPC No. 23 "Gr. Ramón Espina" Cantón Militar Boyacá | J56: LUNES A VIERNES DE 08:00 A 18:00 HORAS | K56: =VLOOKUP(A56,'directorio formulado'!$A$2:$V$289,1,FALSE) -> #N/A
A57: juzgado1315con@justiciamilitar.gov.co | B57: Juez Penal Militar y Policial de Conocimiento | C57: Juzgado 1315 Penal Militar y Policial de Conocimiento | D57: Cali | E57: Valle del Cauca | F57: juzgado1315con@justiciamilitar.gov.co | H57: PALACIO DE JUSTICIA PENAL MILITAR Y POLICIAL | I57: Calle 5 No. 83-00 / Tercera Brigada - Cantón Militar Pichincha | J57: LUNES A VIERNES DE 08:00 A 18:00 HORAS | K57: =VLOOKUP(A57,'directorio formulado'!$A$2:$V$289,1,FALSE) -> juzgado1315con@justiciamilitar.gov.co
A58: sjuez1315con@justiciamilitar.gov.co | B58: Secretario de Despacho | C58: Juzgado 1315 Penal Militar y Policial de Conocimiento | D58: Cali | E58: Valle del Cauca | F58: sjuez1315con@justiciamilitar.gov.co | H58: PALACIO DE JUSTICIA PENAL MILITAR Y POLICIAL | I58: Calle 5 No. 83-00 / Tercera Brigada - Cantón Militar Pichincha | J58: LUNES A VIERNES DE 08:00 A 18:00 HORAS | K58: =VLOOKUP(A58,'directorio formulado'!$A$2:$V$289,1,FALSE) -> #N/A
A59: juzgado1316con@justiciamilitar.gov.co | B59: Juez Penal Militar y Policial de Conocimiento | C59: Juzgado 1316 Penal Militar y Policial de Conocimiento | D59: Cali | E59: Valle del Cauca | F59: juzgado1316con@justiciamilitar.gov.co | H59: MECAL | I59: Carrera 3 Norte No. 24N - 16 Barrio El piloto Edificio el Piloto Instalaciones de Incorporación y Disciplina de la Policía | J59: LUNES A VIERNES DE 08:00 A 18:00 HORAS | K59: =VLOOKUP(A59,'directorio formulado'!$A$2:$V$289,1,FALSE) -> juzgado1316con@justiciamilitar.gov.co
A60: sjuez1316con@justiciamilitar.gov.co | B60: Secretario de Despacho | C60: Juzgado 1316 Penal Militar y Policial de Conocimiento | D60: Cali | E60: Valle del Cauca | F60: sjuez1316con@justiciamilitar.gov.co | H60: MECAL | I60: Carrera 3 Norte No. 24N - 16 Barrio El piloto Edificio el Piloto Instalaciones de Incorporación y Disciplina de la Policía | J60: LUNES A VIERNES DE 08:00 A 18:00 HORAS | K60: =VLOOKUP(A60,'directorio formulado'!$A$2:$V$289,1,FALSE) -> #N/A
A61: juzgado1317con@justiciamilitar.gov.co | B61: Juez Penal Militar y Policial de Conocimiento | C61: Juzgado 1317 Penal Militar y Policial de Conocimiento | D61: Carepa | E61: Antioquia | F61: juzgado1317con@justiciamilitar.gov.co | H61: BR17 | I61: Kilómetro 1 Vía Al Mar. Brigada No. 17 del Ejército. Palacio de Justicia. | J61: LUNES A VIERNES DE 08:00 A 18:00 HORAS | K61: =VLOOKUP(A61,'directorio formulado'!$A$2:$V$289,1,FALSE) -> juzgado1317con@justiciamilitar.gov.co
A62: sjjuez1317con@justiciamilitar.gov.co | B62: Secretario de Despacho | C62: Juzgado 1317 Penal Militar y Policial de Conocimiento | D62: Carepa | E62: Antioquia | F62: sjjuez1317con@justiciamilitar.gov.co | G62: 2200 | H62: BR4 | I62: Carrera 76 No. 50-175 Barrio: Los Colores. Instalaciones Cuarta Brigada | J62: LUNES A VIERNES DE 08:00 A 18:00 HORAS | K62: =VLOOKUP(A62,'directorio formulado'!$A$2:$V$289,1,FALSE) -> #N/A
A63: juzgado1318con@justiciamilitar.gov.co | B63: Juez Penal Militar y Policial de Conocimiento | C63: Juzgado 1318 Penal Militar y Policial de Conocimiento | D63: Medellín | E63: Antioquia | F63: juzgado1318con@justiciamilitar.gov.co | G63: 2201 | H63: BR4 | I63: Carrera 76 No. 50-175 Barrio: Los Colores. Instalaciones Cuarta Brigada | J63: LUNES A VIERNES DE 08:00 A 18:00 HORAS | K63: =VLOOKUP(A63,'directorio formulado'!$A$2:$V$289,1,FALSE) -> juzgado1318con@justiciamilitar.gov.co
A64: sjjuez1318con@justiciamilitar.gov.co | B64: Secretario de Despacho | C64: Juzgado 1318 Penal Militar y Policial de Conocimiento | D64: Medellín | E64: Antioquia | F64: sjjuez1318con@justiciamilitar.gov.co | H64: MEVAL | I64: Calle 48 No. 45 – 58, Avenida Oriental Comando de Policia Metropolitana del Valle de Aburra | J64: LUNES A VIERNES DE 08:00 A 18:00 HORAS | K64: =VLOOKUP(A64,'directorio formulado'!$A$2:$V$289,1,FALSE) -> #N/A
A65: juzgado1319con@justiciamilitar.gov.co | B65: Juez Penal Militar y Policial de Conocimiento | C65: Juzgado 1319 Penal Militar y Policial de Conocimiento | D65: Medellín | E65: Antioquia | F65: juzgado1319con@justiciamilitar.gov.co | H65: MEVAL | I65: Calle 48 No. 45 – 58, Avenida Oriental Comando de Policia Metropolitana del Valle de Aburra | J65: LUNES A VIERNES DE 08:00 A 18:00 HORAS | K65: =VLOOKUP(A65,'directorio formulado'!$A$2:$V$289,1,FALSE) -> juzgado1319con@justiciamilitar.gov.co
A66: sjjuez1319con@justiciamilitar.gov.co | B66: Secretario de Despacho | C66: Juzgado 1319 Penal Militar y Policial de Conocimiento | D66: Medellín | E66: Antioquia | F66: sjjuez1319con@justiciamilitar.gov.co | I66: Carrera 24 No. 25A - 09 Tercer piso - Barrio Manga / piso 3 Instalaciones Metropolitana de Policía de Cartagena | J66: LUNES A VIERNES DE 08:00 A 18:00 HORAS | K66: =VLOOKUP(A66,'directorio formulado'!$A$2:$V$289,1,FALSE) -> #N/A
A67: juzgado1322con@justiciamilitar.gov.co | B67: Juez Penal Militar y Policial de Conocimiento | C67: Juzgado 1322 Penal Militar y Policial de Conocimiento | D67: Cartagena | E67: Bolívar | F67: juzgado1322con@justiciamilitar.gov.co | I67: Carrera 24 No. 25A - 09 Tercer piso - Barrio Manga / piso 3 Instalaciones Metropolitana de Policía de Cartagena | J67: LUNES A VIERNES DE 08:00 A 18:00 HORAS | K67: =VLOOKUP(A67,'directorio formulado'!$A$2:$V$289,1,FALSE) -> juzgado1322con@justiciamilitar.gov.co
A68: sjjuez1322con@justiciamilitar.gov.co | B68: Secretario de Despacho | C68: Juzgado 1322 Penal Militar y Policial de Conocimiento | D68: Cartagena | E68: Bolívar | F68: sjjuez1322con@justiciamilitar.gov.co | G68: 2162 | H68: Palacio de Justicia Penal Militar y Policial "CABO TERCERO YECID ROJAS LOSADA" | I68: Carretera Nacional-Corregimiento Buenavista Grupo De Caballería Mecanizado No. 2. "Cr. Juan José Rondón". Municipio Distracción. | J68: LUNES A VIERNES DE 08:00 A 18:00 HORAS | K68: =VLOOKUP(A68,'directorio formulado'!$A$2:$V$289,1,FALSE) -> #N/A
A69: juzgado1323con@justiciamilitar.gov.co | B69: Juez Penal Militar y Policial de Conocimiento | C69: Juzgado 1323 Penal Militar y Policial de Conocimiento | D69: Buenavista | E69: La Guajira | F69: juzgado1323con@justiciamilitar.gov.co | G69: 2181 | H69: Palacio de Justicia Penal Militar y Policial "CABO TERCERO YECID ROJAS LOSADA" | I69: Carretera Nacional-Corregimiento Buenavista Grupo De Caballería Mecanizado No. 2. "Cr. Juan José Rondón". Municipio Distracción. | J69: LUNES A VIERNES DE 08:00 A 18:00 HORAS | K69: =VLOOKUP(A69,'directorio formulado'!$A$2:$V$289,1,FALSE) -> #N/A
A70: sjjuez1323con@justiciamilitar.gov.co | B70: Secretario de Despacho | C70: Juzgado 1323 Penal Militar y Policial de Conocimiento | D70: Buenavista | E70: La Guajira | F70: sjjuez1323con@justiciamilitar.gov.co | G70: 2308 | H70: PALACIO DE JUSTICIA PENAL MILITAR Y POLICIAL | I70: Avenida 1 Vía Al Pórtico. Canton Militar San Jorge Comando especifico del Norte de santander | J70: LUNES A VIERNES DE 08:00 A 18:00 HORAS | K70: =VLOOKUP(A70,'directorio formulado'!$A$2:$V$289,1,FALSE) -> #N/A
A71: juzgado1324con@justiciamilitar.gov.co | B71: Juez Penal Militar y Policial de Conocimiento | C71: Juzgado 1324 Penal Militar y Policial de Conocimiento | D71: Cúcuta | E71: Norte de Santander | F71: juzgado1324con@justiciamilitar.gov.co | G71: 2309 | H71: PALACIO DE JUSTICIA PENAL MILITAR Y POLICIAL | I71: Avenida 1 Vía Al Pórtico. Canton Militar San Jorge Comando especifico del Norte de santander | J71: LUNES A VIERNES DE 08:00 A 18:00 HORAS | K71: =VLOOKUP(A71,'directorio formulado'!$A$2:$V$289,1,FALSE) -> juzgado1324con@justiciamilitar.gov.co
A72: sjjuez1324con@justiciamilitar.gov.co | B72: Secretario de Despacho | C72: Juzgado 1324 Penal Militar y Policial de Conocimiento | D72: Cúcuta | E72: Norte de Santander | F72: sjjuez1324con@justiciamilitar.gov.co | H72: PALACIO DE JUSTICI PENAL MILITAR Y POLICIAL | I72: Calle 14 No. 32 - 00 Batallon de Ingenieros Caldas (Guardia) Detrás del estadio | J72: LUNES A VIERNES DE 08:00 A 17:00 HORAS | K72: =VLOOKUP(A72,'directorio formulado'!$A$2:$V$289,1,FALSE) -> #N/A
A73: juzgado1326con@justiciamilitar.gov.co | B73: Juez Penal Militar y Policial de Conocimiento | C73: Juzgado 1326 Penal Militar y Policial de Conocimiento | D73: Bucaramanga | E73: Santander | F73: juzgado1326con@justiciamilitar.gov.co | H73: PALACIO DE JUSTICI PENAL MILITAR Y POLICIAL | I73: Calle 14 No. 32 - 00 Batallon de Ingenieros Caldas (Guardia) Detrás del estadio | J73: LUNES A VIERNES DE 08:00 A 17:00 HORAS | K73: =VLOOKUP(A73,'directorio formulado'!$A$2:$V$289,1,FALSE) -> juzgado1326con@justiciamilitar.gov.co
A74: sjjuez1326con@justiciamilitar.gov.co | B74: Secretario de Despacho | C74: Juzgado 1326 Penal Militar y Policial de Conocimiento | D74: Bucaramanga | E74: Santander | F74: sjjuez1326con@justiciamilitar.gov.co | H74: CACOM-2 | I74: Kilómetro 7 Vía Puerto López. Base Aérea De Apiay. | J74: LUNES A VIERNES DE 08:00 A 18:00 HORAS | K74: =VLOOKUP(A74,'directorio formulado'!$A$2:$V$289,1,FALSE) -> #N/A
A75: Juzgado1327con@justiciamilitar.gov.co | B75: Juez Penal Militar y Policial de Conocimiento | C75: Juzgado 1327 Penal Militar y Policial de Conocimiento | D75: Villavicencio | E75: Meta | F75: Juzgado1327con@justiciamilitar.gov.co | H75: CACOM-2 | I75: Kilómetro 7 Vía Puerto López. Base Aérea De Apiay. | J75: LUNES A VIERNES DE 08:00 A 18:00 HORAS | K75: =VLOOKUP(A75,'directorio formulado'!$A$2:$V$289,1,FALSE) -> #N/A
A76: sjjuez1327con@justiciamilitar.gov.co | B76: Secretario de Despacho | C76: Juzgado 1327 Penal Militar y Policial de Conocimiento | D76: Villavicencio | E76: Meta | F76: sjjuez1327con@justiciamilitar.gov.co | G76: 1213 | H76: PALACIO DE JUSTICIA PENAL MILITAR Y POLICIAL "TF LAURA ROCIO PRIETO FORERO" | I76: Carrera 46 No. 20 C - 01 (Puente Aranda) Cantón Militar Occidental “Coronel Francisco José de Caldas” | J76: LUNES A VIERNES DE 08:00 A 17:00 HORAS | K76: =VLOOKUP(A76,'directorio formulado'!$A$2:$V$289,1,FALSE) -> #N/A
A77: juez1601ejecpe@justiciamilitar.gov.co | B77: Juez Penal Militar y Policial de Ejecución de Penas y Medidas de Seguridad | C77: Juzgado 1601 Penal Militar y Policial de Ejecución de Penas y Medidas de Seguridad | D77: Bogotá D.C. | E77: Bogotá D.C. | F77: juez1601ejecpe@justiciamilitar.gov.co | G77: 1212 | H77: PALACIO DE JUSTICIA PENAL MILITAR Y POLICIAL "TF LAURA ROCIO PRIETO FORERO" | I77: Carrera 46 No. 20 C - 01 (Puente Aranda) Cantón Militar Occidental “Coronel Francisco José de Caldas” | J77: LUNES A VIERNES DE 08:00 A 17:00 HORAS | K77: =VLOOKUP(A77,'directorio formulado'!$A$2:$V$289,1,FALSE) -> juez1601ejecpe@justiciamilitar.gov.co
