Workbook

Sheet directorio sep 2026
A1: kind | B1: force | C1: office | D1: city | E1: dptoTxt | F1: dpto | G1: email | H1: phone | I1: address | J1: schedule
A2: SEGUNDA INSTANCIA | B2: No aplica | C2: Tribunal Superior Militar y Policial | D2: Bogotá D.C. | E2: Bogotá D.C. | F2: 11 | G2: mauricio.lara@justiciamilitar.gov.co | H2: 1534 | I2: Carrera 46 No. 20 C - 01 (Puente Aranda) Cantón Militar Occidental “Coronel Francisco José de Caldas” | J2: LUNES A VIERNES DE 08:00 A 17:00 HORAS
A3: SEGUNDA INSTANCIA | B3: No aplica | C3: Tribunal Superior Militar y Policial | D3: Bogotá D.C. | E3: Bogotá D.C. | F3: 11 | G3: gustavo.suarez@justiciamilitar.gov.co | H3: 1532 | I3: Carrera 46 No. 20 C - 01 (Puente Aranda) Cantón Militar Occidental “Coronel Francisco José de Caldas” | J3: LUNES A VIERNES DE 08:00 A 17:00 HORAS
A4: SEGUNDA INSTANCIA | B4: No aplica | C4: Tribunal Superior Militar y Policial | D4: Bogotá D.C. | E4: Bogotá D.C. | F4: 11 | G4: paola.zuluaga@justiciamilitar.gov.co | H4: 1503 | I4: Carrera 46 No. 20 C - 01 (Puente Aranda) Cantón Militar Occidental “Coronel Francisco José de Caldas” | J4: LUNES A VIERNES DE 08:00 A 17:00 HORAS
A5: SEGUNDA INSTANCIA | B5: No aplica | C5: Tribunal Superior Militar y Policial | D5: Bogotá D.C. | E5: Bogotá D.C. | F5: 11 | G5: sandra.botia@justiciamilitar.gov.co | H5: 1528 | I5: Carrera 46 No. 20 C - 01 (Puente Aranda) Cantón Militar Occidental “Coronel Francisco José de Caldas” | J5: LUNES A VIERNES DE 08:00 A 17:00 HORAS
A6: SEGUNDA INSTANCIA | B6: No aplica | C6: Tribunal Superior Militar y Policial | D6: Bogotá D.C. | E6: Bogotá D.C. | F6: 11 | G6: jorge.lopez@justiciamilitar.gov.co | H6: 1525 | I6: Carrera 46 No. 20 C - 01 (Puente Aranda) Cantón Militar Occidental “Coronel Francisco José de Caldas” | J6: LUNES A VIERNES DE 08:00 A 17:00 HORAS
A7: SEGUNDA INSTANCIA | B7: No aplica | C7: Tribunal Superior Militar y Policial | D7: Bogotá D.C. | E7: Bogotá D.C. | F7: 11 | G7: roberto.ramirez@justiciamilitar.gov.co | H7: 1520 | I7: Carrera 46 No. 20 C - 01 (Puente Aranda) Cantón Militar Occidental “Coronel Francisco José de Caldas” | J7: LUNES A VIERNES DE 08:00 A 17:00 HORAS
A8: SEGUNDA INSTANCIA | B8: No aplica | C8: Tribunal Superior Militar y Policial | D8: Bogotá D.C. | E8: Bogotá D.C. | F8: 11 | G8: Martha.Lozano@justiciamilitar.gov.co | H8: 1091 | I8: Carrera 46 No. 20 C - 01 (Puente Aranda) Cantón Militar Occidental “Coronel Francisco José de Caldas” | J8: LUNES A VIERNES DE 08:00 A 17:00 HORAS
A9: SEGUNDA INSTANCIA | B9: No aplica | C9: Tribunal Superior Militar y Policial | D9: Bogotá D.C. | E9: Bogotá D.C. | F9: 11 | G9: ivan.quintero@justiciamilitar.gov.co | H9: 1512 | I9: Carrera 46 No. 20 C - 01 (Puente Aranda) Cantón Militar Occidental “Coronel Francisco José de Caldas” | J9: LUNES A VIERNES DE 08:00 A 17:00 HORAS
A10: PRIMERA INSTANCIA | B10: No aplica | C10: Centro de Servicios Judiciales | D10: Bogotá D.C. | E10: Bogotá D.C. | F10: 11 | G10: centrodeservicios@justiciamilitar.gov.co | H10: 2156/2157 | I10: Carretera Nacional-Corregimiento Buenavista Grupo De Caballería Mecanizado No. 2. "Cr. Juan José Rondón". Municipio Distracción. | J10: LUNES A VIERNES DE 08:00 A 18:00 HORAS
A11: PRIMERA INSTANCIA | B11: FFMM | C11: Juzgado 1201 Penal Militar y Policial de Conocimiento Especializado | D11: Bogotá D.C. | E11: Bogotá D.C. | F11: 11 | G11: juez1201conesp@justiciamilitar.gov.co | H11: 1244 | I11: Carrera 46 No. 20 C - 01 (Puente Aranda) Cantón Militar Occidental “Coronel Francisco José de Caldas” | J11: LUNES A VIERNES DE 08:00 A 17:00 HORAS
A12: PRIMERA INSTANCIA | B12: PONAL | C12: Juzgado 1202 Penal Militar y Policial de Conocimiento Especializado | D12: Bogotá D.C. | E12: Bogotá D.C. | F12: 11 | G12: juez1202conesp@justiciamilitar.gov.co | H12: 1241 | I12: Carrera 46 No. 20 C - 01 (Puente Aranda) Cantón Militar Occidental “Coronel Francisco José de Caldas” | J12: LUNES A VIERNES DE 08:00 A 17:00 HORAS
A13: PRIMERA INSTANCIA | B13: FFMM | C13: Juzgado 1203 Penal Militar y Policial de Conocimiento Especializado | D13: Cali | E13: Valle del Cauca | F13: 76 | G13: juzgado1203cones@justiciamilitar.gov.co/sjuez1203cones@justiciamilitar.gov.co | I13: Calle 5 No. 83-00 / Tercera Brigada - Cantón Militar Pichincha | J13: LUNES A VIERNES DE 08:00 A 18:00 HORAS
A14: PRIMERA INSTANCIA | B14: PONAL | C14: Juzgado 1204 Penal Militar y Policial de Conocimiento Especializado | D14: Cali | E14: Valle del Cauca | F14: 76 | G14: juzgado1204cones@justiciamilitar.gov.co/sjuez1204cones@justiciamilitar.gov.co | I14: Carrera 1 No. 33-00 Barrio Berlín, Estación de Policia San Francisco | J14: LUNES A VIERNES DE 08:00 A 18:00 HORAS
A15: PRIMERA INSTANCIA | B15: PONAL FFMM | C15: Juzgado 1301 Penal Militar y Policial de Conocimiento | D15: Bogotá D.C. | E15: Bogotá D.C. | F15: 11 | G15: juez1301conocimiento@justiciamilitar.gov.co/sjuez1301con@justiciamilitar.gov.co | H15: 1220/1221 | I15: Carrera 46 No. 20 C - 01 (Puente Aranda) Cantón Militar Occidental “Coronel Francisco José de Caldas” | J15: LUNES A VIERNES DE 08:00 A 17:00 HORAS
A16: PRIMERA INSTANCIA | B16: PONAL FFMM | C16: Juzgado 1302 Penal Militar y Policial de Conocimiento | D16: Bogotá D.C. | E16: Bogotá D.C. | F16: 11 | G16: juez1302conocimiento@justiciamilitar.gov.co/sjuez1302con@justiciamilitar.gov.co | H16: 1218/1219 | I16: Carrera 46 No. 20 C - 01 (Puente Aranda) Cantón Militar Occidental “Coronel Francisco José de Caldas” | J16: LUNES A VIERNES DE 08:00 A 17:00 HORAS
A17: PRIMERA INSTANCIA | B17: FFMM | C17: Juzgado 1305 Penal Militar y Policial de Conocimiento | D17: Bogotá D.C. | E17: Bogotá D.C. | F17: 11 | G17: juzgado1305con@justiciamilitar.gov.co/sjuez1305con@justiciamilitar.gov.co | I17: Carrera 46 No. 20 C - 01 (Puente Aranda) Cantón Militar Occidental “Coronel Francisco José de Caldas” | J17: LUNES A VIERNES DE 08:00 A 17:00 HORAS
A18: PRIMERA INSTANCIA | B18: FFMM | C18: Juzgado 1306 Penal Militar y Policial de Conocimiento | D18: Bogotá D.C. | E18: Bogotá D.C. | F18: 11 | G18: juzgado1306con@justiciamilitar.gov.co | H18: 1330 | I18: Carrera 46 No. 20 C - 01 (Puente Aranda) Cantón Militar Occidental “Coronel Francisco José de Caldas” | J18: LUNES A VIERNES DE 08:00 A 17:00 HORAS
A19: PRIMERA INSTANCIA | B19: FFMM | C19: Juzgado 1307 Penal Militar y Policial de Conocimiento | D19: Neiva | E19: Huila | F19: 41 | G19: Juzgado1307con@justiciamilitar.gov.co/sjuez1307con@justiciamilitar.gov.co | I19: Carrera 16 No. 21 - 300. Batallón de Artillería No. 9. "Tenerife". | J19: LUNES A VIERNES DE 08:00 A 18:00 HORAS
A20: PRIMERA INSTANCIA | B20: PONAL | C20: Juzgado 1308 Penal Militar y Policial de Conocimiento | D20: Ibagué | E20: Tolima | F20: 73 | G20: Juzgado1308con@justiciamilitar.gov.co/sjuez1308con@justiciamilitar.gov.co | I20: Carrera 48 Sur No. 157-199 Bloque A, Piso 2 Comando Departamento Policía Tolima Sector Picaleña | J20: LUNES A VIERNES DE 08:00 A 18:00 HORAS
A21: PRIMERA INSTANCIA | B21: FFMM | C21: Juzgado 1309 Penal Militar y Policial de Conocimiento | D21: Armenia | E21: Quindío | F21: 63 | G21: Juzgado1309con@justiciamilitar.gov.co/sjuez1309con@justiciamilitar.gov.co | H21: 2452/2453 | I21: Avenida Bolívar No. 25 Norte 00 - Octava Brigada Ejército Nacional - Palacio de Justicia Penal Militar y Policial | J21: LUNES A VIERNES DE 08:00 A 18:00 HORAS
A22: PRIMERA INSTANCIA | B22: PONAL | C22: Juzgado 1310 Penal Militar y Policial de Conocimiento | D22: Armenia | E22: Quindío | F22: 63 | G22: juzgado1310con@justiciamilitar.gov.co/sjuez1310con@justiciamilitar.gov.co | H22: 2486/2489 | I22: Avenida Bolívar No. 25 Norte 00 - Octava Brigada Ejército Nacional - Palacio de Justicia Penal Militar y Policial | J22: LUNES A VIERNES DE 08:00 A 18:00 HORAS
A23: PRIMERA INSTANCIA | B23: FFMM | C23: Juzgado 1311 Penal Militar y Policial de Conocimiento | D23: Popayán | E23: Cauca | F23: 19 | G23: juzgado1311con@justiciamilitar.gov.co/sjuez1311con@justiciamilitar.gov.co | I23: Avenida Los Cuarteles No. 80 - 00 - Cantón Militar José Hilario López - Tercera División del Ejército - Brigada No. 29. | J23: LUNES A VIERNES DE 08:00 A 18:00 HORAS
A24: PRIMERA INSTANCIA | B24: PONAL | C24: Juzgado 1312 Penal Militar y Policial de Conocimiento | D24: Popayán | E24: Cauca | F24: 19 | G24: juzgado1312con@justiciamilitar.gov.co/sjuez1312con@justiciamilitar.gov.co | I24: Avenida Panamericana 1N-75 Complejo Policial IJ. DIEGO MARÍA GUERRERO NAVIA - Comando Departamento de Policía Cauca - Edificio 7, Piso 3 | J24: LUNES A VIERNES DE 08:00 A 18:00 HORAS
A25: PRIMERA INSTANCIA | B25: FFMM | C25: Juzgado 1313 Penal Militar y Policial de Conocimiento | D25: Ipiales | E25: Nariño | F25: 52 | G25: juzgado1313con@justiciamilitar.gov.co/sjuez1313con@justiciamilitar.gov.co | I25: Carrera 6 No. 17 - 51. Frente al Parque Santander. Grupo de Caballería Mecanizado No. 3. “Gral. José Maria Cabal" | J25: LUNES A VIERNES DE 08:00 A 18:00 HORAS
A26: PRIMERA INSTANCIA | B26: PONAL | C26: Juzgado 1314 Penal Militar y Policial de Conocimiento | D26: Pasto | E26: Nariño | F26: 52 | G26: juzgado1314con@justiciamilitar.gov.co/sjjuez1314con@justiciamilitar.gov.co | I26: Calle 22 No. 14 -47, Avenida Colombia - Instalaciones del Batallón ASPC No. 23 "Gr. Ramón Espina" Cantón Militar Boyacá | J26: LUNES A VIERNES DE 08:00 A 18:00 HORAS
A27: PRIMERA INSTANCIA | B27: FFMM | C27: Juzgado 1315 Penal Militar y Policial de Conocimiento | D27: Cali | E27: Valle del Cauca | F27: 76 | G27: juzgado1315con@justiciamilitar.gov.co/sjuez1315con@justiciamilitar.gov.co | I27: Calle 5 No. 83-00 / Tercera Brigada - Cantón Militar Pichincha | J27: LUNES A VIERNES DE 08:00 A 18:00 HORAS
A28: PRIMERA INSTANCIA | B28: PONAL | C28: Juzgado 1316 Penal Militar y Policial de Conocimiento | D28: Cali | E28: Valle del Cauca | F28: 76 | G28: juzgado1316con@justiciamilitar.gov.co/sjuez1316con@justiciamilitar.gov.co | I28: Carrera 3 Norte No. 24N - 16 Barrio El piloto Edificio el Piloto Instalaciones de Incorporación y Disciplina de la Policía | J28: LUNES A VIERNES DE 08:00 A 18:00 HORAS
A29: PRIMERA INSTANCIA | B29: PONAL FFMM | C29: Juzgado 1317 Penal Militar y Policial de Conocimiento | D29: Carepa | E29: Antioquia | F29: 5 | G29: juzgado1317con@justiciamilitar.gov.co | I29: Kilómetro 1 Vía Al Mar. Brigada No. 17 del Ejército. Palacio de Justicia. | J29: LUNES A VIERNES DE 08:00 A 18:00 HORAS
A30: PRIMERA INSTANCIA | B30: FFMM | C30: Juzgado 1318 Penal Militar y Policial de Conocimiento | D30: Medellín | E30: Antioquia | F30: 5 | G30: juzgado1318con@justiciamilitar.gov.co/sjjuez8debri@justiciamilitar.gov.co | H30: 2201/1360 | I30: Carrera 76 No. 50-175 Barrio: Los Colores. Instalaciones Cuarta Brigada | J30: LUNES A VIERNES DE 08:00 A 18:00 HORAS
A31: PRIMERA INSTANCIA | B31: PONAL | C31: Juzgado 1319 Penal Militar y Policial de Conocimiento | D31: Medellín | E31: Antioquia | F31: 5 | G31: juzgado1319con@justiciamilitar.gov.co/sjjuez154deIPMPOL@justiciamilitar.gov.co | I31: Calle 48 No. 45 – 58, Avenida Oriental Comando de Policia Metropolitana del Valle de Aburra | J31: LUNES A VIERNES DE 08:00 A 18:00 HORAS
A32: PRIMERA INSTANCIA | B32: FFMM | C32: Juzgado 1322 Penal Militar y Policial de Conocimiento | D32: Cartagena | E32: Bolívar | F32: 13 | G32: juzgado1322con@justiciamilitar.gov.co | I32: Carrera 24 No. 25A - 09 Tercer piso - Barrio Manga / piso 3 Instalaciones Metropolitana de Policía de Cartagena | J32: LUNES A VIERNES DE 08:00 A 18:00 HORAS
A33: PRIMERA INSTANCIA | B33: FFMM | C33: Fiscalía 2468 Penal Militar y Policial Delegada ante Juez Penal Militar y Policial de Conocimiento | D33: Montería | E33: Córdoba | F33: 23 | G33: fiscalia2468con@justiciamilitar.gov.co/sjjuez21deipm@justiciamilitar.gov.co | I33: Carrera 19 No. 25 - 116 Piso 2 / Comando de Departamento de Policía Sucre | J33: LUNES A VIERNES DE 08:00 A 18:00 HORAS
A34: PRIMERA INSTANCIA | B34: FFMM | C34: Juzgado 1324 Penal Militar y Policial de Conocimiento | D34: Cúcuta | E34: Norte de Santander | F34: 54 | G34: juzgado1324con@justiciamilitar.gov.co/sfFiscal17anteJB@justiciamilitar.gov.co | H34: 2309/2468 | I34: Avenida 1 Vía Al Pórtico. Canton Militar San Jorge Comando especifico del Norte de santander | J34: LUNES A VIERNES DE 08:00 A 18:00 HORAS
A35: PRIMERA INSTANCIA | B35: PONAL | C35: Juzgado 1326 Penal Militar y Policial de Conocimiento | D35: Bucaramanga | E35: Santander | F35: 68 | G35: juzgado1326con@justiciamilitar.gov.co | I35: Calle 14 No. 32 - 00 Batallon de Ingenieros Caldas (Guardia) Detrás del estadio | J35: LUNES A VIERNES DE 08:00 A 17:00 HORAS
A36: PRIMERA INSTANCIA | B36: PONAL FFMM | C36: Juzgado 1601 Penal Militar y Policial de Ejecución de Penas y Medidas de Seguridad | D36: Bogotá D.C. | E36: Bogotá D.C. | F36: 11 | G36: juez1601ejecpe@justiciamilitar.gov.co/sjuez1601ejecpe@justiciamilitar.gov.co | H36: 1212 | I36: Carrera 46 No. 20 C - 01 (Puente Aranda) Cantón Militar Occidental “Coronel Francisco José de Caldas” | J36: LUNES A VIERNES DE 08:00 A 17:00 HORAS
A37: PRIMERA INSTANCIA | B37: PONAL FFMM | C37: Juzgado 1603 Penal Militar y Policial de Ejecución de Penas y Medidas de Seguridad | D37: Rionegro | E37: Antioquia | F37: 5 | G37: juzgado1603ep@justiciamilitar.gov.co/sjuez1306con@justiciamilitar.gov.co | I37: Comando Aereo De Combate Militar No. 5 / Vereda La Bodega Vía zona franca | J37: LUNES A VIERNES DE 08:00 A 17:00 HORAS
A38: PRIMERA INSTANCIA | B38: PONAL FFMM | C38: Juzgado 1701 Penal Militar y Policial de Control de Garantías | D38: Bogotá D.C. | E38: Bogotá D.C. | F38: 11 | G38: juez1701ctrlgaran@justiciamilitar.gov.co/sjuez1701garan@justiciamilitar.gov.co | H38: 1223/1224 | I38: Carrera 46 No. 20 C - 01 (Puente Aranda) Cantón Militar Occidental “Coronel Francisco José de Caldas” | J38: LUNES A VIERNES DE 08:00 A 17:00 HORAS
A39: PRIMERA INSTANCIA | B39: PONAL FFMM | C39: Juzgado 1702 Penal Militar y Policial de Control de Garantías | D39: Bogotá D.C. | E39: Bogotá D.C. | F39: 11 | G39: juez1702ctrlgaran@justiciamilitar.gov.co/sjuez1702ctrlgaran@justiciamilitar.gov.co | H39: 1225/1226 | I39: Carrera 46 No. 20 C - 01 (Puente Aranda) Cantón Militar Occidental “Coronel Francisco José de Caldas” | J39: LUNES A VIERNES DE 08:00 A 17:00 HORAS
A40: PRIMERA INSTANCIA | B40: PONAL FFMM | C40: Juzgado 1703 Penal Militar y Policial de Control de Garantías | D40: Bogotá D.C. | E40: Bogotá D.C. | F40: 11 | G40: juzgado1703gar@justiciamilitar.gov.co/sjuez1703gar@justiciamilitar.gov.co | H40: 1227 | I40: Carrera 46 No. 20 C - 01 (Puente Aranda) Cantón Militar Occidental “Coronel Francisco José de Caldas” | J40: LUNES A VIERNES DE 08:00 A 17:00 HORAS
...

Sheet directorio formulado
B1: email | D1: kind | E1: force | F1: office | G1: office2 | H1: city | I1: city2 | J1: dptoTxt | K1: dptoTxt2 | L1: dpto | M1: dpto2 | N1: email | O1: phone | P1: phone2 | Q1: phone3 | R1: phone4 | S1: address | T1: address2 | U1: schedule | V1: schedule2
A2: mauricio.lara@justiciamilitar.gov.co | B2: mauricio.lara@justiciamilitar.gov.co | D2: SEGUNDA INSTANCIA | E2: No aplica | F2: Magistrado Tribunal Superior Militar y Policial | G2: =VLOOKUP(A2,'directorio 3 ago 26'!$A$2:$J$658,3,FALSE) -> Tribunal Superior Militar y Policial | H2: Bogotá, D.C. | I2: =VLOOKUP(A2,'directorio 3 ago 26'!$A$2:$J$658,4,FALSE) -> Bogotá D.C. | J2: Bogotá, D.C. | K2: =VLOOKUP(A2,'directorio 3 ago 26'!$A$2:$J$658,5,FALSE) -> Bogotá D.C. | L2: 11 | M2: =VLOOKUP(Tabla22[[#This Row],[dptoTxt2]],dane!$A$2:$B$32,2,FALSE) -> 11 | N2: mauricio.lara@justiciamilitar.gov.co | O2: 1534 | P2: 1534 | Q2: =VLOOKUP(C2,'directorio 3 ago 26'!$A$2:$K$658,7,FALSE) -> #N/A | R2: 1534 | S2: Carrera 46 No. 20 C - 01 (Puente Aranda) Cantón Militar Occidental “Coronel Francisco José de Caldas” | T2: =VLOOKUP(A2,'directorio 3 ago 26'!$A$2:$J$658,9,FALSE) -> Carrera 46 No. 20 C - 01 (Puente Aranda) Cantón Militar Occidental “Coronel Francisco José de Caldas” | U2: lunes a viernes de 08:00 a 17:00 horas | V2: =VLOOKUP(A2,'directorio 3 ago 26'!$A$2:$J$658,10,FALSE) -> LUNES A VIERNES DE 08:00 A 17:00 HORAS
A3: gustavo.suarez@justiciamilitar.gov.co | B3: gustavo.suarez@justiciamilitar.gov.co | D3: SEGUNDA INSTANCIA | E3: No aplica | F3: Magistrado Tribunal Superior Militar y Policial | G3: =VLOOKUP(A3,'directorio 3 ago 26'!$A$2:$J$658,3,FALSE) -> Tribunal Superior Militar y Policial | H3: Bogotá, D.C. | I3: =VLOOKUP(A3,'directorio 3 ago 26'!$A$2:$J$658,4,FALSE) -> Bogotá D.C. | J3: Bogotá, D.C. | K3: =VLOOKUP(A3,'directorio 3 ago 26'!$A$2:$J$658,5,FALSE) -> Bogotá D.C. | L3: 11 | M3: =VLOOKUP(Tabla22[[#This Row],[dptoTxt2]],dane!$A$2:$B$32,2,FALSE) -> 11 | N3: gustavo.suarez@justiciamilitar.gov.co | O3: 1532 | P3: 1532 | Q3: =VLOOKUP(C3,'directorio 3 ago 26'!$A$2:$K$658,7,FALSE) -> #N/A | R3: 1532 | S3: Carrera 46 No. 20 C - 01 (Puente Aranda) Cantón Militar Occidental “Coronel Francisco José de Caldas” | T3: =VLOOKUP(A3,'directorio 3 ago 26'!$A$2:$J$658,9,FALSE) -> Carrera 46 No. 20 C - 01 (Puente Aranda) Cantón Militar Occidental “Coronel Francisco José de Caldas” | U3: lunes a viernes de 08:00 a 17:00 horas | V3: =VLOOKUP(A3,'directorio 3 ago 26'!$A$2:$J$658,10,FALSE) -> LUNES A VIERNES DE 08:00 A 17:00 HORAS
A4: paola.zuluaga@justiciamilitar.gov.co | B4: paola.zuluaga@justiciamilitar.gov.co | D4: SEGUNDA INSTANCIA | E4: No aplica | F4: Magistrado Tribunal Superior Militar y Policial | G4: =VLOOKUP(A4,'directorio 3 ago 26'!$A$2:$J$658,3,FALSE) -> Tribunal Superior Militar y Policial | H4: Bogotá, D.C. | I4: =VLOOKUP(A4,'directorio 3 ago 26'!$A$2:$J$658,4,FALSE) -> Bogotá D.C. | J4: Bogotá, D.C. | K4: =VLOOKUP(A4,'directorio 3 ago 26'!$A$2:$J$658,5,FALSE) -> Bogotá D.C. | L4: 11 | M4: =VLOOKUP(Tabla22[[#This Row],[dptoTxt2]],dane!$A$2:$B$32,2,FALSE) -> 11 | N4: paola.zuluaga@justiciamilitar.gov.co | O4: 1528 | P4: 1503 | Q4: =VLOOKUP(C4,'directorio 3 ago 26'!$A$2:$K$658,7,FALSE) -> #N/A | R4: 1503 | S4: Carrera 46 No. 20 C - 01 (Puente Aranda) Cantón Militar Occidental “Coronel Francisco José de Caldas” | T4: =VLOOKUP(A4,'directorio 3 ago 26'!$A$2:$J$658,9,FALSE) -> Carrera 46 No. 20 C - 01 (Puente Aranda) Cantón Militar Occidental “Coronel Francisco José de Caldas” | U4: lunes a viernes de 08:00 a 17:00 horas | V4: =VLOOKUP(A4,'directorio 3 ago 26'!$A$2:$J$658,10,FALSE) -> LUNES A VIERNES DE 08:00 A 17:00 HORAS
A5: sandra.botia@justiciamilitar.gov.co | B5: sandra.botia@justiciamilitar.gov.co | D5: SEGUNDA INSTANCIA | E5: No aplica | F5: Magistrado Tribunal Superior Militar y Policial | G5: =VLOOKUP(A5,'directorio 3 ago 26'!$A$2:$J$658,3,FALSE) -> Tribunal Superior Militar y Policial | H5: Bogotá, D.C. | I5: =VLOOKUP(A5,'directorio 3 ago 26'!$A$2:$J$658,4,FALSE) -> Bogotá D.C. | J5: Bogotá, D.C. | K5: =VLOOKUP(A5,'directorio 3 ago 26'!$A$2:$J$658,5,FALSE) -> Bogotá D.C. | L5: 11 | M5: =VLOOKUP(Tabla22[[#This Row],[dptoTxt2]],dane!$A$2:$B$32,2,FALSE) -> 11 | N5: sandra.botia@justiciamilitar.gov.co | O5: 1517 | P5: 1528 | Q5: =VLOOKUP(C5,'directorio 3 ago 26'!$A$2:$K$658,7,FALSE) -> #N/A | R5: 1528 | S5: Carrera 46 No. 20 C - 01 (Puente Aranda) Cantón Militar Occidental “Coronel Francisco José de Caldas” | T5: =VLOOKUP(A5,'directorio 3 ago 26'!$A$2:$J$658,9,FALSE) -> Carrera 46 No. 20 C - 01 (Puente Aranda) Cantón Militar Occidental “Coronel Francisco José de Caldas” | U5: lunes a viernes de 08:00 a 17:00 horas | V5: =VLOOKUP(A5,'directorio 3 ago 26'!$A$2:$J$658,10,FALSE) -> LUNES A VIERNES DE 08:00 A 17:00 HORAS
A6: jorge.lopez@justiciamilitar.gov.co | B6: jorge.lopez@justiciamilitar.gov.co | D6: SEGUNDA INSTANCIA | E6: No aplica | F6: Magistrado Tribunal Superior Militar y Policial | G6: =VLOOKUP(A6,'directorio 3 ago 26'!$A$2:$J$658,3,FALSE) -> Tribunal Superior Militar y Policial | H6: Bogotá, D.C. | I6: =VLOOKUP(A6,'directorio 3 ago 26'!$A$2:$J$658,4,FALSE) -> Bogotá D.C. | J6: Bogotá, D.C. | K6: =VLOOKUP(A6,'directorio 3 ago 26'!$A$2:$J$658,5,FALSE) -> Bogotá D.C. | L6: 11 | M6: =VLOOKUP(Tabla22[[#This Row],[dptoTxt2]],dane!$A$2:$B$32,2,FALSE) -> 11 | N6: jorge.lopez@justiciamilitar.gov.co | O6: 1525 | P6: 1525 | Q6: =VLOOKUP(C6,'directorio 3 ago 26'!$A$2:$K$658,7,FALSE) -> #N/A | R6: 1525 | S6: Carrera 46 No. 20 C - 01 (Puente Aranda) Cantón Militar Occidental “Coronel Francisco José de Caldas” | T6: =VLOOKUP(A6,'directorio 3 ago 26'!$A$2:$J$658,9,FALSE) -> Carrera 46 No. 20 C - 01 (Puente Aranda) Cantón Militar Occidental “Coronel Francisco José de Caldas” | U6: lunes a viernes de 08:00 a 17:00 horas | V6: =VLOOKUP(A6,'directorio 3 ago 26'!$A$2:$J$658,10,FALSE) -> LUNES A VIERNES DE 08:00 A 17:00 HORAS
A7: roberto.ramirez@justiciamilitar.gov.co | B7: roberto.ramirez@justiciamilitar.gov.co | D7: SEGUNDA INSTANCIA | E7: No aplica | F7: Magistrado Tribunal Superior Militar y Policial | G7: =VLOOKUP(A7,'directorio 3 ago 26'!$A$2:$J$658,3,FALSE) -> Tribunal Superior Militar y Policial | H7: Bogotá, D.C. | I7: =VLOOKUP(A7,'directorio 3 ago 26'!$A$2:$J$658,4,FALSE) -> Bogotá D.C. | J7: Bogotá, D.C. | K7: =VLOOKUP(A7,'directorio 3 ago 26'!$A$2:$J$658,5,FALSE) -> Bogotá D.C. | L7: 11 | M7: =VLOOKUP(Tabla22[[#This Row],[dptoTxt2]],dane!$A$2:$B$32,2,FALSE) -> 11 | N7: roberto.ramirez@justiciamilitar.gov.co | O7: 1520 | P7: 1520 | Q7: =VLOOKUP(C7,'directorio 3 ago 26'!$A$2:$K$658,7,FALSE) -> #N/A | R7: 1520 | S7: Carrera 46 No. 20 C - 01 (Puente Aranda) Cantón Militar Occidental “Coronel Francisco José de Caldas” | T7: =VLOOKUP(A7,'directorio 3 ago 26'!$A$2:$J$658,9,FALSE) -> Carrera 46 No. 20 C - 01 (Puente Aranda) Cantón Militar Occidental “Coronel Francisco José de Caldas” | U7: lunes a viernes de 08:00 a 17:00 horas | V7: =VLOOKUP(A7,'directorio 3 ago 26'!$A$2:$J$658,10,FALSE) -> LUNES A VIERNES DE 08:00 A 17:00 HORAS
A8: eldidvey.castro@justiciamilitar.gov.co | B8: Martha.Lozano@justiciamilitar.gov.co | D8: SEGUNDA INSTANCIA | E8: No aplica | F8: Relatoría Tribunal Superior Militar y Policial | G8: =VLOOKUP(A8,'directorio 3 ago 26'!$A$2:$J$658,3,FALSE) -> Tribunal Superior Militar y Policial | H8: Bogotá, D.C. | I8: =VLOOKUP(A8,'directorio 3 ago 26'!$A$2:$J$658,4,FALSE) -> Bogotá D.C. | J8: Bogotá, D.C. | K8: =VLOOKUP(A8,'directorio 3 ago 26'!$A$2:$J$658,5,FALSE) -> Bogotá D.C. | L8: 11 | M8: =VLOOKUP(Tabla22[[#This Row],[dptoTxt2]],dane!$A$2:$B$32,2,FALSE) -> 11 | N8: Martha.Lozano@justiciamilitar.gov.co | O8: 1512 | P8: 1091 | Q8: =VLOOKUP(C8,'directorio 3 ago 26'!$A$2:$K$658,7,FALSE) -> #N/A | R8: 1091 | S8: Carrera 46 No. 20 C - 01 (Puente Aranda) Cantón Militar Occidental “Coronel Francisco José de Caldas” | T8: =VLOOKUP(A8,'directorio 3 ago 26'!$A$2:$J$658,9,FALSE) -> Carrera 46 No. 20 C - 01 (Puente Aranda) Cantón Militar Occidental “Coronel Francisco José de Caldas” | U8: lunes a viernes de 08:00 a 17:00 horas | V8: =VLOOKUP(A8,'directorio 3 ago 26'!$A$2:$J$658,10,FALSE) -> LUNES A VIERNES DE 08:00 A 17:00 HORAS
A9: ivan.quintero@justiciamilitar.gov.co | B9: ivan.quintero@justiciamilitar.gov.co | D9: SEGUNDA INSTANCIA | E9: No aplica | F9: Secretaría Tribunal Superior Militar y Policial | G9: =VLOOKUP(A9,'directorio 3 ago 26'!$A$2:$J$658,3,FALSE) -> Tribunal Superior Militar y Policial | H9: Bogotá, D.C. | I9: =VLOOKUP(A9,'directorio 3 ago 26'!$A$2:$J$658,4,FALSE) -> Bogotá D.C. | J9: Bogotá, D.C. | K9: =VLOOKUP(A9,'directorio 3 ago 26'!$A$2:$J$658,5,FALSE) -> Bogotá D.C. | L9: 11 | M9: =VLOOKUP(Tabla22[[#This Row],[dptoTxt2]],dane!$A$2:$B$32,2,FALSE) -> 11 | N9: ivan.quintero@justiciamilitar.gov.co | O9: 1090 | P9: 1512 | Q9: =VLOOKUP(C9,'directorio 3 ago 26'!$A$2:$K$658,7,FALSE) -> #N/A | R9: 1512 | S9: Carrera 46 No. 20 C - 01 (Puente Aranda) Cantón Militar Occidental “Coronel Francisco José de Caldas” | T9: =VLOOKUP(A9,'directorio 3 ago 26'!$A$2:$J$658,9,FALSE) -> Carrera 46 No. 20 C - 01 (Puente Aranda) Cantón Militar Occidental “Coronel Francisco José de Caldas” | U9: lunes a viernes de 08:00 a 17:00 horas | V9: =VLOOKUP(A9,'directorio 3 ago 26'!$A$2:$J$658,10,FALSE) -> LUNES A VIERNES DE 08:00 A 17:00 HORAS
A10: david.moreno@justiciamilitar.gov.co | B10: centrodeservicios@justiciamilitar.gov.co | D10: PRIMERA INSTANCIA | E10: No aplica | F10: Centro de Servicios Judiciales | G10: =VLOOKUP(A10,'directorio 3 ago 26'!$A$2:$J$658,3,FALSE) -> Centro de Servicios Judiciales | H10: Bogotá, D.C. | I10: =VLOOKUP(A10,'directorio 3 ago 26'!$A$2:$J$658,4,FALSE) -> Bogotá D.C. | J10: Bogotá, D.C. | K10: =VLOOKUP(A10,'directorio 3 ago 26'!$A$2:$J$658,5,FALSE) -> Bogotá D.C. | L10: 11 | M10: =VLOOKUP(Tabla22[[#This Row],[dptoTxt2]],dane!$A$2:$B$32,2,FALSE) -> 11 | N10: centrodeservicios@justiciamilitar.gov.co | O10: 2156/2157 | P10: 2156/2157 | Q10: =VLOOKUP(C10,'directorio 3 ago 26'!$A$2:$K$658,7,FALSE) -> #N/A | R10: 2156/2157 | S10: Carrera 46 No. 20 C - 01 (Puente Aranda) Cantón Militar Occidental “Coronel Francisco José de Caldas” | T10: =VLOOKUP(A10,'directorio 3 ago 26'!$A$2:$J$658,9,FALSE) -> Carretera Nacional-Corregimiento Buenavista Grupo De Caballería Mecanizado No. 2. "Cr. Juan José Rondón". Municipio Distracción. | U10: lunes a viernes de 08:00 a 17:00 horas | V10: =VLOOKUP(A10,'directorio 3 ago 26'!$A$2:$J$658,10,FALSE) -> LUNES A VIERNES DE 08:00 A 18:00 HORAS
A11: juez1201conesp@justiciamilitar.gov.co | B11: juez1201conesp@justiciamilitar.gov.co | D11: PRIMERA INSTANCIA | E11: FFMM | F11: Juzgado 1201 Penal Militar y Policial de Conocimiento Especializado | G11: =VLOOKUP(A11,'directorio 3 ago 26'!$A$2:$J$658,3,FALSE) -> Juzgado 1201 Penal Militar y Policial de Conocimiento Especializado | H11: Bogotá, D.C. | I11: =VLOOKUP(A11,'directorio 3 ago 26'!$A$2:$J$658,4,FALSE) -> Bogotá D.C. | J11: Bogotá, D.C. | K11: =VLOOKUP(A11,'directorio 3 ago 26'!$A$2:$J$658,5,FALSE) -> Bogotá D.C. | L11: 11 | M11: =VLOOKUP(Tabla22[[#This Row],[dptoTxt2]],dane!$A$2:$B$32,2,FALSE) -> 11 | N11: juez1201conesp@justiciamilitar.gov.co | O11: 1243 | P11: 1244 | Q11: =VLOOKUP(C11,'directorio 3 ago 26'!$A$2:$K$658,7,FALSE) -> #N/A | R11: 1244 | S11: Carrera 46 No. 20 C - 01 (Puente Aranda) Cantón Militar Occidental “Coronel Francisco José de Caldas” | T11: =VLOOKUP(A11,'directorio 3 ago 26'!$A$2:$J$658,9,FALSE) -> Carrera 46 No. 20 C - 01 (Puente Aranda) Cantón Militar Occidental “Coronel Francisco José de Caldas” | U11: lunes a viernes de 08:00 a 17:00 horas | V11: =VLOOKUP(A11,'directorio 3 ago 26'!$A$2:$J$658,10,FALSE) -> LUNES A VIERNES DE 08:00 A 17:00 HORAS
A12: juez1202conesp@justiciamilitar.gov.co | B12: juez1202conesp@justiciamilitar.gov.co | D12: PRIMERA INSTANCIA | E12: PONAL | F12: Juzgado 1202 Penal Militar y Policial de Conocimiento Especializado | G12: =VLOOKUP(A12,'directorio 3 ago 26'!$A$2:$J$658,3,FALSE) -> Juzgado 1202 Penal Militar y Policial de Conocimiento Especializado | H12: Bogotá, D.C. | I12: =VLOOKUP(A12,'directorio 3 ago 26'!$A$2:$J$658,4,FALSE) -> Bogotá D.C. | J12: Bogotá, D.C. | K12: =VLOOKUP(A12,'directorio 3 ago 26'!$A$2:$J$658,5,FALSE) -> Bogotá D.C. | L12: 11 | M12: =VLOOKUP(Tabla22[[#This Row],[dptoTxt2]],dane!$A$2:$B$32,2,FALSE) -> 11 | N12: juez1202conesp@justiciamilitar.gov.co | O12: 1241 | P12: 1241 | Q12: =VLOOKUP(C12,'directorio 3 ago 26'!$A$2:$K$658,7,FALSE) -> #N/A | R12: 1241 | S12: Carrera 46 No. 20 C - 01 (Puente Aranda) Cantón Militar Occidental “Coronel Francisco José de Caldas” | T12: =VLOOKUP(A12,'directorio 3 ago 26'!$A$2:$J$658,9,FALSE) -> Carrera 46 No. 20 C - 01 (Puente Aranda) Cantón Militar Occidental “Coronel Francisco José de Caldas” | U12: lunes a viernes de 08:00 a 17:00 horas | V12: =VLOOKUP(A12,'directorio 3 ago 26'!$A$2:$J$658,10,FALSE) -> LUNES A VIERNES DE 08:00 A 17:00 HORAS
A13: juzgado1203cones@justiciamilitar.gov.co | B13: juzgado1203cones@justiciamilitar.gov.co/sjuez1203cones@justiciamilitar.gov.co | C13: sjuez1203cones@justiciamilitar.gov.co | D13: PRIMERA INSTANCIA | E13: FFMM | F13: Juzgado 1203 Penal Militar y Policial de Conocimiento Especializado | G13: =VLOOKUP(A13,'directorio 3 ago 26'!$A$2:$J$658,3,FALSE) -> Juzgado 1203 Penal Militar y Policial de Conocimiento Especializado | H13: Cali | I13: =VLOOKUP(A13,'directorio 3 ago 26'!$A$2:$J$658,4,FALSE) -> Cali | J13: Valle del Cauca | K13: =VLOOKUP(A13,'directorio 3 ago 26'!$A$2:$J$658,5,FALSE) -> Valle del Cauca | L13: 76 | M13: =VLOOKUP(Tabla22[[#This Row],[dptoTxt2]],dane!$A$2:$B$32,2,FALSE) -> 76 | N13: juzgado1203cones@justiciamilitar.gov.co/sjuez1203cones@justiciamilitar.gov.co | O13: 2460/2461 | P13: 0 | Q13: =VLOOKUP(C13,'directorio 3 ago 26'!$A$2:$K$658,7,FALSE) -> 1240 | S13: Cantón Militar Pichincha Calle 5 N° 83-00 | T13: =VLOOKUP(A13,'directorio 3 ago 26'!$A$2:$J$658,9,FALSE) -> Calle 5 No. 83-00 / Tercera Brigada - Cantón Militar Pichincha | U13: lunes a viernes de 08:00 a 18:00 horas | V13: =VLOOKUP(A13,'directorio 3 ago 26'!$A$2:$J$658,10,FALSE) -> LUNES A VIERNES DE 08:00 A 18:00 HORAS
A14: juzgado1204cones@justiciamilitar.gov.co | B14: juzgado1204cones@justiciamilitar.gov.co/sjuez1204cones@justiciamilitar.gov.co | C14: sjuez1204cones@justiciamilitar.gov.co | D14: PRIMERA INSTANCIA | E14: PONAL | F14: Juzgado 1204 Penal Militar y Policial de Conocimiento Especializado | G14: =VLOOKUP(A14,'directorio 3 ago 26'!$A$2:$J$658,3,FALSE) -> Juzgado 1204 Penal Militar y Policial de Conocimiento Especializado | H14: Cali | I14: =VLOOKUP(A14,'directorio 3 ago 26'!$A$2:$J$658,4,FALSE) -> Cali | J14: Valle del Cauca | K14: =VLOOKUP(A14,'directorio 3 ago 26'!$A$2:$J$658,5,FALSE) -> Valle del Cauca | L14: 76 | M14: =VLOOKUP(Tabla22[[#This Row],[dptoTxt2]],dane!$A$2:$B$32,2,FALSE) -> 76 | N14: juzgado1204cones@justiciamilitar.gov.co/sjuez1204cones@justiciamilitar.gov.co | P14: 0 | Q14: =VLOOKUP(C14,'directorio 3 ago 26'!$A$2:$K$658,7,FALSE) -> #N/A | S14: CRA. 1 No. 33-00 Barrio Berlín, ESTACION DE POLICIA SAN FRANCISCO | T14: =VLOOKUP(A14,'directorio 3 ago 26'!$A$2:$J$658,9,FALSE) -> Carrera 1 No. 33-00 Barrio Berlín, Estación de Policia San Francisco | U14: lunes a viernes de 08:00 a 18:00 horas | V14: =VLOOKUP(A14,'directorio 3 ago 26'!$A$2:$J$658,10,FALSE) -> LUNES A VIERNES DE 08:00 A 18:00 HORAS
A15: juez1301con@justiciamilitar.gov.co | B15: juez1301conocimiento@justiciamilitar.gov.co/sjuez1301con@justiciamilitar.gov.co | C15: sjuez1301con@justiciamilitar.gov.co | D15: PRIMERA INSTANCIA | E15: PONAL FFMM | F15: Juzgado 1301 Penal Militar y Policial de Conocimiento | G15: =VLOOKUP(A15,'directorio 3 ago 26'!$A$2:$J$658,3,FALSE) -> Juzgado 1301 Penal Militar y Policial de Conocimiento | H15: Bogotá, D.C. | I15: =VLOOKUP(A15,'directorio 3 ago 26'!$A$2:$J$658,4,FALSE) -> Bogotá D.C. | J15: Bogotá, D.C. | K15: =VLOOKUP(A15,'directorio 3 ago 26'!$A$2:$J$658,5,FALSE) -> Bogotá D.C. | L15: 11 | M15: =VLOOKUP(Tabla22[[#This Row],[dptoTxt2]],dane!$A$2:$B$32,2,FALSE) -> 11 | N15: juez1301conocimiento@justiciamilitar.gov.co/sjuez1301con@justiciamilitar.gov.co | O15: 1220/1337 | P15: 1220 | Q15: =VLOOKUP(C15,'directorio 3 ago 26'!$A$2:$K$658,7,FALSE) -> 1221 | R15: =_xlfn.CONCAT(Tabla22[[#This Row],[phone2]],"/",Tabla22[[#This Row],[phone3]]) -> 1220/1221 | S15: Carrera 46 No. 20 C - 01 (Puente Aranda) Cantón Militar Occidental “Coronel Francisco José de Caldas” | T15: =VLOOKUP(A15,'directorio 3 ago 26'!$A$2:$J$658,9,FALSE) -> Carrera 46 No. 20 C - 01 (Puente Aranda) Cantón Militar Occidental “Coronel Francisco José de Caldas” | U15: lunes a viernes de 08:00 a 17:00 horas | V15: =VLOOKUP(A15,'directorio 3 ago 26'!$A$2:$J$658,10,FALSE) -> LUNES A VIERNES DE 08:00 A 17:00 HORAS
A16: juez1302con@justiciamilitar.gov.co | B16: juez1302conocimiento@justiciamilitar.gov.co/sjuez1302con@justiciamilitar.gov.co | C16: sjuez1302con@justiciamilitar.gov.co | D16: PRIMERA INSTANCIA | E16: PONAL FFMM | F16: Juzgado 1302 Penal Militar y Policial de Conocimiento | G16: =VLOOKUP(A16,'directorio 3 ago 26'!$A$2:$J$658,3,FALSE) -> Juzgado 1302 Penal Militar y Policial de Conocimiento | H16: Bogotá, D.C. | I16: =VLOOKUP(A16,'directorio 3 ago 26'!$A$2:$J$658,4,FALSE) -> Bogotá D.C. | J16: Bogotá, D.C. | K16: =VLOOKUP(A16,'directorio 3 ago 26'!$A$2:$J$658,5,FALSE) -> Bogotá D.C. | L16: 11 | M16: =VLOOKUP(Tabla22[[#This Row],[dptoTxt2]],dane!$A$2:$B$32,2,FALSE) -> 11 | N16: juez1302conocimiento@justiciamilitar.gov.co/sjuez1302con@justiciamilitar.gov.co | O16: 1218 | P16: 1218 | Q16: =VLOOKUP(C16,'directorio 3 ago 26'!$A$2:$K$658,7,FALSE) -> 1219 | R16: =_xlfn.CONCAT(Tabla22[[#This Row],[phone2]],"/",Tabla22[[#This Row],[phone3]]) -> 1218/1219 | S16: Carrera 46 No. 20 C - 01 (Puente Aranda) Cantón Militar Occidental “Coronel Francisco José de Caldas” | T16: =VLOOKUP(A16,'directorio 3 ago 26'!$A$2:$J$658,9,FALSE) -> Carrera 46 No. 20 C - 01 (Puente Aranda) Cantón Militar Occidental “Coronel Francisco José de Caldas” | U16: lunes a viernes de 08:00 a 17:00 horas | V16: =VLOOKUP(A16,'directorio 3 ago 26'!$A$2:$J$658,10,FALSE) -> LUNES A VIERNES DE 08:00 A 17:00 HORAS
A17: juzgado1305con@justiciamilitar.gov.co | B17: juzgado1305con@justiciamilitar.gov.co/sjuez1305con@justiciamilitar.gov.co | C17: sjuez1305con@justiciamilitar.gov.co | D17: PRIMERA INSTANCIA | E17: FFMM | F17: Juzgado 1305 Penal Militar y Policial de Conocimiento | G17: =VLOOKUP(A17,'directorio 3 ago 26'!$A$2:$J$658,3,FALSE) -> Juzgado 1305 Penal Militar y Policial de Conocimiento | H17: Bogotá, D.C. | I17: =VLOOKUP(A17,'directorio 3 ago 26'!$A$2:$J$658,4,FALSE) -> Bogotá D.C. | J17: Bogotá, D.C. | K17: =VLOOKUP(A17,'directorio 3 ago 26'!$A$2:$J$658,5,FALSE) -> Bogotá D.C. | L17: 11 | M17: =VLOOKUP(Tabla22[[#This Row],[dptoTxt2]],dane!$A$2:$B$32,2,FALSE) -> 11 | N17: juzgado1305con@justiciamilitar.gov.co/sjuez1305con@justiciamilitar.gov.co | O17: 1345 | P17: 0 | Q17: =VLOOKUP(C17,'directorio 3 ago 26'!$A$2:$K$658,7,FALSE) -> 0 | S17: Carrera 46 No. 20 C - 01 (Puente Aranda) Cantón Militar Occidental “Coronel Francisco José de Caldas” | T17: =VLOOKUP(A17,'directorio 3 ago 26'!$A$2:$J$658,9,FALSE) -> Carrera 46 No. 20 C - 01 (Puente Aranda) Cantón Militar Occidental “Coronel Francisco José de Caldas” | U17: lunes a viernes de 08:00 a 17:00 horas | V17: =VLOOKUP(A17,'directorio 3 ago 26'!$A$2:$J$658,10,FALSE) -> LUNES A VIERNES DE 08:00 A 17:00 HORAS
A18: juzgado1306con@justiciamilitar.gov.co | B18: juzgado1306con@justiciamilitar.gov.co | D18: PRIMERA INSTANCIA | E18: FFMM | F18: Juzgado 1306 Penal Militar y Policial de Conocimiento | G18: =VLOOKUP(A18,'directorio 3 ago 26'!$A$2:$J$658,3,FALSE) -> Juzgado 1306 Penal Militar y Policial de Conocimiento | H18: Bogotá, D.C. | I18: =VLOOKUP(A18,'directorio 3 ago 26'!$A$2:$J$658,4,FALSE) -> Bogotá D.C. | J18: Bogotá, D.C. | K18: =VLOOKUP(A18,'directorio 3 ago 26'!$A$2:$J$658,5,FALSE) -> Bogotá D.C. | L18: 11 | M18: =VLOOKUP(Tabla22[[#This Row],[dptoTxt2]],dane!$A$2:$B$32,2,FALSE) -> 11 | N18: juzgado1306con@justiciamilitar.gov.co | P18: 1330 | Q18: =VLOOKUP(C18,'directorio 3 ago 26'!$A$2:$K$658,7,FALSE) -> #N/A | R18: 1330 | S18: Carrera 46 No. 20 C - 01 (Puente Aranda) Cantón Militar Occidental “Coronel Francisco José de Caldas” | T18: =VLOOKUP(A18,'directorio 3 ago 26'!$A$2:$J$658,9,FALSE) -> Carrera 46 No. 20 C - 01 (Puente Aranda) Cantón Militar Occidental “Coronel Francisco José de Caldas” | U18: lunes a viernes de 08:00 a 17:00 horas | V18: =VLOOKUP(A18,'directorio 3 ago 26'!$A$2:$J$658,10,FALSE) -> LUNES A VIERNES DE 08:00 A 17:00 HORAS
A19: Juzgado1307con@justiciamilitar.gov.co | B19: Juzgado1307con@justiciamilitar.gov.co/sjuez1307con@justiciamilitar.gov.co | C19: sjuez1307con@justiciamilitar.gov.co | D19: PRIMERA INSTANCIA | E19: FFMM | F19: Juzgado 1307 Penal Militar y Policial de Conocimiento | G19: =VLOOKUP(A19,'directorio 3 ago 26'!$A$2:$J$658,3,FALSE) -> Juzgado 1307 Penal Militar y Policial de Conocimiento | H19: Neiva | I19: =VLOOKUP(A19,'directorio 3 ago 26'!$A$2:$J$658,4,FALSE) -> Neiva | J19: Huila | K19: =VLOOKUP(A19,'directorio 3 ago 26'!$A$2:$J$658,5,FALSE) -> Huila | L19: 41 | M19: =VLOOKUP(Tabla22[[#This Row],[dptoTxt2]],dane!$A$2:$B$32,2,FALSE) -> 41 | N19: Juzgado1307con@justiciamilitar.gov.co/sjuez1307con@justiciamilitar.gov.co | O19: 2414 | P19: 0 | Q19: =VLOOKUP(C19,'directorio 3 ago 26'!$A$2:$K$658,7,FALSE) -> 0 | S19: Carrera 16 No. 21 - 300. Batallón de Artillería No. 9. "Tenerife". | T19: =VLOOKUP(A19,'directorio 3 ago 26'!$A$2:$J$658,9,FALSE) -> Carrera 16 No. 21 - 300. Batallón de Artillería No. 9. "Tenerife". | U19: lunes a viernes de 08:00 a 18:00 horas | V19: =VLOOKUP(A19,'directorio 3 ago 26'!$A$2:$J$658,10,FALSE) -> LUNES A VIERNES DE 08:00 A 18:00 HORAS
A20: Juzgado1308con@justiciamilitar.gov.co | B20: Juzgado1308con@justiciamilitar.gov.co/sjuez1308con@justiciamilitar.gov.co | C20: sjuez1308con@justiciamilitar.gov.co | D20: PRIMERA INSTANCIA | E20: PONAL | F20: Juzgado 1308 Penal Militar y Policial de Conocimiento | G20: =VLOOKUP(A20,'directorio 3 ago 26'!$A$2:$J$658,3,FALSE) -> Juzgado 1308 Penal Militar y Policial de Conocimiento | H20: Ibagué | I20: =VLOOKUP(A20,'directorio 3 ago 26'!$A$2:$J$658,4,FALSE) -> Ibagué | J20: Tolima | K20: =VLOOKUP(A20,'directorio 3 ago 26'!$A$2:$J$658,5,FALSE) -> Tolima | L20: 73 | M20: =VLOOKUP(Tabla22[[#This Row],[dptoTxt2]],dane!$A$2:$B$32,2,FALSE) -> 73 | N20: Juzgado1308con@justiciamilitar.gov.co/sjuez1308con@justiciamilitar.gov.co | P20: 0 | Q20: =VLOOKUP(C20,'directorio 3 ago 26'!$A$2:$K$658,7,FALSE) -> 0 | S20: CR 48 SUR # 157-199 Bloque A, PISO 2 Comando Departamento Policía Tolima Sector Picaleña | T20: =VLOOKUP(A20,'directorio 3 ago 26'!$A$2:$J$658,9,FALSE) -> Carrera 48 Sur No. 157-199 Bloque A, Piso 2 Comando Departamento Policía Tolima Sector Picaleña | U20: lunes a viernes de 08:00 a 18:00 horas | V20: =VLOOKUP(A20,'directorio 3 ago 26'!$A$2:$J$658,10,FALSE) -> LUNES A VIERNES DE 08:00 A 18:00 HORAS
A21: Juzgado1309con@justiciamilitar.gov.co | B21: Juzgado1309con@justiciamilitar.gov.co/sjuez1309con@justiciamilitar.gov.co | C21: sjuez1309con@justiciamilitar.gov.co | D21: PRIMERA INSTANCIA | E21: FFMM | F21: Juzgado 1309 Penal Militar y Policial de Conocimiento | G21: =VLOOKUP(A21,'directorio 3 ago 26'!$A$2:$J$658,3,FALSE) -> Juzgado 1309 Penal Militar y Policial de Conocimiento | H21: Armenia | I21: =VLOOKUP(A21,'directorio 3 ago 26'!$A$2:$J$658,4,FALSE) -> Armenia | J21: Quindío | K21: =VLOOKUP(A21,'directorio 3 ago 26'!$A$2:$J$658,5,FALSE) -> Quindío | L21: 63 | M21: =VLOOKUP(Tabla22[[#This Row],[dptoTxt2]],dane!$A$2:$B$32,2,FALSE) -> 63 | N21: Juzgado1309con@justiciamilitar.gov.co/sjuez1309con@justiciamilitar.gov.co | O21: 2452/2453 | P21: 2452 | Q21: =VLOOKUP(C21,'directorio 3 ago 26'!$A$2:$K$658,7,FALSE) -> 2453 | R21: =_xlfn.CONCAT(Tabla22[[#This Row],[phone2]],"/",Tabla22[[#This Row],[phone3]]) -> 2452/2453 | S21: Avenida Bolívar No. 25 Norte 00 - Octava Brigada Ejército Nacional | T21: =VLOOKUP(A21,'directorio 3 ago 26'!$A$2:$J$658,9,FALSE) -> Avenida Bolívar No. 25 Norte 00 - Octava Brigada Ejército Nacional - Palacio de Justicia Penal Militar y Policial | U21: lunes a viernes de 08:00 a 18:00 horas | V21: =VLOOKUP(A21,'directorio 3 ago 26'!$A$2:$J$658,10,FALSE) -> LUNES A VIERNES DE 08:00 A 18:00 HORAS
A22: juzgado1310con@justiciamilitar.gov.co | B22: juzgado1310con@justiciamilitar.gov.co/sjuez1310con@justiciamilitar.gov.co | C22: sjuez1310con@justiciamilitar.gov.co | D22: PRIMERA INSTANCIA | E22: PONAL | F22: Juzgado 1310 Penal Militar y Policial de Conocimiento | G22: =VLOOKUP(A22,'directorio 3 ago 26'!$A$2:$J$658,3,FALSE) -> Juzgado 1310 Penal Militar y Policial de Conocimiento | H22: Armenia | I22: =VLOOKUP(A22,'directorio 3 ago 26'!$A$2:$J$658,4,FALSE) -> Armenia | J22: Quindío | K22: =VLOOKUP(A22,'directorio 3 ago 26'!$A$2:$J$658,5,FALSE) -> Quindío | L22: 63 | M22: =VLOOKUP(Tabla22[[#This Row],[dptoTxt2]],dane!$A$2:$B$32,2,FALSE) -> 63 | N22: juzgado1310con@justiciamilitar.gov.co/sjuez1310con@justiciamilitar.gov.co | O22: 2486/2489 | P22: 2486 | Q22: =VLOOKUP(C22,'directorio 3 ago 26'!$A$2:$K$658,7,FALSE) -> 2489 | R22: =_xlfn.CONCAT(Tabla22[[#This Row],[phone2]],"/",Tabla22[[#This Row],[phone3]]) -> 2486/2489 | S22: Avenida Bolívar No. 25 Norte 00 - Octava Brigada Ejército Nacional | T22: =VLOOKUP(A22,'directorio 3 ago 26'!$A$2:$J$658,9,FALSE) -> Avenida Bolívar No. 25 Norte 00 - Octava Brigada Ejército Nacional - Palacio de Justicia Penal Militar y Policial | U22: lunes a viernes de 08:00 a 18:00 horas | V22: =VLOOKUP(A22,'directorio 3 ago 26'!$A$2:$J$658,10,FALSE) -> LUNES A VIERNES DE 08:00 A 18:00 HORAS
A23: juzgado1311con@justiciamilitar.gov.co | B23: juzgado1311con@justiciamilitar.gov.co/sjuez1311con@justiciamilitar.gov.co | C23: sjuez1311con@justiciamilitar.gov.co | D23: PRIMERA INSTANCIA | E23: FFMM | F23: Juzgado 1311 Penal Militar y Policial de Conocimiento | G23: =VLOOKUP(A23,'directorio 3 ago 26'!$A$2:$J$658,3,FALSE) -> Juzgado 1311 Penal Militar y Policial de Conocimiento | H23: Popayán | I23: =VLOOKUP(A23,'directorio 3 ago 26'!$A$2:$J$658,4,FALSE) -> Popayán | J23: Cauca | K23: =VLOOKUP(A23,'directorio 3 ago 26'!$A$2:$J$658,5,FALSE) -> Cauca | L23: 19 | M23: =VLOOKUP(Tabla22[[#This Row],[dptoTxt2]],dane!$A$2:$B$32,2,FALSE) -> 19 | N23: juzgado1311con@justiciamilitar.gov.co/sjuez1311con@justiciamilitar.gov.co | O23: 2502/2503 | P23: 0 | Q23: =VLOOKUP(C23,'directorio 3 ago 26'!$A$2:$K$658,7,FALSE) -> 0 | S23: Avenida Los Cuarteles No. 80 - 00 - Cantón Militar José Hilario López - Tercera División del Ejército - Brigada No. 29. | T23: =VLOOKUP(A23,'directorio 3 ago 26'!$A$2:$J$658,9,FALSE) -> Avenida Los Cuarteles No. 80 - 00 - Cantón Militar José Hilario López - Tercera División del Ejército - Brigada No. 29. | U23: lunes a viernes de 08:00 a 18:00 horas | V23: =VLOOKUP(A23,'directorio 3 ago 26'!$A$2:$J$658,10,FALSE) -> LUNES A VIERNES DE 08:00 A 18:00 HORAS
A24: juzgado1312con@justiciamilitar.gov.co | B24: juzgado1312con@justiciamilitar.gov.co/sjuez1312con@justiciamilitar.gov.co | C24: sjuez1312con@justiciamilitar.gov.co | D24: PRIMERA INSTANCIA | E24: PONAL | F24: Juzgado 1312 Penal Militar y Policial de Conocimiento | G24: =VLOOKUP(A24,'directorio 3 ago 26'!$A$2:$J$658,3,FALSE) -> Juzgado 1312 Penal Militar y Policial de Conocimiento | H24: Popayán | I24: =VLOOKUP(A24,'directorio 3 ago 26'!$A$2:$J$658,4,FALSE) -> Popayán | J24: Cauca | K24: =VLOOKUP(A24,'directorio 3 ago 26'!$A$2:$J$658,5,FALSE) -> Cauca | L24: 19 | M24: =VLOOKUP(Tabla22[[#This Row],[dptoTxt2]],dane!$A$2:$B$32,2,FALSE) -> 19 | N24: juzgado1312con@justiciamilitar.gov.co/sjuez1312con@justiciamilitar.gov.co | P24: 0 | Q24: =VLOOKUP(C24,'directorio 3 ago 26'!$A$2:$K$658,7,FALSE) -> 0 | S24: Avenida Panamericana 1N-75 Complejo Policial IJ. DIEGO MARÍA GUERRERO NAVIA - Comando Departamento de Policía Cauca - Edificio 7, Piso 3 | T24: =VLOOKUP(A24,'directorio 3 ago 26'!$A$2:$J$658,9,FALSE) -> Avenida Panamericana 1N-75 Complejo Policial IJ. DIEGO MARÍA GUERRERO NAVIA - Comando Departamento de Policía Cauca - Edificio 7, Piso 3 | U24: lunes a viernes de 08:00 a 18:00 horas | V24: =VLOOKUP(A24,'directorio 3 ago 26'!$A$2:$J$658,10,FALSE) -> LUNES A VIERNES DE 08:00 A 18:00 HORAS
A25: juzgado1313con@justiciamilitar.gov.co | B25: juzgado1313con@justiciamilitar.gov.co/sjuez1313con@justiciamilitar.gov.co | C25: sjuez1313con@justiciamilitar.gov.co | D25: PRIMERA INSTANCIA | E25: FFMM | F25: Juzgado 1313 Penal Militar y Policial de Conocimiento | G25: =VLOOKUP(A25,'directorio 3 ago 26'!$A$2:$J$658,3,FALSE) -> Juzgado 1313 Penal Militar y Policial de Conocimiento | H25: Ipiales | I25: =VLOOKUP(A25,'directorio 3 ago 26'!$A$2:$J$658,4,FALSE) -> Ipiales | J25: Nariño | K25: =VLOOKUP(A25,'directorio 3 ago 26'!$A$2:$J$658,5,FALSE) -> Nariño | L25: 52 | M25: =VLOOKUP(Tabla22[[#This Row],[dptoTxt2]],dane!$A$2:$B$32,2,FALSE) -> 52 | N25: juzgado1313con@justiciamilitar.gov.co/sjuez1313con@justiciamilitar.gov.co | O25: 2508 | P25: 0 | Q25: =VLOOKUP(C25,'directorio 3 ago 26'!$A$2:$K$658,7,FALSE) -> 0 | S25: Carrera 6 No. 17 - 51. Frente al Parque Santander. Grupo de Caballería Mecanizado No. 3. “Gral. José Maria Cabal" | T25: =VLOOKUP(A25,'directorio 3 ago 26'!$A$2:$J$658,9,FALSE) -> Carrera 6 No. 17 - 51. Frente al Parque Santander. Grupo de Caballería Mecanizado No. 3. “Gral. José Maria Cabal" | U25: lunes a viernes de 08:00 a 18:00 horas | V25: =VLOOKUP(A25,'directorio 3 ago 26'!$A$2:$J$658,10,FALSE) -> LUNES A VIERNES DE 08:00 A 18:00 HORAS
A26: juzgado1314con@justiciamilitar.gov.co | B26: juzgado1314con@justiciamilitar.gov.co/sjjuez1314con@justiciamilitar.gov.co | C26: sjjuez1314con@justiciamilitar.gov.co | D26: PRIMERA INSTANCIA | E26: PONAL | F26: Juzgado 1314 Penal Militar y Policial de Conocimiento | G26: =VLOOKUP(A26,'directorio 3 ago 26'!$A$2:$J$658,3,FALSE) -> Juzgado 1314 Penal Militar y Policial de Conocimiento | H26: Pasto | I26: =VLOOKUP(A26,'directorio 3 ago 26'!$A$2:$J$658,4,FALSE) -> Pasto | J26: Nariño | K26: =VLOOKUP(A26,'directorio 3 ago 26'!$A$2:$J$658,5,FALSE) -> Nariño | L26: 52 | M26: =VLOOKUP(Tabla22[[#This Row],[dptoTxt2]],dane!$A$2:$B$32,2,FALSE) -> 52 | N26: juzgado1314con@justiciamilitar.gov.co/sjjuez1314con@justiciamilitar.gov.co | P26: 0 | Q26: =VLOOKUP(C26,'directorio 3 ago 26'!$A$2:$K$658,7,FALSE) -> 0 | T26: =VLOOKUP(A26,'directorio 3 ago 26'!$A$2:$J$658,9,FALSE) -> Calle 22 No. 14 -47, Avenida Colombia - Instalaciones del Batallón ASPC No. 23 "Gr. Ramón Espina" Cantón Militar Boyacá | U26: lunes a viernes de 08:00 a 18:00 horas | V26: =VLOOKUP(A26,'directorio 3 ago 26'!$A$2:$J$658,10,FALSE) -> LUNES A VIERNES DE 08:00 A 18:00 HORAS
A27: juzgado1315con@justiciamilitar.gov.co | B27: juzgado1315con@justiciamilitar.gov.co/sjuez1315con@justiciamilitar.gov.co | C27: sjuez1315con@justiciamilitar.gov.co | D27: PRIMERA INSTANCIA | E27: FFMM | F27: Juzgado 1315 Penal Militar y Policial de Conocimiento | G27: =VLOOKUP(A27,'directorio 3 ago 26'!$A$2:$J$658,3,FALSE) -> Juzgado 1315 Penal Militar y Policial de Conocimiento | H27: Cali | I27: =VLOOKUP(A27,'directorio 3 ago 26'!$A$2:$J$658,4,FALSE) -> Cali | J27: Valle del Cauca | K27: =VLOOKUP(A27,'directorio 3 ago 26'!$A$2:$J$658,5,FALSE) -> Valle del Cauca | L27: 76 | M27: =VLOOKUP(Tabla22[[#This Row],[dptoTxt2]],dane!$A$2:$B$32,2,FALSE) -> 76 | N27: juzgado1315con@justiciamilitar.gov.co/sjuez1315con@justiciamilitar.gov.co | O27: 2476/2477 | P27: 0 | Q27: =VLOOKUP(C27,'directorio 3 ago 26'!$A$2:$K$658,7,FALSE) -> 0 | S27: Calle 5 No. 83 – 00. Batallón De infantería No. 8. Batalla De Pichincha. Piso 2. | T27: =VLOOKUP(A27,'directorio 3 ago 26'!$A$2:$J$658,9,FALSE) -> Calle 5 No. 83-00 / Tercera Brigada - Cantón Militar Pichincha | U27: lunes a viernes de 08:00 a 18:00 horas | V27: =VLOOKUP(A27,'directorio 3 ago 26'!$A$2:$J$658,10,FALSE) -> LUNES A VIERNES DE 08:00 A 18:00 HORAS
A28: juzgado1316con@justiciamilitar.gov.co | B28: juzgado1316con@justiciamilitar.gov.co/sjuez1316con@justiciamilitar.gov.co | C28: sjuez1316con@justiciamilitar.gov.co | D28: PRIMERA INSTANCIA | E28: PONAL | F28: Juzgado 1316 Penal Militar y Policial de Conocimiento | G28: =VLOOKUP(A28,'directorio 3 ago 26'!$A$2:$J$658,3,FALSE) -> Juzgado 1316 Penal Militar y Policial de Conocimiento | H28: Cali | I28: =VLOOKUP(A28,'directorio 3 ago 26'!$A$2:$J$658,4,FALSE) -> Cali | J28: Valle del Cauca | K28: =VLOOKUP(A28,'directorio 3 ago 26'!$A$2:$J$658,5,FALSE) -> Valle del Cauca | L28: 76 | M28: =VLOOKUP(Tabla22[[#This Row],[dptoTxt2]],dane!$A$2:$B$32,2,FALSE) -> 76 | N28: juzgado1316con@justiciamilitar.gov.co/sjuez1316con@justiciamilitar.gov.co | P28: 0 | Q28: =VLOOKUP(C28,'directorio 3 ago 26'!$A$2:$K$658,7,FALSE) -> 0 | S28: CR 3RA NORTE # 24N - 16 Barrio: El piloto Edificio el Piloto Instalaciones de Incorporación y Disciplina de la Policía | T28: =VLOOKUP(A28,'directorio 3 ago 26'!$A$2:$J$658,9,FALSE) -> Carrera 3 Norte No. 24N - 16 Barrio El piloto Edificio el Piloto Instalaciones de Incorporación y Disciplina de la Policía | U28: lunes a viernes de 08:00 a 18:00 horas | V28: =VLOOKUP(A28,'directorio 3 ago 26'!$A$2:$J$658,10,FALSE) -> LUNES A VIERNES DE 08:00 A 18:00 HORAS
A29: juzgado1317con@justiciamilitar.gov.co | B29: juzgado1317con@justiciamilitar.gov.co | D29: PRIMERA INSTANCIA | E29: PONAL FFMM | F29: Juzgado 1317 Penal Militar y Policial de Conocimiento | G29: =VLOOKUP(A29,'directorio 3 ago 26'!$A$2:$J$658,3,FALSE) -> Juzgado 1317 Penal Militar y Policial de Conocimiento | H29: Carepa | I29: =VLOOKUP(A29,'directorio 3 ago 26'!$A$2:$J$658,4,FALSE) -> Carepa | J29: Antioquia | K29: =VLOOKUP(A29,'directorio 3 ago 26'!$A$2:$J$658,5,FALSE) -> Antioquia | L29: 5 | M29: =VLOOKUP(Tabla22[[#This Row],[dptoTxt2]],dane!$A$2:$B$32,2,FALSE) -> 5 | N29: juzgado1317con@justiciamilitar.gov.co | P29: 0 | Q29: =VLOOKUP(C29,'directorio 3 ago 26'!$A$2:$K$658,7,FALSE) -> #N/A | S29: Kilómetro 1 Vía Al Mar. Brigada No. 17 del Ejército. Palacio de Justicia. | T29: =VLOOKUP(A29,'directorio 3 ago 26'!$A$2:$J$658,9,FALSE) -> Kilómetro 1 Vía Al Mar. Brigada No. 17 del Ejército. Palacio de Justicia. | U29: lunes a viernes de 08:00 a 18:00 horas | V29: =VLOOKUP(A29,'directorio 3 ago 26'!$A$2:$J$658,10,FALSE) -> LUNES A VIERNES DE 08:00 A 18:00 HORAS
A30: juzgado1318con@justiciamilitar.gov.co | B30: juzgado1318con@justiciamilitar.gov.co/sjjuez8debri@justiciamilitar.gov.co | C30: sjjuez8debri@justiciamilitar.gov.co | D30: PRIMERA INSTANCIA | E30: FFMM | F30: Juzgado 1318 Penal Militar y Policial de Conocimiento | G30: =VLOOKUP(A30,'directorio 3 ago 26'!$A$2:$J$658,3,FALSE) -> Juzgado 1318 Penal Militar y Policial de Conocimiento | H30: Medellín | I30: =VLOOKUP(A30,'directorio 3 ago 26'!$A$2:$J$658,4,FALSE) -> Medellín | J30: Antioquia | K30: =VLOOKUP(A30,'directorio 3 ago 26'!$A$2:$J$658,5,FALSE) -> Antioquia | L30: 5 | M30: =VLOOKUP(Tabla22[[#This Row],[dptoTxt2]],dane!$A$2:$B$32,2,FALSE) -> 5 | N30: juzgado1318con@justiciamilitar.gov.co/sjjuez8debri@justiciamilitar.gov.co | O30: 2200/2201 | P30: 2201 | Q30: =VLOOKUP(C30,'directorio 3 ago 26'!$A$2:$K$658,7,FALSE) -> 1360 | R30: =_xlfn.CONCAT(Tabla22[[#This Row],[phone2]],"/",Tabla22[[#This Row],[phone3]]) -> 2201/1360 | S30: Carrera 76 #50-175 Barrio: Los Colores. Instalaciones Cuarta Brigada | T30: =VLOOKUP(A30,'directorio 3 ago 26'!$A$2:$J$658,9,FALSE) -> Carrera 76 No. 50-175 Barrio: Los Colores. Instalaciones Cuarta Brigada | U30: lunes a viernes de 08:00 a 18:00 horas | V30: =VLOOKUP(A30,'directorio 3 ago 26'!$A$2:$J$658,10,FALSE) -> LUNES A VIERNES DE 08:00 A 18:00 HORAS
A31: juzgado1319con@justiciamilitar.gov.co | B31: juzgado1319con@justiciamilitar.gov.co/sjjuez154deIPMPOL@justiciamilitar.gov.co | C31: sjjuez154deIPMPOL@justiciamilitar.gov.co | D31: PRIMERA INSTANCIA | E31: PONAL | F31: Juzgado 1319 Penal Militar y Policial de Conocimiento | G31: =VLOOKUP(A31,'directorio 3 ago 26'!$A$2:$J$658,3,FALSE) -> Juzgado 1319 Penal Militar y Policial de Conocimiento | H31: Medellín | I31: =VLOOKUP(A31,'directorio 3 ago 26'!$A$2:$J$658,4,FALSE) -> Medellín | J31: Antioquia | K31: =VLOOKUP(A31,'directorio 3 ago 26'!$A$2:$J$658,5,FALSE) -> Antioquia | L31: 5 | M31: =VLOOKUP(Tabla22[[#This Row],[dptoTxt2]],dane!$A$2:$B$32,2,FALSE) -> 5 | N31: juzgado1319con@justiciamilitar.gov.co/sjjuez154deIPMPOL@justiciamilitar.gov.co | P31: 0 | Q31: =VLOOKUP(C31,'directorio 3 ago 26'!$A$2:$K$658,7,FALSE) -> 0 | S31: Calle 48 # 45 – 58, Avenida Oriental Comando de Policia Metropolitana del Valle de Aburra | T31: =VLOOKUP(A31,'directorio 3 ago 26'!$A$2:$J$658,9,FALSE) -> Calle 48 No. 45 – 58, Avenida Oriental Comando de Policia Metropolitana del Valle de Aburra | U31: lunes a viernes de 08:00 a 18:00 horas | V31: =VLOOKUP(A31,'directorio 3 ago 26'!$A$2:$J$658,10,FALSE) -> LUNES A VIERNES DE 08:00 A 18:00 HORAS
A32: juzgado1322con@justiciamilitar.gov.co | B32: juzgado1322con@justiciamilitar.gov.co | D32: PRIMERA INSTANCIA | E32: FFMM | F32: Juzgado 1322 Penal Militar y Policial de Conocimiento | G32: =VLOOKUP(A32,'directorio 3 ago 26'!$A$2:$J$658,3,FALSE) -> Juzgado 1322 Penal Militar y Policial de Conocimiento | H32: Cartagena | I32: =VLOOKUP(A32,'directorio 3 ago 26'!$A$2:$J$658,4,FALSE) -> Cartagena | J32: Bolívar | K32: =VLOOKUP(A32,'directorio 3 ago 26'!$A$2:$J$658,5,FALSE) -> Bolívar | L32: 13 | M32: =VLOOKUP(Tabla22[[#This Row],[dptoTxt2]],dane!$A$2:$B$32,2,FALSE) -> 13 | N32: juzgado1322con@justiciamilitar.gov.co | P32: 0 | Q32: =VLOOKUP(C32,'directorio 3 ago 26'!$A$2:$K$658,7,FALSE) -> #N/A | S32: Carrera 24 No. 25A - 09 Tercer piso - Barrio Manga | T32: =VLOOKUP(A32,'directorio 3 ago 26'!$A$2:$J$658,9,FALSE) -> Carrera 24 No. 25A - 09 Tercer piso - Barrio Manga / piso 3 Instalaciones Metropolitana de Policía de Cartagena | U32: lunes a viernes de 08:00 a 18:00 horas | V32: =VLOOKUP(A32,'directorio 3 ago 26'!$A$2:$J$658,10,FALSE) -> LUNES A VIERNES DE 08:00 A 18:00 HORAS
A33: fiscalia2468con@justiciamilitar.gov.co | B33: fiscalia2468con@justiciamilitar.gov.co/sjjuez21deipm@justiciamilitar.gov.co | C33: sjjuez21deipm@justiciamilitar.gov.co | D33: PRIMERA INSTANCIA | E33: FFMM | F33: Juzgado 1323 Penal Militar y Policial de Conocimiento | G33: =VLOOKUP(A33,'directorio 3 ago 26'!$A$2:$J$658,3,FALSE) -> Fiscalía 2468 Penal Militar y Policial Delegada ante Juez Penal Militar y Policial de Conocimiento | H33: Valledupar | I33: =VLOOKUP(A33,'directorio 3 ago 26'!$A$2:$J$658,4,FALSE) -> Montería | J33: Cesar | K33: =VLOOKUP(A33,'directorio 3 ago 26'!$A$2:$J$658,5,FALSE) -> Córdoba | L33: 20 | M33: =VLOOKUP(Tabla22[[#This Row],[dptoTxt2]],dane!$A$2:$B$32,2,FALSE) -> 23 | N33: fiscalia2468con@justiciamilitar.gov.co/sjjuez21deipm@justiciamilitar.gov.co | O33: 2162/2163 | P33: 0 | Q33: =VLOOKUP(C33,'directorio 3 ago 26'!$A$2:$K$658,7,FALSE) -> #N/A | S33: Kilómetro 1 vía La Mesa - Batallón de Artillería No. 2 La Popa - Palacio de Justicia | T33: =VLOOKUP(A33,'directorio 3 ago 26'!$A$2:$J$658,9,FALSE) -> Carrera 19 No. 25 - 116 Piso 2 / Comando de Departamento de Policía Sucre | U33: lunes a viernes de 08:00 a 18:00 horas | V33: =VLOOKUP(A33,'directorio 3 ago 26'!$A$2:$J$658,10,FALSE) -> LUNES A VIERNES DE 08:00 A 18:00 HORAS
A34: juzgado1324con@justiciamilitar.gov.co | B34: juzgado1324con@justiciamilitar.gov.co/sfFiscal17anteJB@justiciamilitar.gov.co | C34: sfFiscal17anteJB@justiciamilitar.gov.co | D34: PRIMERA INSTANCIA | E34: FFMM | F34: Juzgado 1324 Penal Militar y Policial de Conocimiento | G34: =VLOOKUP(A34,'directorio 3 ago 26'!$A$2:$J$658,3,FALSE) -> Juzgado 1324 Penal Militar y Policial de Conocimiento | H34: Cúcuta | I34: =VLOOKUP(A34,'directorio 3 ago 26'!$A$2:$J$658,4,FALSE) -> Cúcuta | J34: Norte de Santander | K34: =VLOOKUP(A34,'directorio 3 ago 26'!$A$2:$J$658,5,FALSE) -> Norte de Santander | L34: 54 | M34: =VLOOKUP(Tabla22[[#This Row],[dptoTxt2]],dane!$A$2:$B$32,2,FALSE) -> 54 | N34: juzgado1324con@justiciamilitar.gov.co/sfFiscal17anteJB@justiciamilitar.gov.co | O34: 2308/2309 | P34: 2309 | Q34: =VLOOKUP(C34,'directorio 3 ago 26'!$A$2:$K$658,7,FALSE) -> 2468 | R34: =_xlfn.CONCAT(Tabla22[[#This Row],[phone2]],"/",Tabla22[[#This Row],[phone3]]) -> 2309/2468 | S34: Avenida 1 Vía Al Pórtico. Canton Militar San Jorge Comando especifico del Norte de santander | T34: =VLOOKUP(A34,'directorio 3 ago 26'!$A$2:$J$658,9,FALSE) -> Avenida 1 Vía Al Pórtico. Canton Militar San Jorge Comando especifico del Norte de santander | U34: lunes a viernes de 08:00 a 18:00 horas | V34: =VLOOKUP(A34,'directorio 3 ago 26'!$A$2:$J$658,10,FALSE) -> LUNES A VIERNES DE 08:00 A 18:00 HORAS
A35: juzgado1326con@justiciamilitar.gov.co | B35: juzgado1326con@justiciamilitar.gov.co | D35: PRIMERA INSTANCIA | E35: PONAL | F35: Juzgado 1326 Penal Militar y Policial de Conocimiento | G35: =VLOOKUP(A35,'directorio 3 ago 26'!$A$2:$J$658,3,FALSE) -> Juzgado 1326 Penal Militar y Policial de Conocimiento | H35: Bucaramanga | I35: =VLOOKUP(A35,'directorio 3 ago 26'!$A$2:$J$658,4,FALSE) -> Bucaramanga | J35: Santander | K35: =VLOOKUP(A35,'directorio 3 ago 26'!$A$2:$J$658,5,FALSE) -> Santander | L35: 68 | M35: =VLOOKUP(Tabla22[[#This Row],[dptoTxt2]],dane!$A$2:$B$32,2,FALSE) -> 68 | N35: juzgado1326con@justiciamilitar.gov.co | P35: 0 | Q35: =VLOOKUP(C35,'directorio 3 ago 26'!$A$2:$K$658,7,FALSE) -> #N/A | S35: Avenida Quebrada Seca, carrera 33 Cantón Militar Palonegro | T35: =VLOOKUP(A35,'directorio 3 ago 26'!$A$2:$J$658,9,FALSE) -> Calle 14 No. 32 - 00 Batallon de Ingenieros Caldas (Guardia) Detrás del estadio | U35: lunes a viernes de 08:00 a 18:00 horas | V35: =VLOOKUP(A35,'directorio 3 ago 26'!$A$2:$J$658,10,FALSE) -> LUNES A VIERNES DE 08:00 A 17:00 HORAS
A36: juez1601ejecpe@justiciamilitar.gov.co | B36: juez1601ejecpe@justiciamilitar.gov.co/sjuez1601ejecpe@justiciamilitar.gov.co | C36: sjuez1601ejecpe@justiciamilitar.gov.co | D36: PRIMERA INSTANCIA | E36: PONAL FFMM | F36: Juzgado 1601 Penal Militar y Policial de Ejecución de Penas y Medidas de Seguridad | G36: =VLOOKUP(A36,'directorio 3 ago 26'!$A$2:$J$658,3,FALSE) -> Juzgado 1601 Penal Militar y Policial de Ejecución de Penas y Medidas de Seguridad | H36: Bogotá, D.C. | I36: =VLOOKUP(A36,'directorio 3 ago 26'!$A$2:$J$658,4,FALSE) -> Bogotá D.C. | J36: Bogotá, D.C. | K36: =VLOOKUP(A36,'directorio 3 ago 26'!$A$2:$J$658,5,FALSE) -> Bogotá D.C. | L36: 11 | M36: =VLOOKUP(Tabla22[[#This Row],[dptoTxt2]],dane!$A$2:$B$32,2,FALSE) -> 11 | N36: juez1601ejecpe@justiciamilitar.gov.co/sjuez1601ejecpe@justiciamilitar.gov.co | P36: 1212 | Q36: =VLOOKUP(C36,'directorio 3 ago 26'!$A$2:$K$658,7,FALSE) -> 0 | R36: 1212 | S36: Carrera 46 No. 20 C - 01 (Puente Aranda) Cantón Militar Occidental “Coronel Francisco José de Caldas” | T36: =VLOOKUP(A36,'directorio 3 ago 26'!$A$2:$J$658,9,FALSE) -> Carrera 46 No. 20 C - 01 (Puente Aranda) Cantón Militar Occidental “Coronel Francisco José de Caldas” | U36: lunes a viernes de 08:00 a 17:00 horas | V36: =VLOOKUP(A36,'directorio 3 ago 26'!$A$2:$J$658,10,FALSE) -> LUNES A VIERNES DE 08:00 A 17:00 HORAS
A37: juzgado1603ep@justiciamilitar.gov.co | B37: juzgado1603ep@justiciamilitar.gov.co/sjuez1306con@justiciamilitar.gov.co | C37: sjuez1306con@justiciamilitar.gov.co | D37: PRIMERA INSTANCIA | E37: PONAL FFMM | F37: Juzgado 1603 Penal Militar y Policial de Ejecución de Penas y Medidas de Seguridad | G37: =VLOOKUP(A37,'directorio 3 ago 26'!$A$2:$J$658,3,FALSE) -> Juzgado 1603 Penal Militar y Policial de Ejecución de Penas y Medidas de Seguridad | H37: Cali | I37: =VLOOKUP(A37,'directorio 3 ago 26'!$A$2:$J$658,4,FALSE) -> Rionegro | J37: Valle del Cauca | K37: =VLOOKUP(A37,'directorio 3 ago 26'!$A$2:$J$658,5,FALSE) -> Antioquia | L37: 76 | M37: =VLOOKUP(Tabla22[[#This Row],[dptoTxt2]],dane!$A$2:$B$32,2,FALSE) -> 5 | N37: juzgado1603ep@justiciamilitar.gov.co/sjuez1306con@justiciamilitar.gov.co | P37: 0 | Q37: =VLOOKUP(C37,'directorio 3 ago 26'!$A$2:$K$658,7,FALSE) -> #N/A | S37: Carrera 46 No. 20 C - 01 (Puente Aranda) Cantón Militar Occidental “Coronel Francisco José de Caldas” - Bogotá D.C. | T37: =VLOOKUP(A37,'directorio 3 ago 26'!$A$2:$J$658,9,FALSE) -> Comando Aereo De Combate Militar No. 5 / Vereda La Bodega Vía zona franca | U37: lunes a viernes de 08:00 a 18:00 horas | V37: =VLOOKUP(A37,'directorio 3 ago 26'!$A$2:$J$658,10,FALSE) -> LUNES A VIERNES DE 08:00 A 17:00 HORAS
